BEGIN:VCALENDAR
VERSION:2.0
PRODID:-//Regionieuws Hoogeveen - ECPv6.15.18//NONSGML v1.0//EN
CALSCALE:GREGORIAN
METHOD:PUBLISH
X-WR-CALNAME:Regionieuws Hoogeveen
X-ORIGINAL-URL:https://regionieuwshoogeveen.nl
X-WR-CALDESC:Evenementen voor Regionieuws Hoogeveen
REFRESH-INTERVAL;VALUE=DURATION:PT1H
X-Robots-Tag:noindex
X-PUBLISHED-TTL:PT1H
BEGIN:VTIMEZONE
TZID:Europe/Amsterdam
BEGIN:DAYLIGHT
TZOFFSETFROM:+0100
TZOFFSETTO:+0200
TZNAME:CEST
DTSTART:20250330T010000
END:DAYLIGHT
BEGIN:STANDARD
TZOFFSETFROM:+0200
TZOFFSETTO:+0100
TZNAME:CET
DTSTART:20251026T010000
END:STANDARD
BEGIN:DAYLIGHT
TZOFFSETFROM:+0100
TZOFFSETTO:+0200
TZNAME:CEST
DTSTART:20260329T010000
END:DAYLIGHT
BEGIN:STANDARD
TZOFFSETFROM:+0200
TZOFFSETTO:+0100
TZNAME:CET
DTSTART:20261025T010000
END:STANDARD
BEGIN:DAYLIGHT
TZOFFSETFROM:+0100
TZOFFSETTO:+0200
TZNAME:CEST
DTSTART:20270328T010000
END:DAYLIGHT
BEGIN:STANDARD
TZOFFSETFROM:+0200
TZOFFSETTO:+0100
TZNAME:CET
DTSTART:20271031T010000
END:STANDARD
END:VTIMEZONE
BEGIN:VEVENT
DTSTART;TZID=Europe/Amsterdam:20260331T193000
DTEND;TZID=Europe/Amsterdam:20260331T230000
DTSTAMP:20260421T113515
CREATED:20260322T174640Z
LAST-MODIFIED:20260322T175312Z
UID:117871-1774985400-1774998000@regionieuwshoogeveen.nl
SUMMARY:Op 31 maart 2026 organiseert de Klaverjasvereniging van wijkvereniging De Weide een Klaverjas Paastoernooi
DESCRIPTION:Op 31 maart 2026 organiseert de Klaverjasvereniging van wijkvereniging De Weide een Klaverjas Paastoernooi.\nEr zijn weer mooie prijzen te winnen en iedere deelnemer gaat met een doosje eieren naar huis.\n\nWaar: Wijkgebouw De Weideblik\, de Ploeger 10\, 7908 LL Hoogeveen\nDatum: 31 maart 2026\nAanvang: 19.30 uur\nInleg: leden van de klaverjasvereniging € 5. Niet leden van de klaverjasvereniging € 6\nOpgave bij voorkeur vóór 31 maart 14.00uur bij:\nGeert Oost via e mail kaarten@wijkverenigingdeweide.nl of via whatsapp 06 11114444
URL:https://regionieuwshoogeveen.nl/evenement/117871/
ATTACH;FMTTYPE=image/png:https://regionieuwshoogeveen.nl/wp-content/uploads/2026/03/poster-Paasklaverjassen-2026.png
END:VEVENT
END:VCALENDAR