BEGIN:VCALENDAR
VERSION:2.0
PRODID:-//Regionieuws Hoogeveen - ECPv6.15.18//NONSGML v1.0//EN
CALSCALE:GREGORIAN
METHOD:PUBLISH
X-WR-CALNAME:Regionieuws Hoogeveen
X-ORIGINAL-URL:https://regionieuwshoogeveen.nl
X-WR-CALDESC:Evenementen voor Regionieuws Hoogeveen
REFRESH-INTERVAL;VALUE=DURATION:PT1H
X-Robots-Tag:noindex
X-PUBLISHED-TTL:PT1H
BEGIN:VTIMEZONE
TZID:Europe/Amsterdam
BEGIN:DAYLIGHT
TZOFFSETFROM:+0100
TZOFFSETTO:+0200
TZNAME:CEST
DTSTART:20250330T010000
END:DAYLIGHT
BEGIN:STANDARD
TZOFFSETFROM:+0200
TZOFFSETTO:+0100
TZNAME:CET
DTSTART:20251026T010000
END:STANDARD
BEGIN:DAYLIGHT
TZOFFSETFROM:+0100
TZOFFSETTO:+0200
TZNAME:CEST
DTSTART:20260329T010000
END:DAYLIGHT
BEGIN:STANDARD
TZOFFSETFROM:+0200
TZOFFSETTO:+0100
TZNAME:CET
DTSTART:20261025T010000
END:STANDARD
BEGIN:DAYLIGHT
TZOFFSETFROM:+0100
TZOFFSETTO:+0200
TZNAME:CEST
DTSTART:20270328T010000
END:DAYLIGHT
BEGIN:STANDARD
TZOFFSETFROM:+0200
TZOFFSETTO:+0100
TZNAME:CET
DTSTART:20271031T010000
END:STANDARD
END:VTIMEZONE
BEGIN:VEVENT
DTSTART;TZID=Europe/Amsterdam:20260220T140000
DTEND;TZID=Europe/Amsterdam:20260221T210000
DTSTAMP:20260421T100737
CREATED:20260219T104643Z
LAST-MODIFIED:20260219T104643Z
UID:117052-1771596000-1771707600@regionieuwshoogeveen.nl
SUMMARY:Lunar new year wordt ook in Hoogeveen gevierd
DESCRIPTION:p vrijdag 20 en zaterdag 21 februari wordt de start van het Chinese Nieuwjaar in de binnenstad van Hoogeveen gevierd! \nDankzij het initiatief van Joy Tea zijn er diverse sfeervolle en verrassende activiteiten! \nVrijdag 20 februari 14:00 – 21:00 (koopavond!) \nZaterdag 21 februari 11:00 – 21:00 \nEn ook al is het zaterdag officieel geen koopavond… het kan zomaar zijn dat er winkels zijn die langer openblijven. Dus kom langs en laat je verrassen! \nDit wordt sowieso een feestje dat je niet wilt missen!
URL:https://regionieuwshoogeveen.nl/evenement/lunar-new-year-wordt-ook-in-hoogeveen-gevierd/
ATTACH;FMTTYPE=image/png:https://regionieuwshoogeveen.nl/wp-content/uploads/2026/02/image-20-e1771495946398.png
END:VEVENT
BEGIN:VEVENT
DTSTART;TZID=Europe/Amsterdam:20260220T190000
DTEND;TZID=Europe/Amsterdam:20260220T233000
DTSTAMP:20260421T100737
CREATED:20260206T175539Z
LAST-MODIFIED:20260219T185536Z
UID:116617-1771614000-1771630200@regionieuwshoogeveen.nl
SUMMARY:After carnaval in de Heeren
DESCRIPTION:Aankomende 20 februari word er een after carnaval gehouden in de heeren. \n\n\n\nAdres van evenement\n\n\nHoofdstraat 38\nHoogeveen\n7901JW\n\n\nEvenement begint op\n\n\n20/02/2026 19:00
URL:https://regionieuwshoogeveen.nl/evenement/after-carnaval-in-de-heeren/
ATTACH;FMTTYPE=image/png:https://regionieuwshoogeveen.nl/wp-content/uploads/2026/02/ChatGPT-Image-16-jan-2026-14_29_00-f2a037bcf33c48d549e8a74b16cad070.png
END:VEVENT
END:VCALENDAR