BEGIN:VCALENDAR
VERSION:2.0
PRODID:-//Regionieuws Hoogeveen - ECPv6.15.18//NONSGML v1.0//EN
CALSCALE:GREGORIAN
METHOD:PUBLISH
X-WR-CALNAME:Regionieuws Hoogeveen
X-ORIGINAL-URL:https://regionieuwshoogeveen.nl
X-WR-CALDESC:Evenementen voor Regionieuws Hoogeveen
REFRESH-INTERVAL;VALUE=DURATION:PT1H
X-Robots-Tag:noindex
X-PUBLISHED-TTL:PT1H
BEGIN:VTIMEZONE
TZID:Europe/Amsterdam
BEGIN:DAYLIGHT
TZOFFSETFROM:+0100
TZOFFSETTO:+0200
TZNAME:CEST
DTSTART:20250330T010000
END:DAYLIGHT
BEGIN:STANDARD
TZOFFSETFROM:+0200
TZOFFSETTO:+0100
TZNAME:CET
DTSTART:20251026T010000
END:STANDARD
BEGIN:DAYLIGHT
TZOFFSETFROM:+0100
TZOFFSETTO:+0200
TZNAME:CEST
DTSTART:20260329T010000
END:DAYLIGHT
BEGIN:STANDARD
TZOFFSETFROM:+0200
TZOFFSETTO:+0100
TZNAME:CET
DTSTART:20261025T010000
END:STANDARD
BEGIN:DAYLIGHT
TZOFFSETFROM:+0100
TZOFFSETTO:+0200
TZNAME:CEST
DTSTART:20270328T010000
END:DAYLIGHT
BEGIN:STANDARD
TZOFFSETFROM:+0200
TZOFFSETTO:+0100
TZNAME:CET
DTSTART:20271031T010000
END:STANDARD
END:VTIMEZONE
BEGIN:VEVENT
DTSTART;TZID=Europe/Amsterdam:20260215T100000
DTEND;TZID=Europe/Amsterdam:20260215T120000
DTSTAMP:20260421T120322
CREATED:20260212T181531Z
LAST-MODIFIED:20260211T181935Z
UID:116825-1771149600-1771156800@regionieuwshoogeveen.nl
SUMMARY:zondag Plusdienst!
DESCRIPTION: zondag is er weer een Plusdienst!\nEen laagdrempelige dienst voor jong en oud. \nDe Vredehorst band zorgt voor de muziek\nVanaf 10.00 uur ben je welkom voor koffie \nJe bent van harte welkom\, neem gerust iemand mee!\n\n\n\n\n\n\n\n\nAdres van evenement\n\n\nZuidwoldigerweg 32\nHoogeveen\n7908AD\n\n\nEvenement begint op\n\n\n15/02/2026 10:30
URL:https://regionieuwshoogeveen.nl/evenement/zondag-plusdienst/
ATTACH;FMTTYPE=image/jpeg:https://regionieuwshoogeveen.nl/wp-content/uploads/2026/02/plus.jpeg
END:VEVENT
END:VCALENDAR