BEGIN:VCALENDAR
VERSION:2.0
PRODID:-//Regionieuws Hoogeveen - ECPv6.15.18//NONSGML v1.0//EN
CALSCALE:GREGORIAN
METHOD:PUBLISH
X-WR-CALNAME:Regionieuws Hoogeveen
X-ORIGINAL-URL:https://regionieuwshoogeveen.nl
X-WR-CALDESC:Evenementen voor Regionieuws Hoogeveen
REFRESH-INTERVAL;VALUE=DURATION:PT1H
X-Robots-Tag:noindex
X-PUBLISHED-TTL:PT1H
BEGIN:VTIMEZONE
TZID:Europe/Amsterdam
BEGIN:DAYLIGHT
TZOFFSETFROM:+0100
TZOFFSETTO:+0200
TZNAME:CEST
DTSTART:20250330T010000
END:DAYLIGHT
BEGIN:STANDARD
TZOFFSETFROM:+0200
TZOFFSETTO:+0100
TZNAME:CET
DTSTART:20251026T010000
END:STANDARD
BEGIN:DAYLIGHT
TZOFFSETFROM:+0100
TZOFFSETTO:+0200
TZNAME:CEST
DTSTART:20260329T010000
END:DAYLIGHT
BEGIN:STANDARD
TZOFFSETFROM:+0200
TZOFFSETTO:+0100
TZNAME:CET
DTSTART:20261025T010000
END:STANDARD
BEGIN:DAYLIGHT
TZOFFSETFROM:+0100
TZOFFSETTO:+0200
TZNAME:CEST
DTSTART:20270328T010000
END:DAYLIGHT
BEGIN:STANDARD
TZOFFSETFROM:+0200
TZOFFSETTO:+0100
TZNAME:CET
DTSTART:20271031T010000
END:STANDARD
END:VTIMEZONE
BEGIN:VEVENT
DTSTART;TZID=Europe/Amsterdam:20260211T193000
DTEND;TZID=Europe/Amsterdam:20260211T220000
DTSTAMP:20260421T114145
CREATED:20260113T162936Z
LAST-MODIFIED:20260113T073256Z
UID:115976-1770838200-1770847200@regionieuwshoogeveen.nl
SUMMARY:Op weg naar een Digitaal Oorlogsmuseum Drenthe
DESCRIPTION:AVOND OVER HET VERZET IN HOOGEVEEN EN OMSTREKEN EN IN DRENTHE \nDe Stichting Levende Geschiedenis Drenthe nodigt U uit voor een bijeenkomst in het Hart van Hollandscheveld\, aan het Hoekje\, op woensdagavond 11 februari aanstaande. Inloop 19.00 uur\, aanvang 19.30 uur. \nTijdens deze avond staan we met een presentatie stil bij het verzet in Hoogeveen en omstreken en in Drenthe\, zoals dat zich organiseerde vanaf 1942 en volop tot bloei kwam in 1943. \nSlechts weinigen weten wat voor centrale rol er vanuit het District Hoogeveen van de Landelijke Organisatie voor Hulp aan Onderduikers is gespeeld in het organiseren van dit verzet. \nDat was mede het werk van Arnold Zandbergen\, een meubelhandelaar\, zie foto. Hij kon het echter niet alleen. Er werd een kern gevormd\, die tot op landelijk niveau een rol ging spelen. \nDat gebeurde ook op het gebied van het gewapende verzet. De regio leverde zelfs twee landelijke leiders van de Knokploegen. \nDe meeste namen zijn vergeten. Ere wie Ere toekomt. Ze verdienen het om herinnerd te worden. Tijdens deze avond zullen ze weer in herinnering worden gebracht. \nMet plaat en praat\, en wie weet wat U nog voor herinneringen en onderzoek met mensen zou kunnen delen. \nMaar dat is niet het enige\, want er is meer nodig. Er zal deze avond tevens aandacht worden besteed aan het project ‘Frontlinie’\, dat streeft naar een Digitaal Oorlogsmuseum Drenthe. \nZie de mail hieronder en zie de brief in de bijlage. \nWe zien u graag op woensdag 11 februari aanstaande in het Hart van Hollandscheveld.
URL:https://regionieuwshoogeveen.nl/evenement/op-weg-naar-een-digitaal-oorlogsmuseum-drenthe/
ATTACH;FMTTYPE=image/jpeg:https://regionieuwshoogeveen.nl/wp-content/uploads/2026/01/Arnold-Zandbergen-leider-van-de-hulp-aan-onderduikers-in-het-District-Hoogeveen-en-heel-Drenthe.jpg
END:VEVENT
BEGIN:VEVENT
DTSTART;TZID=Europe/Amsterdam:20260211T193000
DTEND;TZID=Europe/Amsterdam:20260211T223000
DTSTAMP:20260421T114145
CREATED:20260204T174314Z
LAST-MODIFIED:20260204T074553Z
UID:116594-1770838200-1770849000@regionieuwshoogeveen.nl
SUMMARY:Initiatief  digitaal oorlogsmuseum Drenthe
DESCRIPTION:De Tweede Wereldoorlog ligt nu meer dan 80 jaar achter ons\, maar staat nog\nsteeds volop in de belangstelling van zowel de oudere als de jongere generaties.\nSteeds meer archieven gaan open. Kennis wordt herzien door voortschrijdend inzicht.\nModerne media maken de kennis toegankelijk op een laagdrempelige en beleefbare\nwijze\, mits er goed mee om wordt gegaan en fakenieuws en populisme er niet mee\nop de loop zal gaan. Dat vraagt om een goede aanpak\, een gezamenlijke aanpak en\neen aanpak die inspeelt op de nieuwe mogelijkheden. \nDe Stichting Levende Geschiedenis Drenthe nodigt U uit voor een bijeenkomst in het\nHart van Hollandscheveld op woensdagavond 11 februari aanstaande\, om met elkaar\nvan gedachten te wisselen. Inloop 19.00 uur\, aanvang 19.30 uur. \nWaar hebben we het over? \n“FRONTLINIE” —- DIGITAAL OORLOGSMUSEUM DRENTHE\nDoor middel van de nieuwe technieken kunnen we samen Drenthe in kaart brengen.\nPer straat\, adres\, plaats van belangrijke of opvallende gebeurtenis\, is in het kort te vertellen wat\ner van belang is te weten. Doorklikken\, en de lezer komt terecht in diepgaander studies. Het\nverzet\, vliegtuigcrashes\, overvallen\, oorlogsdoden\, Stolpersteine\, alles waar U bij de oorlog aan\nkunt denken\, kan er in worden ondergebracht. Beeldschermen met zoekfuncties op openbaar\ntoegankelijke plaatsen\, routes voor wandelaars en fietsers\, herdenkingen\, nieuwsberichten\, wat\nal niet nodig is om het project tot een succes te maken. Denkt U mee? Aanvankelijk bedacht\nvoor het District Hoogeveen\, is het zelfde format bruikbaar voor alle plaatsen in Drenthe die mee\nwillen doen. \nOpdat wij niet vergeten. Ere wie ere toekomt. Van kennis naar beleving.\nTijdens de bijeenkomst zullen we in het kort onderwerpen aanstippen\, waar aandacht aan\nbesteed kan worden\, gaan we in op het digitale gedeelte van het project en kunnen we samen\nnadenken over de samenwerkingsvormen.
URL:https://regionieuwshoogeveen.nl/evenement/initiatief-digitaal-oorlogsmuseum-drenthe/
ATTACH;FMTTYPE=image/jpeg:https://regionieuwshoogeveen.nl/wp-content/uploads/2026/02/Arnold-Zandbergen-leider-van-de-hulp-aan-onderduikers-in-het-District-Hoogeveen-en-heel-Drenthe.jpg
END:VEVENT
END:VCALENDAR