BEGIN:VCALENDAR
VERSION:2.0
PRODID:-//Regionieuws Hoogeveen - ECPv6.15.18//NONSGML v1.0//EN
CALSCALE:GREGORIAN
METHOD:PUBLISH
X-WR-CALNAME:Regionieuws Hoogeveen
X-ORIGINAL-URL:https://regionieuwshoogeveen.nl
X-WR-CALDESC:Evenementen voor Regionieuws Hoogeveen
REFRESH-INTERVAL;VALUE=DURATION:PT1H
X-Robots-Tag:noindex
X-PUBLISHED-TTL:PT1H
BEGIN:VTIMEZONE
TZID:Europe/Amsterdam
BEGIN:DAYLIGHT
TZOFFSETFROM:+0100
TZOFFSETTO:+0200
TZNAME:CEST
DTSTART:20250330T010000
END:DAYLIGHT
BEGIN:STANDARD
TZOFFSETFROM:+0200
TZOFFSETTO:+0100
TZNAME:CET
DTSTART:20251026T010000
END:STANDARD
BEGIN:DAYLIGHT
TZOFFSETFROM:+0100
TZOFFSETTO:+0200
TZNAME:CEST
DTSTART:20260329T010000
END:DAYLIGHT
BEGIN:STANDARD
TZOFFSETFROM:+0200
TZOFFSETTO:+0100
TZNAME:CET
DTSTART:20261025T010000
END:STANDARD
BEGIN:DAYLIGHT
TZOFFSETFROM:+0100
TZOFFSETTO:+0200
TZNAME:CEST
DTSTART:20270328T010000
END:DAYLIGHT
BEGIN:STANDARD
TZOFFSETFROM:+0200
TZOFFSETTO:+0100
TZNAME:CET
DTSTART:20271031T010000
END:STANDARD
END:VTIMEZONE
BEGIN:VEVENT
DTSTART;TZID=Europe/Amsterdam:20260207T110000
DTEND;TZID=Europe/Amsterdam:20260208T170000
DTSTAMP:20260421T114122
CREATED:20260203T180852Z
LAST-MODIFIED:20260205T074221Z
UID:116569-1770462000-1770570000@regionieuwshoogeveen.nl
SUMMARY:Voor de 2e keer houdt het Schildergenootschap De Streek een Expositie in de Olde Bieb
DESCRIPTION:Voor de 2e keer houdt het Schildergenootschap De Streek een Expositie in de Olde Bieb aan de Wielewaal 5 en wel a.s. zaterdag 7 en zondag 8 februari a.s. van 11.00 tot 17.00 uur.\nEr is een gevarieerd aanbod van werken van de leden van De Streek te zien\, maar ook de werken van de kinderen van groep Smaragd van de Renn 4 school. Deze school staat naast de Olde Bieb.\nEen paar leden  van De Streek hebben op maandag 26 januari een tekenles verzorgd op school en maakten de kinderen prachtige fantasievogels. Op maandag 2 februari hebben de kinderen deze schitterende vogels op een paneeltje geverfd opnieuw onder begeleiding van een paar leden van De Streek.\n\nVerder heeft het Schildergenootschap een gezamenlijk tweeluik geschilderd op twee grote doeken van elke 120×80 cm.\nHet onderwerp het Oude Diepje is daarop te zien. Dit grote tweeluik is tijdens de beide expositiedagen niet alleen te bewonderen\, maar bezoekers kunnen op een briefje aangeven naar welke instantie\, tehuis etc het geschonken mag worden. \nDe Streek geeft dit tweeluik weg en hoopt dankzij de tips van bezoekers het een goede bestemming te geven. \nJullie zijn van harte welkom.
URL:https://regionieuwshoogeveen.nl/evenement/voor-de-2e-keer-houdt-het-schildergenootschap-de-streek-een-expositie-in-de-olde-bieb/
ATTACH;FMTTYPE=image/jpeg:https://regionieuwshoogeveen.nl/wp-content/uploads/2026/02/Facebook-bericht2.jpg
END:VEVENT
END:VCALENDAR