BEGIN:VCALENDAR
VERSION:2.0
PRODID:-//Regionieuws Hoogeveen - ECPv6.15.18//NONSGML v1.0//EN
CALSCALE:GREGORIAN
METHOD:PUBLISH
X-WR-CALNAME:Regionieuws Hoogeveen
X-ORIGINAL-URL:https://regionieuwshoogeveen.nl
X-WR-CALDESC:Evenementen voor Regionieuws Hoogeveen
REFRESH-INTERVAL;VALUE=DURATION:PT1H
X-Robots-Tag:noindex
X-PUBLISHED-TTL:PT1H
BEGIN:VTIMEZONE
TZID:Europe/Amsterdam
BEGIN:DAYLIGHT
TZOFFSETFROM:+0100
TZOFFSETTO:+0200
TZNAME:CEST
DTSTART:20250330T010000
END:DAYLIGHT
BEGIN:STANDARD
TZOFFSETFROM:+0200
TZOFFSETTO:+0100
TZNAME:CET
DTSTART:20251026T010000
END:STANDARD
BEGIN:DAYLIGHT
TZOFFSETFROM:+0100
TZOFFSETTO:+0200
TZNAME:CEST
DTSTART:20260329T010000
END:DAYLIGHT
BEGIN:STANDARD
TZOFFSETFROM:+0200
TZOFFSETTO:+0100
TZNAME:CET
DTSTART:20261025T010000
END:STANDARD
BEGIN:DAYLIGHT
TZOFFSETFROM:+0100
TZOFFSETTO:+0200
TZNAME:CEST
DTSTART:20270328T010000
END:DAYLIGHT
BEGIN:STANDARD
TZOFFSETFROM:+0200
TZOFFSETTO:+0100
TZNAME:CET
DTSTART:20271031T010000
END:STANDARD
END:VTIMEZONE
BEGIN:VEVENT
DTSTART;TZID=Europe/Amsterdam:20260127T190000
DTEND;TZID=Europe/Amsterdam:20260127T210000
DTSTAMP:20260421T114141
CREATED:20260127T074050Z
LAST-MODIFIED:20260127T074050Z
UID:116343-1769540400-1769547600@regionieuwshoogeveen.nl
SUMMARY:Webinar over biobased isoleren  Maandagavond 9 februari 2026
DESCRIPTION:Steeds meer Drentse inwoners willen hun woning comfortabeler\, energiezuiniger en toekomstbestendig maken. Isoleren is daarbij vaak een logische eerste stap. Minder bekend is dat dit ook kan met natuurlijke isolatiematerialen\, zoals vlas\, hennep en stro. Deze zogenoemde biobased materialen zijn gezond\, duurzaam en goed toepasbaar in bestaande woningen. \n  \nIn het kader van de Drenthe-brede campagne Biobased Isoleren wordt op maandagavond 9 februari 2026 een webinar georganiseerd over dit onderwerp. Tijdens het online webinar delen experts hun kennis en praktijkervaring met biobased isolatiematerialen. Er wordt ingegaan op de voordelen van natuurlijk isoleren\, op aandachtspunten bij de toepassing en op inspirerende voorbeelden uit de praktijk. Daarnaast is er ruimte voor deelnemers om vragen te stellen. \n  \nHet webinar is bedoeld voor inwoners die overwegen hun woning te isoleren\, maar ook voor iedereen die geïnteresseerd is in duurzame en gezonde woonoplossingen. \n  \nPraktische informatie\nDatum: maandag 9 februari 2026\nTijd: 19:00 – uiterlijk 21:00 uur\nVorm: online webinar \n  \nAanmelden\nAanmelden kan via de onderstaande link:\n\n\n\n\n\n\n\n\n\n\n\n\n\n\n\n\n\n\n\n\n\n\n\n\n\n\n\n\n\n\n\n\n\n\n\n\n\n\n\n\n\nAanmeldlink
URL:https://regionieuwshoogeveen.nl/evenement/webinar-over-biobased-isoleren-maandagavond-9-februari-2026/
ATTACH;FMTTYPE=image/jpeg:https://regionieuwshoogeveen.nl/wp-content/uploads/2019/01/duurzaam-natuur.jpg
END:VEVENT
END:VCALENDAR