BEGIN:VCALENDAR
VERSION:2.0
PRODID:-//Regionieuws Hoogeveen - ECPv6.15.18//NONSGML v1.0//EN
CALSCALE:GREGORIAN
METHOD:PUBLISH
X-WR-CALNAME:Regionieuws Hoogeveen
X-ORIGINAL-URL:https://regionieuwshoogeveen.nl
X-WR-CALDESC:Evenementen voor Regionieuws Hoogeveen
REFRESH-INTERVAL;VALUE=DURATION:PT1H
X-Robots-Tag:noindex
X-PUBLISHED-TTL:PT1H
BEGIN:VTIMEZONE
TZID:Europe/Amsterdam
BEGIN:DAYLIGHT
TZOFFSETFROM:+0100
TZOFFSETTO:+0200
TZNAME:CEST
DTSTART:20250330T010000
END:DAYLIGHT
BEGIN:STANDARD
TZOFFSETFROM:+0200
TZOFFSETTO:+0100
TZNAME:CET
DTSTART:20251026T010000
END:STANDARD
BEGIN:DAYLIGHT
TZOFFSETFROM:+0100
TZOFFSETTO:+0200
TZNAME:CEST
DTSTART:20260329T010000
END:DAYLIGHT
BEGIN:STANDARD
TZOFFSETFROM:+0200
TZOFFSETTO:+0100
TZNAME:CET
DTSTART:20261025T010000
END:STANDARD
BEGIN:DAYLIGHT
TZOFFSETFROM:+0100
TZOFFSETTO:+0200
TZNAME:CEST
DTSTART:20270328T010000
END:DAYLIGHT
BEGIN:STANDARD
TZOFFSETFROM:+0200
TZOFFSETTO:+0100
TZNAME:CET
DTSTART:20271031T010000
END:STANDARD
END:VTIMEZONE
BEGIN:VEVENT
DTSTART;TZID=Europe/Amsterdam:20260122T193000
DTEND;TZID=Europe/Amsterdam:20260122T210000
DTSTAMP:20260423T123140
CREATED:20260113T161623Z
LAST-MODIFIED:20260113T101738Z
UID:115986-1769110200-1769115600@regionieuwshoogeveen.nl
SUMMARY:Workshop Communiceren en Gesprekstechnieken
DESCRIPTION:Veel vrijwilligers in Hoogeveen zetten zich in om anderen te ondersteunen. Maar soms loopt een gesprek net niet zoals je zou willen. De boodschap komt niet goed over of een lastig onderwerp blijft onbesproken. In zulke situaties kunnen handige gesprekstechnieken het verschil maken. \n  \nOp donderdag 22 januari organiseert het Vrijwilligerscollege een interactieve workshop onder leiding van trainer en vrijwillige buurtbemiddelaar Nico Wassens. Hij deelt praktische methoden en oefeningen waarmee je gesprekken in goede banen kunt leiden\, lastige boodschappen helder en respectvol kunt overbrengen en feedback effectief kunt inzetten. De technieken zijn direct toepasbaar\, zowel in je vrijwilligerswerk als daarbuiten. \n  \nDe workshop is bedoeld voor alle vrijwilligers die hun communicatieve vaardigheden willen verbeteren. De avond vindt plaats op donderdag 22 januari in Bibliotheek Hoogeveen\, Willemskade 27 en duurt van 19.30 tot 21.00 uur. \nAanmelden kan tot maandag 19 januari via www.vrijwilligershoogeveen.nl/colleges of bel naar 0528 278 855 (receptie SWW). Wie zich inschrijft\, kan bij de aanmelding ook eigen leervragen meesturen. Deze komen tijdens de bijeenkomst aan bod.
URL:https://regionieuwshoogeveen.nl/evenement/workshop-communiceren-en-gesprekstechnieken/
ATTACH;FMTTYPE=image/jpeg:https://regionieuwshoogeveen.nl/wp-content/uploads/2026/01/vrijwilligers-hoogeveen-kopie.jpg
END:VEVENT
END:VCALENDAR