BEGIN:VCALENDAR
VERSION:2.0
PRODID:-//Regionieuws Hoogeveen - ECPv6.15.18//NONSGML v1.0//EN
CALSCALE:GREGORIAN
METHOD:PUBLISH
X-WR-CALNAME:Regionieuws Hoogeveen
X-ORIGINAL-URL:https://regionieuwshoogeveen.nl
X-WR-CALDESC:Evenementen voor Regionieuws Hoogeveen
REFRESH-INTERVAL;VALUE=DURATION:PT1H
X-Robots-Tag:noindex
X-PUBLISHED-TTL:PT1H
BEGIN:VTIMEZONE
TZID:Europe/Amsterdam
BEGIN:DAYLIGHT
TZOFFSETFROM:+0100
TZOFFSETTO:+0200
TZNAME:CEST
DTSTART:20250330T010000
END:DAYLIGHT
BEGIN:STANDARD
TZOFFSETFROM:+0200
TZOFFSETTO:+0100
TZNAME:CET
DTSTART:20251026T010000
END:STANDARD
BEGIN:DAYLIGHT
TZOFFSETFROM:+0100
TZOFFSETTO:+0200
TZNAME:CEST
DTSTART:20260329T010000
END:DAYLIGHT
BEGIN:STANDARD
TZOFFSETFROM:+0200
TZOFFSETTO:+0100
TZNAME:CET
DTSTART:20261025T010000
END:STANDARD
BEGIN:DAYLIGHT
TZOFFSETFROM:+0100
TZOFFSETTO:+0200
TZNAME:CEST
DTSTART:20270328T010000
END:DAYLIGHT
BEGIN:STANDARD
TZOFFSETFROM:+0200
TZOFFSETTO:+0100
TZNAME:CET
DTSTART:20271031T010000
END:STANDARD
END:VTIMEZONE
BEGIN:VEVENT
DTSTART;TZID=Europe/Amsterdam:20260111T100000
DTEND;TZID=Europe/Amsterdam:20260111T120000
DTSTAMP:20260423T123140
CREATED:20260108T095703Z
LAST-MODIFIED:20260108T095703Z
UID:115817-1768125600-1768132800@regionieuwshoogeveen.nl
SUMMARY:Gastspreker Compassion Nederland in De Schutse Hoogeveen – dienst in het teken van kinderen en hoop
DESCRIPTION:Hoogeveen – Komende zondag is Jan Hendriks van Compassion Nederland te gast in kerkgebouw De Schutse in Hoogeveen. Tijdens de kerkdienst\, die om 10.00 uur begint\, zal hij voorgaan en spreken over het thema “Waarin hebben wij de liefde leren kennen?”. \nNaast de verkondiging vertelt Jan Hendriks over het werk van Compassion Nederland. Wereldwijd leven miljoenen kinderen in armoede\, waardoor zij extra kwetsbaar zijn. Compassion werkt samen met lokale kerken in ontwikkelingslanden om kinderen en hun gezinnen te ondersteunen. Via deze projecten leren kinderen over de liefde van Jezus en ontvangen zij praktische hulp\, zoals ondersteuning bij onderwijs en basiszorg. Inmiddels worden wereldwijd meer dan 2\,4 miljoen kinderen geholpen via Compassion-projecten. \nTijdens de dienst is de collecte bestemd voor Compassion. Daarnaast is er tijdens en na de dienst gelegenheid om meer te horen over kindsponsoring\, voor wie dit op het hart heeft. \nDeze voorlopig laatste dienst in De Schutse staat extra in het teken van de kinderen. Zij zullen zelf knieperties bakken\, wat zorgt voor een feestelijk en betrokken moment voor jong en oud. Na deze zondag verhuist de gemeente tijdelijk naar de Goede Herderkerk\, omdat De Schutse wordt verduurzaamd en vergroend. \nNa afloop van de dienst is er gelegenheid om elkaar te ontmoeten onder het genot van een kop koffie.\nIedereen is van harte welkom. \nVoor meer informatie over het werk van Compassion: www.compassion.nl
URL:https://regionieuwshoogeveen.nl/evenement/gastspreker-compassion-nederland-in-de-schutse-hoogeveen-dienst-in-het-teken-van-kinderen-en-hoop/
ATTACH;FMTTYPE=image/jpeg:https://regionieuwshoogeveen.nl/wp-content/uploads/2024/03/schutse.jpg
END:VEVENT
BEGIN:VEVENT
DTSTART;TZID=Europe/Amsterdam:20260111T110000
DTEND;TZID=Europe/Amsterdam:20260111T140000
DTSTAMP:20260423T123140
CREATED:20251225T160056Z
LAST-MODIFIED:20260108T112326Z
UID:115300-1768129200-1768140000@regionieuwshoogeveen.nl
SUMMARY:Intersport Bols Bentinckspark Obstacle Run op 11 januari 2026 GEANULEERD
DESCRIPTION:GEANULEERD i.v.m. winterweer \nDe Intersport Bols Bentinckspark Obstacle Run vindt plaats op 11 januari 2026. \nHet parcours van De Obstacle Run gaat over het Bentinckspark en is 5 kilometer lang met spectaculaire uitdagende hindernissen. De 10 kilometer run is 2 ronden. De route voert onder meer over het terrein van VV Hoogeveen\, de atletiekbaan van HAC63 en de wielerbaan van De Peddelaars. \nDeelname op aan de Obstacle Run is mogelijk vanaf 10 jaar. \n  \nHet parcours voor de Kids gaat over de atletiekbaan van Hac63. Het parcours voor de obstacle run (5 km of 10km) gaat over het Bentinckspark. De route gaat o.a. over het terrein van vv Hoogeveen\, de Atletiekbaan\, de Wielerbaan en langs het Hockey veld. Deelname via http://www.inschrijvingen.nl
URL:https://regionieuwshoogeveen.nl/evenement/intersport-bols-bentinckspark-obstacle-run-op-11-januari-2026-geanuleerd/
ATTACH;FMTTYPE=image/jpeg:https://regionieuwshoogeveen.nl/wp-content/uploads/2025/12/obstacle.jpg
END:VEVENT
END:VCALENDAR