BEGIN:VCALENDAR
VERSION:2.0
PRODID:-//Regionieuws Hoogeveen - ECPv6.15.18//NONSGML v1.0//EN
CALSCALE:GREGORIAN
METHOD:PUBLISH
X-WR-CALNAME:Regionieuws Hoogeveen
X-ORIGINAL-URL:https://regionieuwshoogeveen.nl
X-WR-CALDESC:Evenementen voor Regionieuws Hoogeveen
REFRESH-INTERVAL;VALUE=DURATION:PT1H
X-Robots-Tag:noindex
X-PUBLISHED-TTL:PT1H
BEGIN:VTIMEZONE
TZID:Europe/Amsterdam
BEGIN:DAYLIGHT
TZOFFSETFROM:+0100
TZOFFSETTO:+0200
TZNAME:CEST
DTSTART:20240331T010000
END:DAYLIGHT
BEGIN:STANDARD
TZOFFSETFROM:+0200
TZOFFSETTO:+0100
TZNAME:CET
DTSTART:20241027T010000
END:STANDARD
BEGIN:DAYLIGHT
TZOFFSETFROM:+0100
TZOFFSETTO:+0200
TZNAME:CEST
DTSTART:20250330T010000
END:DAYLIGHT
BEGIN:STANDARD
TZOFFSETFROM:+0200
TZOFFSETTO:+0100
TZNAME:CET
DTSTART:20251026T010000
END:STANDARD
BEGIN:DAYLIGHT
TZOFFSETFROM:+0100
TZOFFSETTO:+0200
TZNAME:CEST
DTSTART:20260329T010000
END:DAYLIGHT
BEGIN:STANDARD
TZOFFSETFROM:+0200
TZOFFSETTO:+0100
TZNAME:CET
DTSTART:20261025T010000
END:STANDARD
END:VTIMEZONE
BEGIN:VEVENT
DTSTART;TZID=Europe/Amsterdam:20251228T120000
DTEND;TZID=Europe/Amsterdam:20251230T170000
DTSTAMP:20260423T123138
CREATED:20251228T074406Z
LAST-MODIFIED:20251229T063725Z
UID:115466-1766923200-1767114000@regionieuwshoogeveen.nl
SUMMARY:H.B.C. organiseert voor de 34e keer de Drentse Masters Driebanden
DESCRIPTION:Op zondag 28\, maandag 29 en dinsdag 30 december vindt bij H.B.C. voor de 34e keer de Drentse Masters plaats. Daarbij wordt gestreden om het officieuze kampioenschap van Drenthe in de spelsoort driebanden-klein. Het toernooi wordt gespeeld in biljartcentrum l’Acquit\, Terpweg 2 in Hoogeveen. \nDe 24 beste driebandenspelers uit Drenthe die beschikbaar zijn nemen deel aan de Masters. Deze 24 deelnemers gaan van start in 4 poules. Op zondag en maandag worden de poulewedstrijden gespeeld en op dinsag vinden plaatsingswedstrijden\, kruisfinales en natuurlijk de finale plaats. \nDe opening is zondag 28 december om 12.00 uur\, waarna de wedstrijden beginnen en zullen duren tot laat in de avond. Op maandag 29 december beginnen de wedstrijden om 11.00 uur en ook dan zal in de avond worden doorgespeeld. Op dinsdag 30 december wordt gestart om 10.00 uur. De prijsuitreiking\, met het Drentse volkslied zal zondag rond 17.00 uur plaatsvinden. Het beloven weer spannende wedstrijden en gezellige dagen te worden met op de achtergrond de muziek van de Top 2000. U bent van harte welkom
URL:https://regionieuwshoogeveen.nl/evenement/h-b-c-organiseert-voor-de-34e-keer-de-drentse-masters-driebanden/
ATTACH;FMTTYPE=image/jpeg:https://regionieuwshoogeveen.nl/wp-content/uploads/2024/10/biljart.jpg
END:VEVENT
END:VCALENDAR