BEGIN:VCALENDAR
VERSION:2.0
PRODID:-//Regionieuws Hoogeveen - ECPv6.15.18//NONSGML v1.0//EN
CALSCALE:GREGORIAN
METHOD:PUBLISH
X-WR-CALNAME:Regionieuws Hoogeveen
X-ORIGINAL-URL:https://regionieuwshoogeveen.nl
X-WR-CALDESC:Evenementen voor Regionieuws Hoogeveen
REFRESH-INTERVAL;VALUE=DURATION:PT1H
X-Robots-Tag:noindex
X-PUBLISHED-TTL:PT1H
BEGIN:VTIMEZONE
TZID:Europe/Amsterdam
BEGIN:DAYLIGHT
TZOFFSETFROM:+0100
TZOFFSETTO:+0200
TZNAME:CEST
DTSTART:20240331T010000
END:DAYLIGHT
BEGIN:STANDARD
TZOFFSETFROM:+0200
TZOFFSETTO:+0100
TZNAME:CET
DTSTART:20241027T010000
END:STANDARD
BEGIN:DAYLIGHT
TZOFFSETFROM:+0100
TZOFFSETTO:+0200
TZNAME:CEST
DTSTART:20250330T010000
END:DAYLIGHT
BEGIN:STANDARD
TZOFFSETFROM:+0200
TZOFFSETTO:+0100
TZNAME:CET
DTSTART:20251026T010000
END:STANDARD
BEGIN:DAYLIGHT
TZOFFSETFROM:+0100
TZOFFSETTO:+0200
TZNAME:CEST
DTSTART:20260329T010000
END:DAYLIGHT
BEGIN:STANDARD
TZOFFSETFROM:+0200
TZOFFSETTO:+0100
TZNAME:CET
DTSTART:20261025T010000
END:STANDARD
END:VTIMEZONE
BEGIN:VEVENT
DTSTART;TZID=Europe/Amsterdam:20251221T160000
DTEND;TZID=Europe/Amsterdam:20251221T210000
DTSTAMP:20260423T141148
CREATED:20251209T191522Z
LAST-MODIFIED:20251220T184248Z
UID:114947-1766332800-1766350800@regionieuwshoogeveen.nl
SUMMARY:Kersteditie Single Party Meppel
DESCRIPTION:De X-mas party van Single party Meppel is deze keer in de prachtige zaal van Stadszaal de Ballroom in Meppel. Dj Bart Fontijn komt de mooiste kerst dansplaten draaien voor ons\, met een mix van de jaren 80 tot nu\, inclusief verzoeknummers en de classics.\nLet op: het is een middag editie op 21 december\, de tijden zijn van 16.00 uur tot en met 20.00 uur. Ter plekke kan je iets eten. Je mag deze keer ook wel een vriend of vriendin meenemen. Het is tenslotte Kerst.\nOpgeven via de website http://www.singleparty-meppel.nl.
URL:https://regionieuwshoogeveen.nl/evenement/kersteditie-single-party-meppel/
ATTACH;FMTTYPE=image/jpeg:https://regionieuwshoogeveen.nl/wp-content/uploads/2025/12/kerst-bart-fontijn-95b2efc269a988f18b8b0ac584bffe52.jpg
END:VEVENT
BEGIN:VEVENT
DTSTART;TZID=Europe/Amsterdam:20251221T163000
DTEND;TZID=Europe/Amsterdam:20251221T183000
DTSTAMP:20260423T141148
CREATED:20251214T185351Z
LAST-MODIFIED:20251220T080404Z
UID:115037-1766334600-1766341800@regionieuwshoogeveen.nl
SUMMARY:Santa Run & Santa Walk
DESCRIPTION:Op zondag 21 december organiseert Enjoy Runing in samenwerking met Intersport Jan Bols een Santa Run & Santa Walk. De Santa Run & Santa Walk is een FUN RUN waarbij de deelnemers\, verkleed als kerstman/-vrouw of andere kerstoutfit\, een parcours lopen voor een goed doel. Voor dit jaar is het goede doel de stichting Actief Samenleven. \nDe start van de Santa Run & Walk is voor de winkel van Intersport Jan Bols. Hardlopers lopen een parcours van 4 km\, wandelaars een parcours van 2 km. Zij gaan van start rond de klok van 17:00 uur. Daar voorafgaand is er een kidsrun. Zij gaan van start om 16:30 uur. \nNa de finish is er voor elke deelnemer een mooie medaille en kan men genieten van warme chocolademelk\, koffie\, thee en wat lekkers.\nHet parcours van de Santa Run & Walk is door de Hoofdstraat van Hoogeveen. Dit geeft publiek de gelegenheid om de hardlopers en wandelaars op verschillende plaatsen aan te moedigen. \nInschrijven voor de Santa Run & Santa Walk kan via inschrijven.nl. Op de middag zelf kan je je ook nog inschrijven. Voor meer informatie over de Santa Run & Santa Walk\, ga naar https://www.enjoyrunning.nl/santarun. \nMet een warm kerstgevoel en een goed begin van Kerst 2025 maken wij er een leuke en gezellige kerstrun van!
URL:https://regionieuwshoogeveen.nl/evenement/santa-run-santa-walk-2/
ATTACH;FMTTYPE=image/jpeg:https://regionieuwshoogeveen.nl/wp-content/uploads/2025/12/SantaRun1-scaled.jpg
END:VEVENT
BEGIN:VEVENT
DTSTART;TZID=Europe/Amsterdam:20251221T190000
DTEND;TZID=Europe/Amsterdam:20251221T210000
DTSTAMP:20260423T141148
CREATED:20251221T072229Z
LAST-MODIFIED:20251221T072229Z
UID:115328-1766343600-1766350800@regionieuwshoogeveen.nl
SUMMARY:VolksKerstZang in de Grote Kerk in Hoogeveen
DESCRIPTION:In de Grote Kerk in Hoogeveen wordt op zondag 21 december de traditionele ‘VolksKerstZang’ gehouden. \n\nDe kerkdienst begint om 19.00 uur. Er komen verschillende liederen van bekende musici voorbij. Mezzosopraan Judith Godeke uit Hardenberg\, begeleidt door pianist Jan Lenselink uit Emmen\, treedt als eerste op. \n\n\n\nHet orgel wordt deze avond bespeeld door Gert van Hoef uit Ede\, die reeds op zijn 17de een ‘Hoogeveen Zingt’ begeleidde. Trompettist Maurice van Dijk uit Kampen komt ook naar Hoogeveen. Jan de Boer uit Urk leidt de dienst. \nEr wordt geen entree geheven. Wel wordt er een collecte gehouden.
URL:https://regionieuwshoogeveen.nl/evenement/volkskerstzang-in-de-grote-kerk-in-hoogeveen/
ATTACH;FMTTYPE=image/jpeg:https://regionieuwshoogeveen.nl/wp-content/uploads/2024/12/kerst4.jpg
END:VEVENT
END:VCALENDAR