BEGIN:VCALENDAR
VERSION:2.0
PRODID:-//Regionieuws Hoogeveen - ECPv6.15.18//NONSGML v1.0//EN
CALSCALE:GREGORIAN
METHOD:PUBLISH
X-WR-CALNAME:Regionieuws Hoogeveen
X-ORIGINAL-URL:https://regionieuwshoogeveen.nl
X-WR-CALDESC:Evenementen voor Regionieuws Hoogeveen
REFRESH-INTERVAL;VALUE=DURATION:PT1H
X-Robots-Tag:noindex
X-PUBLISHED-TTL:PT1H
BEGIN:VTIMEZONE
TZID:Europe/Amsterdam
BEGIN:DAYLIGHT
TZOFFSETFROM:+0100
TZOFFSETTO:+0200
TZNAME:CEST
DTSTART:20240331T010000
END:DAYLIGHT
BEGIN:STANDARD
TZOFFSETFROM:+0200
TZOFFSETTO:+0100
TZNAME:CET
DTSTART:20241027T010000
END:STANDARD
BEGIN:DAYLIGHT
TZOFFSETFROM:+0100
TZOFFSETTO:+0200
TZNAME:CEST
DTSTART:20250330T010000
END:DAYLIGHT
BEGIN:STANDARD
TZOFFSETFROM:+0200
TZOFFSETTO:+0100
TZNAME:CET
DTSTART:20251026T010000
END:STANDARD
BEGIN:DAYLIGHT
TZOFFSETFROM:+0100
TZOFFSETTO:+0200
TZNAME:CEST
DTSTART:20260329T010000
END:DAYLIGHT
BEGIN:STANDARD
TZOFFSETFROM:+0200
TZOFFSETTO:+0100
TZNAME:CET
DTSTART:20261025T010000
END:STANDARD
END:VTIMEZONE
BEGIN:VEVENT
DTSTART;TZID=Europe/Amsterdam:20251212T130000
DTEND;TZID=Europe/Amsterdam:20251214T170000
DTSTAMP:20260423T141908
CREATED:20251201T102113Z
LAST-MODIFIED:20251201T102113Z
UID:114675-1765544400-1765731600@regionieuwshoogeveen.nl
SUMMARY:Het Stadslichtfestival Hoogeveen Van vrijdag 12 t/m zondag 14 december
DESCRIPTION:Van vrijdag 12 t/m zondag 14 december verandert de binnenstad van Hoogeveen in een magisch winterparadijs vol licht\, muziek en beleving.\n\n\n\nWat kun je verwachten?\nSfeervolle kerstmarkt met knusse kersthuisjes rond een prachtig verlichte cascade\n Spectaculaire videomapping shows op de Hoofdstraatkerk (elke 20 min van 17:00–21:00)\n Optredens van koren\, lokale artiesten en musicalgroep MMT\n Betoverende ‘levende’ lichtacts door de binnenstad\n Diverse (kermis)attracties\n Nieuw: CLUB NU – Jongerenplein (Van Echtensplein)\n Nieuw: Cultuur in de Grote Kerk\n Winkels vrijdag & zaterdag open tot 21:00 + koopzondag van 13:00 – 17:00\n Winterbierenfestival op zaterdag van 16:30–21:30\n\n\nTip: In de avonduren komt het festival écht tot leven. Mis de bijzondere licht- en videobeleving niet!\n\n\n\n Data & tijden\nVrij 12 dec – koopavond tot 21:00\nZa 13 dec – koopavond tot 21:00\nZo 14 dec – koopzondag 13:00–17:00 (laatste videoshow om 17:00)\n\n\nKom genieten van winterse warmte\, licht en sfeer. Zet het in je agenda
URL:https://regionieuwshoogeveen.nl/evenement/het-stadslichtfestival-hoogeveen-van-vrijdag-12-t-m-zondag-14-december/
ATTACH;FMTTYPE=image/jpeg:https://regionieuwshoogeveen.nl/wp-content/uploads/2025/12/stadslicht.jpg
END:VEVENT
BEGIN:VEVENT
DTSTART;TZID=Europe/Amsterdam:20251213T143000
DTEND;TZID=Europe/Amsterdam:20251213T170000
DTSTAMP:20260423T141908
CREATED:20251209T151309Z
LAST-MODIFIED:20251209T155936Z
UID:114940-1765636200-1765645200@regionieuwshoogeveen.nl
SUMMARY:Sfeervolle Kerstmarkt in Olden Kinholt op zaterdag 13 december
DESCRIPTION:Zaterdag 13 december is het goed toeven op de kerstmarkt in Olden Kinholt aan de Kemperstraat 2 in Hoogeveen. De opbrengst van deze middag zal worden gebruikt worden voor de aanschaf van een nieuwe duofiets. Deze markt is mooi te combineren met het lichtjesfestival in het centrum van Hoogeveen als u daar toch bent.
URL:https://regionieuwshoogeveen.nl/evenement/sfeervolle-kerstmarkt-in-olden-kinholt-op-zaterdag-13-december/
ATTACH;FMTTYPE=image/jpeg:https://regionieuwshoogeveen.nl/wp-content/uploads/2025/12/kinholt.jpg
END:VEVENT
BEGIN:VEVENT
DTSTART;TZID=Europe/Amsterdam:20251213T163000
DTEND;TZID=Europe/Amsterdam:20251213T213000
DTSTAMP:20260423T141908
CREATED:20251014T181120Z
LAST-MODIFIED:20251014T131249Z
UID:113339-1765643400-1765661400@regionieuwshoogeveen.nl
SUMMARY:Kerst- en Winterbieren Festival op zaterdag 13 december
DESCRIPTION:Wederom is er dit jaar weer een Kerst- en Winterbieren Festival op zaterdag 13 december\nvan 16:30 tot 21:30. \nOp dit festival hebben14 brouwers een stand met ieder meerdere speciaalbieren en een\neigen bar met speciaalbieren en frisdrank en wijn.\nOok is er een foodcorner om tussendoor lekker wat te eten.\nLet op dit is een pin only festival en men kan bij ieder stand pinnen.\nVoor diegene die niet kan pinnen is er de mogelijkheid om een mobiele pinkaart aan te\nschaffen en die is contant af te rekenen. \nLet op deze mobiele pinkaart is alleen te gebruiken bij dit festival 13 december 2025 van\n16:30 tot 21:30 en restanten of kaarten zijn niet inwisselbaar. \nDatum: zaterdag 13 december 2025.\nTijd:16:30 tot 21:30\nLocatie: Hoofdstraat ter hoogte nr 17( Tamboer ) Hoogeveen\nToegang: € 15\,00 deze kaarten zijn alleen digitaal te bestellen op\nwww.bierfestivalhoogeveen.nl
URL:https://regionieuwshoogeveen.nl/evenement/kerst-en-winterbieren-festival-op-zaterdag-13-december/
ATTACH;FMTTYPE=image/jpeg:https://regionieuwshoogeveen.nl/wp-content/uploads/2024/12/290534780_101742069275816_1363527177309563188_n.jpg
END:VEVENT
BEGIN:VEVENT
DTSTART;TZID=Europe/Amsterdam:20251213T190000
DTEND;TZID=Europe/Amsterdam:20251213T233000
DTSTAMP:20260423T141908
CREATED:20251130T104607Z
LAST-MODIFIED:20251130T104607Z
UID:114653-1765652400-1765668600@regionieuwshoogeveen.nl
SUMMARY:Hoogeveense Cup
DESCRIPTION:Op 13 december wordt de Hoogeveense Cup gehouden. Het zaalvoetbaltoernooi tussen de clubs uit de regio Hoogeveen. 12 teams strijden in 2 poules om de finaleplek in het Activum in Hoogeveen.
URL:https://regionieuwshoogeveen.nl/evenement/hoogeveense-cup/
LOCATION:Activum\, Bentincksdijk 10\, Hoogeveen\, Drenthe\, 7902NA\, Nederland
ATTACH;FMTTYPE=image/jpeg:https://regionieuwshoogeveen.nl/wp-content/uploads/2025/11/FB_IMG_1760714679602-6858d66ca25daddc03384458b229335c.jpg
END:VEVENT
END:VCALENDAR