BEGIN:VCALENDAR
VERSION:2.0
PRODID:-//Regionieuws Hoogeveen - ECPv6.15.18//NONSGML v1.0//EN
CALSCALE:GREGORIAN
METHOD:PUBLISH
X-ORIGINAL-URL:https://regionieuwshoogeveen.nl
X-WR-CALDESC:Evenementen voor Regionieuws Hoogeveen
REFRESH-INTERVAL;VALUE=DURATION:PT1H
X-Robots-Tag:noindex
X-PUBLISHED-TTL:PT1H
BEGIN:VTIMEZONE
TZID:Europe/Amsterdam
BEGIN:DAYLIGHT
TZOFFSETFROM:+0100
TZOFFSETTO:+0200
TZNAME:CEST
DTSTART:20250330T010000
END:DAYLIGHT
BEGIN:STANDARD
TZOFFSETFROM:+0200
TZOFFSETTO:+0100
TZNAME:CET
DTSTART:20251026T010000
END:STANDARD
BEGIN:DAYLIGHT
TZOFFSETFROM:+0100
TZOFFSETTO:+0200
TZNAME:CEST
DTSTART:20260329T010000
END:DAYLIGHT
BEGIN:STANDARD
TZOFFSETFROM:+0200
TZOFFSETTO:+0100
TZNAME:CET
DTSTART:20261025T010000
END:STANDARD
BEGIN:DAYLIGHT
TZOFFSETFROM:+0100
TZOFFSETTO:+0200
TZNAME:CEST
DTSTART:20270328T010000
END:DAYLIGHT
BEGIN:STANDARD
TZOFFSETFROM:+0200
TZOFFSETTO:+0100
TZNAME:CET
DTSTART:20271031T010000
END:STANDARD
END:VTIMEZONE
BEGIN:VEVENT
DTSTART;TZID=Europe/Amsterdam:20260421T193000
DTEND;TZID=Europe/Amsterdam:20260421T230000
DTSTAMP:20260421T100835
CREATED:20260405T095902Z
LAST-MODIFIED:20260419T093220Z
UID:118255-1776799800-1776812400@regionieuwshoogeveen.nl
SUMMARY:Klaverjas koppeltoernooi bij Klaverjasvereniging van wijkvereniging De Weide
DESCRIPTION:Op 21 april 2026 organiseert de Klaverjasvereniging van wijkvereniging De Weide een Klaverjas koppeltoernooi\, deze bestaat uit 5 opeenvolgende dinsdagavonden.\nAanmelding per koppel is verplicht en de inleg gaat er op de 5e avond uit aan prijzen.\n\nWaar: Wijkgebouw De Weideblik\, de Ploeger 10\, 7908 LL Hoogeveen\nDatum: 21-04\, 28-04\, 5-05\, 12-05\, 19-05- 2026\nAanvang: 19.30 uur\nInleg leden v. d. wijkvereniging p.p. €15 voor 5 avonden\, niet leden € 20\nOpgave  per koppel is verplicht voor 21 april 14.00uur bij:\nGeert Oost via e-mail kaarten@wijkverenigingdeweide.nl of via whatsapp 06 11114444\nVoor meer informatie kunt u ook terecht bij bovenstaand e mail adres of telefoonnummer
URL:https://regionieuwshoogeveen.nl/evenement/klaverjas-koppeltoernooi-bij-klaverjasvereniging-van-wijkvereniging-de-weide/
ATTACH;FMTTYPE=image/jpeg:https://regionieuwshoogeveen.nl/wp-content/uploads/2024/04/kaarten-spelkaarten.jpg
END:VEVENT
BEGIN:VEVENT
DTSTART;TZID=Europe/Amsterdam:20260422T193000
DTEND;TZID=Europe/Amsterdam:20260422T230000
DTSTAMP:20260421T100835
CREATED:20260406T070200Z
LAST-MODIFIED:20260405T070344Z
UID:118257-1776886200-1776898800@regionieuwshoogeveen.nl
SUMMARY:Voorronde ONK Poker in Hoogeveen
DESCRIPTION:Op woensdag 22 april kunnen alle liefhebbers van het kaartspel poker zich melden in Het Hap en Stap lokaal. Daar zal namelijk het Pokerkampioenschap van Hoogeveen plaatsvinden. Deze voorronde van het ONK Poker is bedoeld om op een laagdrempelige manier kennis te maken met het spel en een gezellige en veilige omgeving te bieden voor recreatieve pokerspelers. Heb je nog nooit eerder meegedaan aan een pokertoernooi? Dan mag je zelfs gratis meedoen om te kijken of poker ook iets voor jou is! \nNieuwe spelers doen gratis mee! \nAls nieuwe speler kun je gratis meespelen bij jouw eerste live- en online voorronde van het ONK Poker. Bij het aanmaken van een account krijg je twee gratis tickets. Eén ticket kun je gebruiken voor een live voorronde in de buurt zoals Hoogeveen en het andere ticket kan ingezet worden voor een online toernooi. We hopen dat mensen die houden van spanning\, competitie en gezelligheid nu nog eerder aan tafel schuiven om het plezier dat poker biedt te ontdekken! \nKwalificeer je voor de finale!\nDe winnaar van de voorronde ontvangt een bokaal en de titel ‘Pokerkampioen van Hoogeveen’. Daarnaast kwalificeert diegene zich voor de landelijke finale van het ONK Poker. De winnaar wordt de nieuwe ‘Pokerkampioen van Nederland’ en laat daarmee naar schatting ruim 30.000 deelnemers achter zich. \nOok in de finale valt er enkel een grote trofee te winnen (zie foto). De winnaar van vorig jaar is echter wel (samen met een andere finalist) benaderd voor een sponsordeal. Dankzij deze sponsor mocht hij afgelopen zomer als echte pro gaan pokeren in Las Vegas en wist ruim €10.000 te winnen! \n“Niet voor geld\, maar voor de gezelligheid”\nVeel mensen denken dat poker om geld gespeeld moet worden\, maar oprichters van het ONK Poker en zwagers Mathijs Jonkers en Evert-Jan van IJzendoorn denken daar heel anders over. “Poker kun je net als veel andere spellen binnen een paar minuten leren en er beter in worden door veel te oefenen\,” vertelt Jonkers. “Het voelt voor de duizenden deelnemers die ieder jaar aan het ONK Poker meedoen dan ook echt als het bedrijven van sport en daar halen ze ontzettend veel plezier uit. Is het dan nodig om voor geldprijzen te spelen? Wij denken van niet. “Er staan iedere zaterdag 100.000 mensen voor de lol op een voetbalveld en die spelen ook alleen om de titel.” \nHet feit dat poker ook een kanselement bevat\, maakt het spel volgens de organisatoren alleen maar leuker. “Dat betekent dat iemand die voor het eerst meedoet met een beetje geluk ook kan winnen. Iets wat bij een sport zoals schaken of voetballen vrijwel onmogelijk is. ” Dit maakt het nog laagdrempeliger om eens kennis te komen maken met het spel\, omdat je zelfs als nieuwe speler zomaar eens zou kunnen winnen!” \nLaagdrempelig toernooi.\nIedereen die mee wil doen kan zich via de website https://www.onkpoker.nl/inschrijven. Deelname kost €13\,50 bij online aanmelding. Het Pokerkampioenschap van Hoogeveen begint om 19:30 uur.
URL:https://regionieuwshoogeveen.nl/evenement/voorronde-onk-poker-in-hoogeveen/
ATTACH;FMTTYPE=image/jpeg:https://regionieuwshoogeveen.nl/wp-content/uploads/2026/04/Robert-van-Twillert-Pokerkampioen-van-Nederland-24-25-1.jpg
END:VEVENT
BEGIN:VEVENT
DTSTART;TZID=Europe/Amsterdam:20260423T193000
DTEND;TZID=Europe/Amsterdam:20260423T213000
DTSTAMP:20260421T100835
CREATED:20260301T175237Z
LAST-MODIFIED:20260225T175615Z
UID:117187-1776972600-1776979800@regionieuwshoogeveen.nl
SUMMARY:Liefde\, leven en verlies\, het zijn de drie thema’s die centraal staan op Troost\, de nieuwe Drentstalige EP
DESCRIPTION:Liefde\, leven en verlies\, het zijn de drie thema’s die centraal staan op Troost\, de nieuwe Drentstalige EP die op 23 april wordt gepresenteerd. \nVier Drentse muzikanten\, Annemiek Drenth\, Anton Strijkš\, Erwin Funke en Yvonne Bijl\, bundelden hiervoor voor het eerst hun krachten. Het resultaat is een intieme verzameling liedjes waarin herkenbare emoties en regionale verhalen samenkomen. \nDe EP bevat verschillende Drentstalige liedjes die elk op eigen wijze omgaan met thema’s als afscheid\, verlangen en de kracht van liefde in moeilijke tijden. De initiatiefnemers hopen dat luisteraars zich herkennen in de teksten en er steun uit halen. \nDe presentatie vindt plaats bij Uitvaartcentrum DLE aan het Oeverse Bos in Emmen. Vanaf 19.30 uur worden bezoekers ontvangen met drankjes en hapjes en krijgen zij een voorproefje van de nieuwe nummers. \nDe keuze voor de locatie is bewust. De muzikanten willen hun muziek brengen op een plek waar troost\, herinnering en verbondenheid samenkomen. \nVoor de presentatie moeten kaarten worden aangeschaft. Dat kan via www.dle.nl/troost
URL:https://regionieuwshoogeveen.nl/evenement/liefde-leven-en-verlies-het-zijn-de-drie-themas-die-centraal-staan-op-troost-de-nieuwe-drentstalige-ep/
ATTACH;FMTTYPE=image/jpeg:https://regionieuwshoogeveen.nl/wp-content/uploads/2026/02/yvonne-kopieren.jpg
END:VEVENT
BEGIN:VEVENT
DTSTART;TZID=Europe/Amsterdam:20260425T100000
DTEND;TZID=Europe/Amsterdam:20260425T160000
DTSTAMP:20260421T100835
CREATED:20260412T192006Z
LAST-MODIFIED:20260412T192006Z
UID:118441-1777111200-1777132800@regionieuwshoogeveen.nl
SUMMARY:Grote verkoop van boeken en ansichtkaarten bij de Historische Kring Hoogeveen
DESCRIPTION:We willen graag ruimte  maken. Daarom houden wij op zaterdag 25 april 2026 van 10.00 tot 16.00 uur een grote verkoop van boeken en ansichtkaarten in Historisch Informatiecentrum Irene\, Schutstraat 39 te Hoogeveen. \nDeze keer hebben we heel veel boeken voor € 1\,00 en € 2\,00. \nEr zijn boeken over verschillende onderwerpen\, zoals: atlassen\, scheepvaart\, oorlog\, kerken\, geschiedenis\, fotoboeken van Hoogeveen\, de buitendorpen en Drenthe\, molens\, (historische) romans\, genealogische jaarboeken\, volksalmanakken\, enzovoort. \nNaast boeken zijn er veel ansichtkaarten van oud-Hoogeveen\, de buitendorpen en andere plaatsen in Nederland te koop. Ook hebben we een groot aantal vintage en retro ansichtkaarten. De prijzen variëren van € 0\,50 tot € 2\,50 per stuk. \nAls u nog één of meerdere uitgaven van de Veenmol mist\, dan is dit uw kans om uw collectie compleet te maken. We beschikken namelijk nog over veel nummers van oude jaargangen van de Veenmol. Deze kosten slechts € 0\,50 per stuk.
URL:https://regionieuwshoogeveen.nl/evenement/grote-verkoop-van-boeken-en-ansichtkaarten-bij-de-historische-kring-hoogeveen/
LOCATION:Historisch Informatiecentrum Irene\, Schutstraat 39\, Hoogeveen\, Drenthe\, Netherlands
END:VEVENT
BEGIN:VEVENT
DTSTART;TZID=Europe/Amsterdam:20260425T130000
DTEND;TZID=Europe/Amsterdam:20260425T235900
DTSTAMP:20260421T100835
CREATED:20260413T173213Z
LAST-MODIFIED:20260413T173213Z
UID:118499-1777122000-1777161540@regionieuwshoogeveen.nl
SUMMARY:Koningsdag op 25 april in Nieuweroord
DESCRIPTION:Dit jaar doen we het eens anders dan voorgaande jaren I Nieuweroord.We vieren het niet op de 27ste\, maar op de 25ste. Dit jaar geen bbq maar weer ouderwets een volleybaltoernooi overdag en ’s avonds groot feest in Dorpshuis de Vuurkorf !Daarnaast is er een kleedjesmarkt en bubbelvoetbal. Het beloofd dus een mooie dag te worden.Meld je aan bij je buurtvertegenwoordigers en blok de dag af in de agenda!
URL:https://regionieuwshoogeveen.nl/evenement/koningsdag-op-25-april-in-nieuweroord/
ATTACH;FMTTYPE=image/jpeg:https://regionieuwshoogeveen.nl/wp-content/uploads/2026/04/niue.jpg
END:VEVENT
BEGIN:VEVENT
DTSTART;TZID=Europe/Amsterdam:20260425T200000
DTEND;TZID=Europe/Amsterdam:20260425T233000
DTSTAMP:20260421T100835
CREATED:20260411T181357Z
LAST-MODIFIED:20260411T131630Z
UID:118377-1777147200-1777159800@regionieuwshoogeveen.nl
SUMMARY:Pubquiz met thema Oranje boven
DESCRIPTION:Bij Sportcafé de Twee Gezusters wordt op zaterdagavond 25 april een pubquiz georganiseerd met als thema Oranje boven. Een lekker avondje uit met vrienden of familie. Opgeven kan via de contactgegevens op de poster.
URL:https://regionieuwshoogeveen.nl/evenement/pubquiz-met-thema-oranje-boven/
ATTACH;FMTTYPE=image/jpeg:https://regionieuwshoogeveen.nl/wp-content/uploads/2026/04/pub.jpeg
END:VEVENT
BEGIN:VEVENT
DTSTART;TZID=Europe/Amsterdam:20260426T160000
DTEND;TZID=Europe/Amsterdam:20260427T220000
DTSTAMP:20260421T100835
CREATED:20260413T172826Z
LAST-MODIFIED:20260413T172826Z
UID:118497-1777219200-1777327200@regionieuwshoogeveen.nl
SUMMARY:Down with the King fest
DESCRIPTION:Koningsnacht is er Down with the King fest en koningsdag 2 coverbands met bekend en ook minder bekend repertoire. \nDOWN WITH THE KING FEST \nOp koningsnacht staan er 3 bands \, met als afsluiter een Volbeat tribute. \nDead But Rising is een Volbeat tribute. De band focust zich vooral op de wat oudere nummers uit de Volbeat collectie en houdt van een goede rock ’n roll met een pitttig sausje. \nBlack Stone Revolvers (de tweede band deze avond) is een energieke rockband uit Drenthe die zowel covers van iconen als Jimi Hendrix\, Nirvana\, Radiohead\, Neil Young\, R.E.M. en The Animals\, als hun eigen werk spelen. \nRock-It s een energieke rockband uit Hoogeveen\, ontstaan uit een gezamenlijke liefde voor de 80’s en 90’s rock. \nDeze lokale jongens trappen de middag af. \nKONINGSDAG \nBy Accident een akoestisch trio dat van romantische ballads naar rock kan gaan en van popmuziek naar country en dit allemaal met 1 gitaar. Met deze mix van verschillende genres en stijlen is er voor ieder wat wils! Deze middag speelt By Accident in de XL formatie. \nMet drummer \, toetsenist etc. \nHet gaat 1 groot feest worden. \nMojo Clinton is een vijfmansformatie met ruime ervaring. Ze spelen een gevarieerd repertoire met soul\, classics\, rhythm & blues. Het zuiden van de VS is de bakermat van veel nummers die de band speelt. \nMojo Clinton trapt deze dag af. \nBeide dagen zijn van 16 tm 22 uur. \nIn de pauzes draait er een DJ en er is een foodtruck aanwezig voor de lekkere trek.
URL:https://regionieuwshoogeveen.nl/evenement/down-with-the-king-fest/
ATTACH;FMTTYPE=image/png:https://regionieuwshoogeveen.nl/wp-content/uploads/2026/04/image-25-e1776087014956.png
END:VEVENT
BEGIN:VEVENT
DTSTART;TZID=Europe/Amsterdam:20260427T100000
DTEND;TZID=Europe/Amsterdam:20260427T170000
DTSTAMP:20260421T100835
CREATED:20260203T185926Z
LAST-MODIFIED:20260203T100143Z
UID:116550-1777284000-1777309200@regionieuwshoogeveen.nl
SUMMARY:Koningsdag maandag 27 april Centrum Hoogeveen
DESCRIPTION:Koningsdag maandag 27 april Centrum Hoogeveen\,\nBraderie en Vlooienmarkt in de Hoofdstraat.\nDe Kindervrijmarkt is aan de schutstraat.\nVoor info en reserveren www.wildro.nl\nMeer info volgt in de aankomende weken
URL:https://regionieuwshoogeveen.nl/evenement/koningsdag-maandag-27-april-centrum-hoogeveen/
ATTACH;FMTTYPE=image/jpeg:https://regionieuwshoogeveen.nl/wp-content/uploads/2026/02/koningsdag.jpg
END:VEVENT
BEGIN:VEVENT
DTSTART;TZID=Europe/Amsterdam:20260427T100000
DTEND;TZID=Europe/Amsterdam:20260427T190000
DTSTAMP:20260421T100835
CREATED:20260413T165543Z
LAST-MODIFIED:20260413T165543Z
UID:118490-1777284000-1777316400@regionieuwshoogeveen.nl
SUMMARY:Fietstocht en kleedjes markt op Elim tijdens Koningsdag
DESCRIPTION:Op 27 april is er een gezellige fietstocht\, met onderweg een goede lunch en bij de  Open Deur plein is er een kleedjesmarkt. \nDe keuken is geopend\, dus kom gerust langs voor veel gezelligheid\, Fietsen\, koffie\, thee\, biertjes\, borrels en snacks! \n\nWe maken er een gezellige middag van voor jong en oud! \n\n10.00 – 11.00 \nStart van de gezellige fietstocht\, georganiseerd door de Culturele Vereniging \n 14.00 – 17.00 \nKleedjesmarkt/kinder rommelmarkt – opbouw vanaf 13.30 uur \n\n Daarna: gezellig borrelen! \nTot ongeveer 19.00 uur \n\n Wat kun je verwachten? \n* Springkussen & spelletjes \n* Koffie\, bier & wijn \n* Patat & snacks \n* En vooral: heel veel gezelligheid! \n\nKom gezellig langs\, neem je familie\, vrienden en buren mee en vier Koningsdag samen met ons! \n \n \n 
URL:https://regionieuwshoogeveen.nl/evenement/fietstocht-en-kleedjes-markt-op-elim-tijdens-koningsdag/
ATTACH;FMTTYPE=image/png:https://regionieuwshoogeveen.nl/wp-content/uploads/2026/04/Koningsdag-Open-Deur.png
END:VEVENT
BEGIN:VEVENT
DTSTART;TZID=Europe/Amsterdam:20260427T150000
DTEND;TZID=Europe/Amsterdam:20260427T230000
DTSTAMP:20260421T100835
CREATED:20260410T135102Z
LAST-MODIFIED:20260412T083209Z
UID:118358-1777302000-1777330800@regionieuwshoogeveen.nl
SUMMARY:MC Motorhead Hoogeveen presenteert de band Bad Standing op Koningsdag
DESCRIPTION:Mc Motorhead kent een lange\, gezellige traditie van muziekbands op Koningsdag. \nDit jaar treedt vanaf 15.00 de band Bad Standing op. Een Nederlandse hardrockband die een mooi\, stevig stuk muziek verzorgen. \nDe toegang is geheel gratis. Er is voldoende  parkeerruimte. Voor de kleintjes is er een springkussen. \nVoor vragen neem contact op met : evenementen@mcmotorhead.nl \nZie ook dit filmpje op youtube om alvast een voorproefje te krijgen van Bad Standing \n  \nGraag  tot Koningsdag! \n  \nMC Motorhead \nAchteromsedijk 8e \n  \n 
URL:https://regionieuwshoogeveen.nl/evenement/mc-motorhead-hoogeveen-presenteert-de-band-bad-standing-op-koningsdag/
LOCATION:Achteromsedijk 8e\, Achteromsedijk 8e\, Hoogeveen\, Netherlands
ATTACH;FMTTYPE=image/jpeg:https://regionieuwshoogeveen.nl/wp-content/uploads/2026/04/koningsdagposter.jpg
END:VEVENT
BEGIN:VEVENT
DTSTART;TZID=Europe/Amsterdam:20260427T200000
DTEND;TZID=Europe/Amsterdam:20260427T230000
DTSTAMP:20260421T100835
CREATED:20260418T164506Z
LAST-MODIFIED:20260412T164651Z
UID:118423-1777320000-1777330800@regionieuwshoogeveen.nl
SUMMARY:HCM geeft ORANJECONCERT op 27 april in de Grote Kerk Hoogeveen.
DESCRIPTION:Al vele jaren verzorgt het Hoogeveens Christelijk Mannenkoor HCM jaarlijks het Oranjeconcert in de Grote kerk in Hoogeveen. Het is altijd een bijzonder concert waarbij ook\, op uitnodiging van de gemeente Hoogeveen\, steeds weer veel gedecoreerden aanwezig zijn om te genieten van die spraakmakende muzikale avond waarop steevast ook muziek klinkt die speciaal geschreven is voor deze bijzondere dag van verbinding die Koningsdag is. Tijdens het Oranjeconcert wordt ook nadrukkelijk aandacht gegeven aan de herdenking van de slachtoffers van de oorlogen en de viering van onze bevrijding inmiddels meer dan 80 jaar geleden. Zeker in deze tijd waarin de wereldwijde spanningen omtrent oorlog en vrede ook bij ons zo voelbaar zijn vindt HCM het belangrijk om samen te herdenken en om samen onze vrijheid te vieren. \nIeder Oranjeconcert opnieuw zorgt HCM voor een aansprekend en verrassend concert dat ook een van de hoogtepunten van de Koningsdag in Hoogeveen wordt genoemd. \nHet Oranjeconcert op 27 april dat start om 20:00 uur in de Grote Kerk wordt zeker zeer bijzonder door de medewerking van de bekende alt-saxofonist Klaasjan Pullen en slagwerker Tim Nijhuis. Ook koorsolist Ronny Koekoek helpt om er een mooie muzikale avond van te maken. \nDe algehele muzikale en artistieke leiding is in zeer vertrouwde handen bij componist\,arrangeur\, pianist en dirigent van HCM Gezinus M. Veldman. \nDe entreeprijs voor dit concert is € 15\,- \nKaarten voor het Oranjeconcert zijn in Hoogeveen te koop bij: \nKapsalon Zwart aan de Schutstraat 62; \nDe Fakkel\, \, Hoofdstraat 63; \nReadshop Offerein\, De Nije Nering 52; \nBloemenshop Erwin\, De Weide 6; \nPrimera De Haan\, Grote Beer 33; \nIn Hollandscheveld: \nIneke Vos Mode\, Het Hoekje 5. \nIn Zuidwolde: \nPrimera\, Hoofdstraat 70a. \nOok online zijn kaarten te koop via: www.mannenkoorhoogeveen.nl \nOok zijn er misschien\, zolang er nog plaats is\, voor aanvang van het concert nog kaarten te koop aan de Grote Kerk die open is vanaf 19:00 uur.
URL:https://regionieuwshoogeveen.nl/evenement/hcm-geeft-oranjeconcert-op-27-april-in-de-grote-kerk-hoogeveen/
ATTACH;FMTTYPE=image/jpeg:https://regionieuwshoogeveen.nl/wp-content/uploads/2026/04/Foto-HCM--scaled.jpg
END:VEVENT
END:VCALENDAR