BEGIN:VCALENDAR
VERSION:2.0
PRODID:-//Regionieuws Hoogeveen - ECPv6.15.18//NONSGML v1.0//EN
CALSCALE:GREGORIAN
METHOD:PUBLISH
X-ORIGINAL-URL:https://regionieuwshoogeveen.nl
X-WR-CALDESC:Evenementen voor Regionieuws Hoogeveen
REFRESH-INTERVAL;VALUE=DURATION:PT1H
X-Robots-Tag:noindex
X-PUBLISHED-TTL:PT1H
BEGIN:VTIMEZONE
TZID:Europe/Amsterdam
BEGIN:DAYLIGHT
TZOFFSETFROM:+0100
TZOFFSETTO:+0200
TZNAME:CEST
DTSTART:20250330T010000
END:DAYLIGHT
BEGIN:STANDARD
TZOFFSETFROM:+0200
TZOFFSETTO:+0100
TZNAME:CET
DTSTART:20251026T010000
END:STANDARD
BEGIN:DAYLIGHT
TZOFFSETFROM:+0100
TZOFFSETTO:+0200
TZNAME:CEST
DTSTART:20260329T010000
END:DAYLIGHT
BEGIN:STANDARD
TZOFFSETFROM:+0200
TZOFFSETTO:+0100
TZNAME:CET
DTSTART:20261025T010000
END:STANDARD
BEGIN:DAYLIGHT
TZOFFSETFROM:+0100
TZOFFSETTO:+0200
TZNAME:CEST
DTSTART:20270328T010000
END:DAYLIGHT
BEGIN:STANDARD
TZOFFSETFROM:+0200
TZOFFSETTO:+0100
TZNAME:CET
DTSTART:20271031T010000
END:STANDARD
END:VTIMEZONE
BEGIN:VEVENT
DTSTART;TZID=Europe/Amsterdam:20260502T090000
DTEND;TZID=Europe/Amsterdam:20260502T140000
DTSTAMP:20260421T113642
CREATED:20260418T115210Z
LAST-MODIFIED:20260417T115420Z
UID:118592-1777712400-1777730400@regionieuwshoogeveen.nl
SUMMARY:Rommelmarkt bij wooncentrum Valkenstede
DESCRIPTION:Rommelmarkt bij wooncentrum Valkenstede
URL:https://regionieuwshoogeveen.nl/evenement/rommelmarkt-bij-wooncentrum-valkenstede/
END:VEVENT
BEGIN:VEVENT
DTSTART;TZID=Europe/Amsterdam:20260508T193000
DTEND;TZID=Europe/Amsterdam:20260508T233000
DTSTAMP:20260421T113642
CREATED:20260416T181744Z
LAST-MODIFIED:20260415T131929Z
UID:118544-1778268600-1778283000@regionieuwshoogeveen.nl
SUMMARY:Voorronde ONK Poker in Buurthuis Nieuw Moscou
DESCRIPTION:Op vrijdag 8 mei kunnen alle liefhebbers van het kaartspel poker zich melden bij Buurthuis Nieuw Moscou. Daar zal namelijk het Pokerkampioenschap van Hollandscheveld plaatsvinden. Deze voorronde van het ONK Poker is bedoeld om op een laagdrempelige manier kennis te maken met het spel en een gezellige en veilige omgeving te bieden voor recreatieve pokerspelers. Heb je nog nooit eerder meegedaan aan een pokertoernooi? Dan mag je zelfs gratis meedoen om te kijken of poker ook iets voor jou is! \nNieuwe spelers doen gratis mee! \nAls nieuwe speler kun je gratis meespelen bij jouw eerste live- en online voorronde van het ONK Poker. Bij het aanmaken van een account krijg je twee gratis tickets. Eén ticket kun je gebruiken voor een live voorronde in de buurt zoals Hollandscheveld en het andere ticket kan ingezet worden voor een online toernooi. We hopen dat mensen die houden van spanning\, competitie en gezelligheid nu nog eerder aan tafel schuiven om het plezier dat poker biedt te ontdekken! \nKwalificeer je voor de finale!\nDe winnaar van de voorronde ontvangt een bokaal en de titel ‘Pokerkampioen van Hollandscheveld’. Daarnaast kwalificeert diegene zich voor de landelijke finale van het ONK Poker. De winnaar wordt de nieuwe ‘Pokerkampioen van Nederland’ en laat daarmee naar schatting ruim 30.000 deelnemers achter zich. \nOok in de finale valt er enkel een grote trofee te winnen (zie foto). De winnaar van vorig jaar is echter wel (samen met een andere finalist) benaderd voor een sponsordeal. Dankzij deze sponsor mocht hij afgelopen zomer als echte pro gaan pokeren in Las Vegas en wist ruim €10.000 te winnen! \n“Niet voor geld\, maar voor de gezelligheid”\nVeel mensen denken dat poker om geld gespeeld moet worden\, maar oprichters van het ONK Poker en zwagers Mathijs Jonkers en Evert-Jan van IJzendoorn denken daar heel anders over. “Poker kun je net als veel andere spellen binnen een paar minuten leren en er beter in worden door veel te oefenen\,” vertelt Jonkers. “Het voelt voor de duizenden deelnemers die ieder jaar aan het ONK Poker meedoen dan ook echt als het bedrijven van sport en daar halen ze ontzettend veel plezier uit. Is het dan nodig om voor geldprijzen te spelen? Wij denken van niet. “Er staan iedere zaterdag 100.000 mensen voor de lol op een voetbalveld en die spelen ook alleen om de titel.” \nHet feit dat poker ook een kanselement bevat\, maakt het spel volgens de organisatoren alleen maar leuker. “Dat betekent dat iemand die voor het eerst meedoet met een beetje geluk ook kan winnen. Iets wat bij een sport zoals schaken of voetballen vrijwel onmogelijk is. ” Dit maakt het nog laagdrempeliger om eens kennis te komen maken met het spel\, omdat je zelfs als nieuwe speler zomaar eens zou kunnen winnen!” \nLaagdrempelig toernooi.\nIedereen die mee wil doen kan zich via de website https://www.onkpoker.nl/inschrijven. Deelname kost €13\,50 bij online aanmelding. Het Pokerkampioenschap van Hollandscheveld begint om 19:30 uur.
URL:https://regionieuwshoogeveen.nl/evenement/voorronde-onk-poker-in-buurthuis-nieuw-moscou-2/
ATTACH;FMTTYPE=image/jpeg:https://regionieuwshoogeveen.nl/wp-content/uploads/2026/04/Robert-van-Twillert-Pokerkampioen-van-Nederland-24-25-1.jpg
END:VEVENT
BEGIN:VEVENT
DTSTART;TZID=Europe/Amsterdam:20260509T093000
DTEND;TZID=Europe/Amsterdam:20260509T140000
DTSTAMP:20260421T113642
CREATED:20260312T182153Z
LAST-MODIFIED:20260311T182430Z
UID:117520-1778319000-1778335200@regionieuwshoogeveen.nl
SUMMARY:Marktdag Ontmoetingskerk Pesse
DESCRIPTION:Jaarlijkse marktdag rondom de Ontmoetingskerk in Pesse met kraamverkoop\, verloting\, catering\, kinderhoek.\nVoor elk wat wils.
URL:https://regionieuwshoogeveen.nl/evenement/marktdag-ontmoetingskerk-pesse/
ATTACH;FMTTYPE=image/jpeg:https://regionieuwshoogeveen.nl/wp-content/uploads/2026/03/1Poster-markt-2026-8c42fe0793a3721c1c21414ea8ce3c56.jpg
END:VEVENT
BEGIN:VEVENT
DTSTART;TZID=Europe/Amsterdam:20260514T060000
DTEND;TZID=Europe/Amsterdam:20260514T090000
DTSTAMP:20260421T113642
CREATED:20260418T063416Z
LAST-MODIFIED:20260418T063416Z
UID:118622-1778738400-1778749200@regionieuwshoogeveen.nl
SUMMARY:Dauwtrappen in Echten
DESCRIPTION:Vroeg uit de veren op Hemelvaartsdag?\nDauwtrappen is een traditie om heel vroeg in de ochtend een wandeling te maken. Dat kan dit jaar op donderdag 14 mei in Echten\, de start is om 6.00 uur bij ’t Huus met de Belle. \nOnder leiding van een gids hoor je onderweg leuke verhalen en is er een interessante pauze bij een lokale agrarische ondernemer. \nNa de wandeling van ongeveer 10 km staat er in d’ Olde Karke een heerlijk luxe ontbijtbuffet klaar. Samen genieten van een frisse wandeling door de natuur én gezelligheid. \nKosten inclusief ontbijt € 15\,00. \nMaak het mee en meld je snel aan\, want vol=vol! \nOpgave per mail voor maandag 11 mei naar huusmetdebelle@gmail.com \n  \nMeer info op www.huusmetdebelle.eu en www.facebook.com/events/1237060511474723/
URL:https://regionieuwshoogeveen.nl/evenement/dauwtrappen-in-echten-2/
ATTACH;FMTTYPE=image/jpeg:https://regionieuwshoogeveen.nl/wp-content/uploads/2026/04/douwtrap.jpg
END:VEVENT
BEGIN:VEVENT
DTSTART;TZID=Europe/Amsterdam:20260515T140000
DTEND;TZID=Europe/Amsterdam:20260515T170000
DTSTAMP:20260421T113642
CREATED:20260414T170750Z
LAST-MODIFIED:20260411T131336Z
UID:118374-1778853600-1778864400@regionieuwshoogeveen.nl
SUMMARY:Padellen met de Rebellen komt naar Hoogeveen op 15 mei
DESCRIPTION:Op vrijdag 15 mei 2026 staat Hoogeveen in het teken van sport\, beleving en gezelligheid tijdens Padellen met de Rebellen. Een uniek event waar padel en voetbal samenkomen\, met maar liefst 14 oud-topvoetballers die de baan op stappen. \nOnder andere Theo Janssen en Glenn Helder zijn aanwezig en zorgen samen met andere bekende namen voor een dag vol actie\, humor en interactie. \nHet spelen is inmiddels volledig uitverkocht\, wat nog eens onderstreept hoe groot de interesse is. Toch is er meer dan genoeg reden om langs te komen. Met een foodtruck\, een liveband en volop ruimte voor ontmoeting en beleving wordt er veel gezelligheid verwacht rondom de banen. \nOf je nu komt voor de sport\, de sfeer of gewoon een goede avond\, Padellen met de Rebellen belooft een event te worden dat blijft hangen. \nDatum: 15 mei 2026\nLocatie: Hoogeveen \nVoor meer informatie: neem contact op of kijk op de website.\n\n\n\n\n\n\n\n\nLink naar evenementenpagina\n\n\nhttps://padellenmetderebellen.nl/hoogeveen/
URL:https://regionieuwshoogeveen.nl/evenement/padellen-met-de-rebellen-komt-naar-hoogeveen-op-15-mei/
ATTACH;FMTTYPE=image/png:https://regionieuwshoogeveen.nl/wp-content/uploads/2026/04/padel.png
END:VEVENT
BEGIN:VEVENT
DTSTART;TZID=Europe/Amsterdam:20260525T110000
DTEND;TZID=Europe/Amsterdam:20260525T150000
DTSTAMP:20260421T113642
CREATED:20260418T063203Z
LAST-MODIFIED:20260418T063203Z
UID:118619-1779706800-1779721200@regionieuwshoogeveen.nl
SUMMARY:25 mei Pinkstermarkt in het Sterrenpark Krakeel
DESCRIPTION:er zijn kraampjes met nieuwe en 2ehands spullen\, foodtrucks\, kindervermaak\, muziek en trike rijden.\n2e Pinksterdag in het Sterrenpark\, Krakeel\, Hoogeveen\nKraamhouders kunnen zich nog aanmelden.\nActiefkrakeel@kpnmail.nl
URL:https://regionieuwshoogeveen.nl/evenement/25-mei-pinkstermarkt-in-het-sterrenpark-krakeel/
ATTACH;FMTTYPE=image/jpeg:https://regionieuwshoogeveen.nl/wp-content/uploads/2026/04/pinkster.jpg
END:VEVENT
BEGIN:VEVENT
DTSTART;TZID=Europe/Amsterdam:20260530T100000
DTEND;TZID=Europe/Amsterdam:20260530T170000
DTSTAMP:20260421T113642
CREATED:20260331T171050Z
LAST-MODIFIED:20260401T064040Z
UID:118136-1780135200-1780160400@regionieuwshoogeveen.nl
SUMMARY:Eerste editie van Bruisend Hollandscheveld
DESCRIPTION:Op 30 mei 2026 organiseert ondernemersvereniging Hollandscheveld de eerste editie van Bruisend Hollandscheveld. Een evenement waar we zoveel mogelijk willen laten zien hoeveel ondernemers\, verenigingen en leuke activiteiten ons dorp rijk is. We zijn nog druk bezig met het invullen van de dag maar de grote lijnen zijn bekend en dit wilden we natuurlijk graag met jullie delen! De dag gaan we starten met een dorpsontbijt om 8.30 uur\, daarvoor moet je je opgeven en hier zijn kosten aan verbonden van € 5\,00 per persoon. De volledige opbrengsten van dit ontbijt gaan we doneren aan ijsvereniging V.I.O.S. voor de nieuwe asfaltbaan. Het aantal plaatsen is beperkt dus lijkt het je leuk om op deze manier de dag te beginnen meld je dan aan! \nTussen 10.00 en 17.00 uur kunnen alle verenigingen\, stichtingen\, creatievelingen en ondernemers\, die lid zijn van Ondernemersvereniging Hollandscheveld\, zich presenteren aan het dorp. Voor hen zijn gratis* kramen beschikbaar of een plaats op het Hoekje. Een oproep dus aan verenigingen om iets leuks te bedenken om te gaan doen en ondernemers om op een creatieve manier hun bedrijf te presenteren. Doe je iets creatiefs\, leer je mensen nieuwe vaardigheden of doe je iets anders leuks en wil je dat graag laten zien neem dan contact met ons op om te kijken of je in aanmerking komt voor een gratis kraam of informeer naar de kosten om er een te huren. Aanmelden voor het ontbijt kan bij Haarstudio Knip Inn. De kosten van € 5\,00 p.p. moeten contant afgerekend worden. Aanmelden kraam via: bruisendhollandscheveld@gmail.com (Het is ook mogelijk om een halve kraam te reserveren als 400cm te veel is) \nDe ondernemersvereniging Hollandscheveld
URL:https://regionieuwshoogeveen.nl/evenement/eerste-editie-van-bruisend-hollandscheveld/
ATTACH;FMTTYPE=image/png:https://regionieuwshoogeveen.nl/wp-content/uploads/2026/03/15.-Bruisend-Hollandscheveld-evenement-2026.png
END:VEVENT
END:VCALENDAR