BEGIN:VCALENDAR
VERSION:2.0
PRODID:-//Regionieuws Hoogeveen - ECPv6.15.18//NONSGML v1.0//EN
CALSCALE:GREGORIAN
METHOD:PUBLISH
X-ORIGINAL-URL:https://regionieuwshoogeveen.nl
X-WR-CALDESC:Evenementen voor Regionieuws Hoogeveen
REFRESH-INTERVAL;VALUE=DURATION:PT1H
X-Robots-Tag:noindex
X-PUBLISHED-TTL:PT1H
BEGIN:VTIMEZONE
TZID:Europe/Amsterdam
BEGIN:DAYLIGHT
TZOFFSETFROM:+0100
TZOFFSETTO:+0200
TZNAME:CEST
DTSTART:20250330T010000
END:DAYLIGHT
BEGIN:STANDARD
TZOFFSETFROM:+0200
TZOFFSETTO:+0100
TZNAME:CET
DTSTART:20251026T010000
END:STANDARD
BEGIN:DAYLIGHT
TZOFFSETFROM:+0100
TZOFFSETTO:+0200
TZNAME:CEST
DTSTART:20260329T010000
END:DAYLIGHT
BEGIN:STANDARD
TZOFFSETFROM:+0200
TZOFFSETTO:+0100
TZNAME:CET
DTSTART:20261025T010000
END:STANDARD
BEGIN:DAYLIGHT
TZOFFSETFROM:+0100
TZOFFSETTO:+0200
TZNAME:CEST
DTSTART:20270328T010000
END:DAYLIGHT
BEGIN:STANDARD
TZOFFSETFROM:+0200
TZOFFSETTO:+0100
TZNAME:CET
DTSTART:20271031T010000
END:STANDARD
END:VTIMEZONE
BEGIN:VEVENT
DTSTART;TZID=Europe/Amsterdam:20260607T100000
DTEND;TZID=Europe/Amsterdam:20260607T170000
DTSTAMP:20260419T220801
CREATED:20260211T163840Z
LAST-MODIFIED:20260211T163840Z
UID:116813-1780826400-1780851600@regionieuwshoogeveen.nl
SUMMARY:Nieuwe TCG-beurs in Hoogeveen: eerste editie Cards and Collect Drenthe op 7 juni in Het Activum
DESCRIPTION:ndag 7 juni vindt in Het Activum in Hoogeveen de allereerste editie plaats van Cards and Collect Drenthe. Dit nieuwe evenement is volledig gewijd aan Trading Card Games (TCG) en biedt op maar liefst 2.500 m² ruimte aan kaartspellen\, spelers\, verzamelaars en nieuwsgierige beginners. Met Cards and Collect Drenthe krijgt de regio een eigen podium voor de wereld van TCG. Geen bijprogramma\, geen onderdeel van een groter geheel\, maar een beurs waar kaartspellen centraal staan en waar meerdere TCG’s naast elkaar de ruimte krijgen.\n\n \nTwee werelden\, twee podia\n \n\nInitiatiefnemer is Michael Steenbergen\, organisator van Gamebeurs Drenthe. Na twee succesvolle edities van deze gamebeurs\, en een derde editie gepland op 4 oktober\, merkte hij een duidelijke ontwikkeling.\n\n \n\n“Bij de gamebeurs zie ik elke keer veel aanvragen van TCG-standhouders\,” aldus Michael. “Maar bij die beurs staat gaming op nummer één. We hebben wel enkele TCG’s\, maar het is een heel klein onderdeel. Games\, consoles en handhelds moeten daar voorop blijven staan. Als je alles blijft combineren zonder duidelijke focus\, gaat het elkaar bijten denk ik. Gaming is één wereld\, TCG een andere. Allebei verdienen ze hun eigen podium.”\n\n \n\nDat leidde tot Cards and Collect Drenthe: een zelfstandig TCG-event.\n\n \nLaagdrempelig en toegankelijk\n \n\nWat deze nieuwe beurs onderscheidt\, is de nadruk op toegankelijkheid. Waar sommige evenementen zich vooral richten op ervaren spelers\, verzamelaars of investeerders\, wil Cards and Collect Drenthe juist ook ruimte bieden aan starters en nieuwsgierigen.\n\n \n\n“Zelf ben ik een echte noob als het gaat om TCG\,” vertelt Michael open. “Maar ik weet denk ik inmiddels hoe je een beurs neerzet waar mensen zich prettig voelen. We wilden iets maken waar je ook gewoon binnen kunt lopen zonder dat je alles al hoeft te snappen. Waar je kunt leren\, ontdekken en vragen kunt stellen.”\n\n \n\nBezoekers kunnen op 7 juni onder meer rekenen op:\n\n \n\n 	Een breed aanbod aan verschillende Trading Card Games\n \n 	Standhouders die kaarten verkopen\, inkopen en ruilen\n \n 	Speeltafels en demonstraties\n \n 	Ruimte voor kennismaking en uitleg\n \n 	Entertainment en toernooien\n\n \n\nNiet alleen handel staat centraal\, maar ook ontmoeting en beleving. Verspreid door Het Activum worden plekken ingericht waar bezoekers rustig hun map kunnen openslaan\, kaarten kunnen ruilen of gewoon even kunnen zitten en praten.\n\n \nVoor verzamelaars én gezinnen\n \n\nCards and Collect Drenthe richt zich op een brede doelgroep: van doorgewinterde verzamelaars tot casual liefhebbers en gezinnen.\n\n \n\n“Het moet niet voelen alsof je ergens niet thuishoort\,” zegt Michael. “Of je nu al jaren verzamelt\, af en toe wat koopt of met je kind een mapje Pokémonkaarten meeneemt: iedereen is welkom. Er zijn investeerders die met een bepaald doel komen\, maar ook kinderen die met geld uit hun spaarpot een kaart kopen omdat ze die gewoon mooi vinden. Die combinatie maakt het juist leuk.”\n\n \n\nDankzij de ruime opzet van Het Activum wordt ingezet op overzicht\, brede paden en comfort. Geen gedrang of geschuifel langs tafels\, maar ontspannen op je eigen tempo rondkijken en meedoen.\n\n \nSamenwerking met TCG-kennis uit de regio\n \n\nVoor de inhoudelijke TCG-kennis werkt Michael samen met Jos Smeins van ParadiseCards. Waar Michael ervaring heeft met het organiseren\, brengt Jos kennis van de TCG-wereld mee. Samen bundelen zij hun kennis om een mooie eerste editie neer te zetten.\n\n \nWanneer is het geslaagd?\n \n\nVoor Michael en Jos is het succes van de eerste editie niet alleen afhankelijk van bezoekersaantallen.\n\n \n\n“Als standhouders zeggen: ‘Dit liep lekker’ en bezoekers zeggen: ‘Wanneer is de volgende?’\, dan is het voor ons geslaagd. Als de basis klopt en mensen terug willen komen\, dan zijn we heel tevreden en gaan we op naar een tweede editie.”\n\n \n\nCards and Collect Drenthe vindt plaats op zondag 7 juni in Het Activum in Hoogeveen.\n\n \n\nMeer informatie is te vinden via: www.cardsandcollectdrenthe.nl
URL:https://regionieuwshoogeveen.nl/evenement/nieuwe-tcg-beurs-in-hoogeveen-eerste-editie-cards-and-collect-drenthe-op-7-juni-in-het-activum/
ATTACH;FMTTYPE=image/jpeg:https://regionieuwshoogeveen.nl/wp-content/uploads/2026/02/tcg.jpeg
END:VEVENT
BEGIN:VEVENT
DTSTART;TZID=Europe/Amsterdam:20260607T110000
DTEND;TZID=Europe/Amsterdam:20260607T153000
DTSTAMP:20260419T220801
CREATED:20260418T163649Z
LAST-MODIFIED:20260415T133945Z
UID:118549-1780830000-1780846200@regionieuwshoogeveen.nl
SUMMARY:Bentinckspark Obstacle run
DESCRIPTION:Op zondag 7 juni 2026 wordt het Bentinckspark opnieuw omgetoverd tot één groot parcours vol uitdagingen voor jong én oud!\nDit sportieve evenement wordt georganiseerd door VV Hoogeveen en HAC ’63.\n\n\nDurf jij het aan om mee te doen? Schrijf je dan nu in en ga de uitdaging aan!\n\n\n\nProgramma & Afstanden:\n 11.00 uur – 400m (t/m 5 jaar)\n 11.15 uur – 800m (t/m 8 jaar)\n 11.30 uur – 1200m (t/m 12 jaar & A-atleten)\n Vanaf 13.30 uur (gefaseerde start) – 5 km & 10 km (vanaf 10 jaar)\n\n\n\nPraktische info:\n Inschrijven: www.inschrijven.nl\n Afstanden t/m 1200 meter: GRATIS deelname!\n 5 km & 10 km:\n• Voorinschrijving €10\,00 (t/m 5 juni)\n• Na-inschrijving €12\,50\n\n\n Meer info: www.bentincksparkrun.nl\nContact: woc@hac63.nl
URL:https://regionieuwshoogeveen.nl/evenement/bentinckspark-obstacle-run/
ATTACH;FMTTYPE=image/jpeg:https://regionieuwshoogeveen.nl/wp-content/uploads/2026/04/obstacklerun.jpg
END:VEVENT
BEGIN:VEVENT
DTSTART;TZID=Europe/Amsterdam:20260620T120000
DTEND;TZID=Europe/Amsterdam:20260620T200000
DTSTAMP:20260419T220801
CREATED:20260227T191302Z
LAST-MODIFIED:20260209T081556Z
UID:116735-1781956800-1781985600@regionieuwshoogeveen.nl
SUMMARY:Tweede editie Te Land Ter Zee Hoogeveen op zaterdag 20 juni 2026
DESCRIPTION:HOOGEVEEN – Na een succesvolle en uitverkochte eerste editie keert Te Land Ter Zee Hoogeveen terug. Op zaterdag 20 juni 2026 vindt de tweede editie plaats bij Paviljoen Nijstad. De organisatie is opnieuw in handen van Hoogeveense Ronde Tafel 65. De ticketverkoop is inmiddels gestart. \nTe Land Ter Zee Hoogeveen is een toegankelijk\, spectaculair en gezellig evenement voor jong en oud. Tijdens de eerste editie waren alle tickets ruim voor de eventdatum verkocht. De organisatie verwacht ook dit jaar grote belangstelling. \nNaast bezoekers is er volop ruimte voor deelnemende teams die met een zelfgebouwd vaartuig de uitdaging aangaan. Dit jaar is gekozen voor een andere baan. Ook sponsoren kunnen zich verbinden aan het evenement en daarmee bijdragen aan zowel het spektakel als het maatschappelijke doel. \nDe opbrengst van de editie 2026 gaat naar Stichting Present Hoogeveen. Deze organisatie brengt mensen die iets voor een ander willen betekenen in contact met inwoners die hulp nodig hebben en versterkt zo de betrokkenheid en saamhorigheid in de regio Hoogeveen. \n“Na het grote succes van vorig jaar kijken wij er enorm naar uit om in 2026 een nóg mooiere editie van Te Land Ter Zee Hoogeveen neer te zetten”\, aldus de Hoogeveense Ronde Tafel 65. \nMeer informatie over het evenement\, tickets\, deelname en sponsormogelijkheden is te vinden op www.telandterzeehoogeveen.nl. Foto Martin Schonewille
URL:https://regionieuwshoogeveen.nl/evenement/tweede-editie-te-land-ter-zee-hoogeveen-op-zaterdag-20-juni-2026/
ATTACH;FMTTYPE=image/jpeg:https://regionieuwshoogeveen.nl/wp-content/uploads/2025/06/1ter-land-5-kopie.jpg
END:VEVENT
BEGIN:VEVENT
DTSTART;TZID=Europe/Amsterdam:20260711T100000
DTEND;TZID=Europe/Amsterdam:20260711T170000
DTSTAMP:20260419T220801
CREATED:20260315T105454Z
LAST-MODIFIED:20260315T105454Z
UID:117609-1783764000-1783789200@regionieuwshoogeveen.nl
SUMMARY:Nieuwe NK wedstijd: Autoblubbering Katemo
DESCRIPTION:Dit jaar mag er een nieuwe NK wedstrijd toegevoegd aan de blubberagenda\, namelijk ‘Autoblubbering Katemo’ van Stichting Katemo Nieuw Moscou\n\n \n\nDit jaar bestaat de stichting 70 jaar en dat vieren ze met een groot feest op de vrijdagavond en onze geliefde sport autoblubbering op de zaterdag\n\n \n\nKom samen met Katemo en Autoblubbering Nederland dit jubileum groots vieren: schrijf je in (inschrijving opent binnenkort) of kom kijken als bezoeker en geniet van dit prachtige lokale familiefeest voor jong en oud !\n\n \n\n𝙋𝙧𝙖𝙠𝙩𝙞𝙨𝙘𝙝𝙚 𝙞𝙣𝙛𝙤𝙧𝙢𝙖𝙩𝙞𝙚\n\n \n\nDatum: Zaterdag 11 juli 2026\n\n \n\nAanvang: 10.00 uur\n\n \n\nLocatie:\n\n \n\nZuideropgaande 134\n\n \n\n7913 TR Hollandscheveld
URL:https://regionieuwshoogeveen.nl/evenement/nieuwe-nk-wedstijd-autoblubbering-katemo/
ATTACH;FMTTYPE=image/jpeg:https://regionieuwshoogeveen.nl/wp-content/uploads/2026/03/autoblb.jpg
END:VEVENT
END:VCALENDAR