BEGIN:VCALENDAR
VERSION:2.0
PRODID:-//Regionieuws Hoogeveen - ECPv6.15.18//NONSGML v1.0//EN
CALSCALE:GREGORIAN
METHOD:PUBLISH
X-WR-CALNAME:Regionieuws Hoogeveen
X-ORIGINAL-URL:https://regionieuwshoogeveen.nl
X-WR-CALDESC:Evenementen voor Regionieuws Hoogeveen
REFRESH-INTERVAL;VALUE=DURATION:PT1H
X-Robots-Tag:noindex
X-PUBLISHED-TTL:PT1H
BEGIN:VTIMEZONE
TZID:Europe/Amsterdam
BEGIN:DAYLIGHT
TZOFFSETFROM:+0100
TZOFFSETTO:+0200
TZNAME:CEST
DTSTART:20250330T010000
END:DAYLIGHT
BEGIN:STANDARD
TZOFFSETFROM:+0200
TZOFFSETTO:+0100
TZNAME:CET
DTSTART:20251026T010000
END:STANDARD
BEGIN:DAYLIGHT
TZOFFSETFROM:+0100
TZOFFSETTO:+0200
TZNAME:CEST
DTSTART:20260329T010000
END:DAYLIGHT
BEGIN:STANDARD
TZOFFSETFROM:+0200
TZOFFSETTO:+0100
TZNAME:CET
DTSTART:20261025T010000
END:STANDARD
BEGIN:DAYLIGHT
TZOFFSETFROM:+0100
TZOFFSETTO:+0200
TZNAME:CEST
DTSTART:20270328T010000
END:DAYLIGHT
BEGIN:STANDARD
TZOFFSETFROM:+0200
TZOFFSETTO:+0100
TZNAME:CET
DTSTART:20271031T010000
END:STANDARD
END:VTIMEZONE
BEGIN:VEVENT
DTSTART;TZID=Europe/Amsterdam:20260422T193000
DTEND;TZID=Europe/Amsterdam:20260422T230000
DTSTAMP:20260422T041558
CREATED:20260406T070200Z
LAST-MODIFIED:20260405T070344Z
UID:118257-1776886200-1776898800@regionieuwshoogeveen.nl
SUMMARY:Voorronde ONK Poker in Hoogeveen
DESCRIPTION:Op woensdag 22 april kunnen alle liefhebbers van het kaartspel poker zich melden in Het Hap en Stap lokaal. Daar zal namelijk het Pokerkampioenschap van Hoogeveen plaatsvinden. Deze voorronde van het ONK Poker is bedoeld om op een laagdrempelige manier kennis te maken met het spel en een gezellige en veilige omgeving te bieden voor recreatieve pokerspelers. Heb je nog nooit eerder meegedaan aan een pokertoernooi? Dan mag je zelfs gratis meedoen om te kijken of poker ook iets voor jou is! \nNieuwe spelers doen gratis mee! \nAls nieuwe speler kun je gratis meespelen bij jouw eerste live- en online voorronde van het ONK Poker. Bij het aanmaken van een account krijg je twee gratis tickets. Eén ticket kun je gebruiken voor een live voorronde in de buurt zoals Hoogeveen en het andere ticket kan ingezet worden voor een online toernooi. We hopen dat mensen die houden van spanning\, competitie en gezelligheid nu nog eerder aan tafel schuiven om het plezier dat poker biedt te ontdekken! \nKwalificeer je voor de finale!\nDe winnaar van de voorronde ontvangt een bokaal en de titel ‘Pokerkampioen van Hoogeveen’. Daarnaast kwalificeert diegene zich voor de landelijke finale van het ONK Poker. De winnaar wordt de nieuwe ‘Pokerkampioen van Nederland’ en laat daarmee naar schatting ruim 30.000 deelnemers achter zich. \nOok in de finale valt er enkel een grote trofee te winnen (zie foto). De winnaar van vorig jaar is echter wel (samen met een andere finalist) benaderd voor een sponsordeal. Dankzij deze sponsor mocht hij afgelopen zomer als echte pro gaan pokeren in Las Vegas en wist ruim €10.000 te winnen! \n“Niet voor geld\, maar voor de gezelligheid”\nVeel mensen denken dat poker om geld gespeeld moet worden\, maar oprichters van het ONK Poker en zwagers Mathijs Jonkers en Evert-Jan van IJzendoorn denken daar heel anders over. “Poker kun je net als veel andere spellen binnen een paar minuten leren en er beter in worden door veel te oefenen\,” vertelt Jonkers. “Het voelt voor de duizenden deelnemers die ieder jaar aan het ONK Poker meedoen dan ook echt als het bedrijven van sport en daar halen ze ontzettend veel plezier uit. Is het dan nodig om voor geldprijzen te spelen? Wij denken van niet. “Er staan iedere zaterdag 100.000 mensen voor de lol op een voetbalveld en die spelen ook alleen om de titel.” \nHet feit dat poker ook een kanselement bevat\, maakt het spel volgens de organisatoren alleen maar leuker. “Dat betekent dat iemand die voor het eerst meedoet met een beetje geluk ook kan winnen. Iets wat bij een sport zoals schaken of voetballen vrijwel onmogelijk is. ” Dit maakt het nog laagdrempeliger om eens kennis te komen maken met het spel\, omdat je zelfs als nieuwe speler zomaar eens zou kunnen winnen!” \nLaagdrempelig toernooi.\nIedereen die mee wil doen kan zich via de website https://www.onkpoker.nl/inschrijven. Deelname kost €13\,50 bij online aanmelding. Het Pokerkampioenschap van Hoogeveen begint om 19:30 uur.
URL:https://regionieuwshoogeveen.nl/evenement/voorronde-onk-poker-in-hoogeveen/
ATTACH;FMTTYPE=image/jpeg:https://regionieuwshoogeveen.nl/wp-content/uploads/2026/04/Robert-van-Twillert-Pokerkampioen-van-Nederland-24-25-1.jpg
END:VEVENT
END:VCALENDAR