BEGIN:VCALENDAR
VERSION:2.0
PRODID:-//Regionieuws Hoogeveen - ECPv6.15.18//NONSGML v1.0//EN
CALSCALE:GREGORIAN
METHOD:PUBLISH
X-ORIGINAL-URL:https://regionieuwshoogeveen.nl
X-WR-CALDESC:Evenementen voor Regionieuws Hoogeveen
REFRESH-INTERVAL;VALUE=DURATION:PT1H
X-Robots-Tag:noindex
X-PUBLISHED-TTL:PT1H
BEGIN:VTIMEZONE
TZID:Europe/Amsterdam
BEGIN:DAYLIGHT
TZOFFSETFROM:+0100
TZOFFSETTO:+0200
TZNAME:CEST
DTSTART:20250330T010000
END:DAYLIGHT
BEGIN:STANDARD
TZOFFSETFROM:+0200
TZOFFSETTO:+0100
TZNAME:CET
DTSTART:20251026T010000
END:STANDARD
BEGIN:DAYLIGHT
TZOFFSETFROM:+0100
TZOFFSETTO:+0200
TZNAME:CEST
DTSTART:20260329T010000
END:DAYLIGHT
BEGIN:STANDARD
TZOFFSETFROM:+0200
TZOFFSETTO:+0100
TZNAME:CET
DTSTART:20261025T010000
END:STANDARD
BEGIN:DAYLIGHT
TZOFFSETFROM:+0100
TZOFFSETTO:+0200
TZNAME:CEST
DTSTART:20270328T010000
END:DAYLIGHT
BEGIN:STANDARD
TZOFFSETFROM:+0200
TZOFFSETTO:+0100
TZNAME:CET
DTSTART:20271031T010000
END:STANDARD
END:VTIMEZONE
BEGIN:VEVENT
DTSTART;TZID=Europe/Amsterdam:20260328T100000
DTEND;TZID=Europe/Amsterdam:20260328T170000
DTSTAMP:20260421T102456
CREATED:20260318T153734Z
LAST-MODIFIED:20260327T184307Z
UID:117736-1774692000-1774717200@regionieuwshoogeveen.nl
SUMMARY:binnenstad van Hoogeveen volledig in het teken van auto’s\, racen en actie!
DESCRIPTION:Op zaterdag 28 maart staat de binnenstad van Hoogeveen volledig in het teken van auto’s\, racen en actie! \nStap in de racesimulator en ga voor de snelste tijd\nTest je skills met radiografisch bestuurbare racecars\nBewonder ‘dikke’ auto’s op verschillende plekken in de stad\nOntdek en ervaar de nieuwste elektrische modellen \nOok de jongsten zijn niet vergeten… er staan springkussens verspreid door de binnenstad\, dus die kunnen hun energie ook wel kwijt… \nCombineer snelheid en spanning met een dagje shoppen  en beleef Hoogeveen op z’n meest dynamisch!
URL:https://regionieuwshoogeveen.nl/evenement/binnenstad-van-hoogeveen-volledig-in-het-teken-van-autos-racen-en-actie/
ATTACH;FMTTYPE=image/jpeg:https://regionieuwshoogeveen.nl/wp-content/uploads/2026/03/raceday.jpg
END:VEVENT
BEGIN:VEVENT
DTSTART;TZID=Europe/Amsterdam:20260328T190000
DTEND;TZID=Europe/Amsterdam:20260328T210000
DTSTAMP:20260421T102456
CREATED:20260314T070249Z
LAST-MODIFIED:20260327T075447Z
UID:117482-1774724400-1774731600@regionieuwshoogeveen.nl
SUMMARY:Zingend naar de zondag in de Hoofdstraatkerk
DESCRIPTION:Op zaterdagavond 28 maart is er weer een ‘zingend naar de zondag’ in de Hoofdstraatkerk te Hoogeveen. Medewerking wordt verleend door de 13-jarige harpist Matthias Kuiper uit Steenwijkerwold. Het kerkorgel wordt bespeeld door Jaap in ’t Veld en de verbindende teksten worden gesproken door ds. Cees ’t Lam. Het thema is ‘Op weg naar Jeruzalem’. De aanvang is 19.00 uur en de toegang is gratis. Van harte welkom.
URL:https://regionieuwshoogeveen.nl/evenement/zingend-naar-de-zondag-in-de-hoofdstraatkerk/
ATTACH;FMTTYPE=image/jpeg:https://regionieuwshoogeveen.nl/wp-content/uploads/2024/08/hoofdstraatkerk.jpg
END:VEVENT
END:VCALENDAR