BEGIN:VCALENDAR
VERSION:2.0
PRODID:-//Regionieuws Hoogeveen - ECPv6.15.18//NONSGML v1.0//EN
CALSCALE:GREGORIAN
METHOD:PUBLISH
X-ORIGINAL-URL:https://regionieuwshoogeveen.nl
X-WR-CALDESC:Evenementen voor Regionieuws Hoogeveen
REFRESH-INTERVAL;VALUE=DURATION:PT1H
X-Robots-Tag:noindex
X-PUBLISHED-TTL:PT1H
BEGIN:VTIMEZONE
TZID:Europe/Amsterdam
BEGIN:DAYLIGHT
TZOFFSETFROM:+0100
TZOFFSETTO:+0200
TZNAME:CEST
DTSTART:20250330T010000
END:DAYLIGHT
BEGIN:STANDARD
TZOFFSETFROM:+0200
TZOFFSETTO:+0100
TZNAME:CET
DTSTART:20251026T010000
END:STANDARD
BEGIN:DAYLIGHT
TZOFFSETFROM:+0100
TZOFFSETTO:+0200
TZNAME:CEST
DTSTART:20260329T010000
END:DAYLIGHT
BEGIN:STANDARD
TZOFFSETFROM:+0200
TZOFFSETTO:+0100
TZNAME:CET
DTSTART:20261025T010000
END:STANDARD
BEGIN:DAYLIGHT
TZOFFSETFROM:+0100
TZOFFSETTO:+0200
TZNAME:CEST
DTSTART:20270328T010000
END:DAYLIGHT
BEGIN:STANDARD
TZOFFSETFROM:+0200
TZOFFSETTO:+0100
TZNAME:CET
DTSTART:20271031T010000
END:STANDARD
END:VTIMEZONE
BEGIN:VEVENT
DTSTART;TZID=Europe/Amsterdam:20260320T163000
DTEND;TZID=Europe/Amsterdam:20260320T183000
DTSTAMP:20260421T102458
CREATED:20260228T162406Z
LAST-MODIFIED:20260315T110538Z
UID:117167-1774024200-1774031400@regionieuwshoogeveen.nl
SUMMARY:Lentefair! Bij Kinderopvang Partou
DESCRIPTION:Kinderopvang Partou Amshoffweg opent op 20 maart van 16.30-18.30 uur haar deuren voor iedereen. Er zal een gezellige lentefair gehouden worden met diverse kraampjes met producten\, eten en drinken. Ook zijn er activiteiten voor de kinderen zoals een minidisco en schminken. Bovendien is er een mooie verloting met leuke prijzen\, gesponsord door diverse ondernemers uit de buurt. De opbrengst willen wij schenken aan KIKA. Let op: wij zelf hebben geen pinapparaat dus graag contant geld meenemen\, bij sommige kramen kunt u wel pinnen. Graag tot 20 maart!
URL:https://regionieuwshoogeveen.nl/evenement/lentefair-bij-kinderopvang-partou/
ATTACH;FMTTYPE=image/png:https://regionieuwshoogeveen.nl/wp-content/uploads/2026/02/image-22-e1771952552841.png
END:VEVENT
BEGIN:VEVENT
DTSTART;TZID=Europe/Amsterdam:20260320T200000
DTEND;TZID=Europe/Amsterdam:20260321T230000
DTSTAMP:20260421T102458
CREATED:20260311T175353Z
LAST-MODIFIED:20260318T181144Z
UID:117475-1774036800-1774134000@regionieuwshoogeveen.nl
SUMMARY:Toneelvereniging de Vuurkorvers breng '' T kon hier wel spoken' op de planken
DESCRIPTION:Toneelvereniging de Vuurkorvers breng ” T kon hier wel spoken’ op de planken \nScreenshot
URL:https://regionieuwshoogeveen.nl/evenement/toneelvereniging-de-vuurkorvers-breng-t-kon-hier-wel-spoken-op-de-planken/
ATTACH;FMTTYPE=image/jpeg:https://regionieuwshoogeveen.nl/wp-content/uploads/2026/03/toneel-nieuweroord.jpeg
END:VEVENT
END:VCALENDAR