BEGIN:VCALENDAR
VERSION:2.0
PRODID:-//Regionieuws Hoogeveen - ECPv6.15.18//NONSGML v1.0//EN
CALSCALE:GREGORIAN
METHOD:PUBLISH
X-ORIGINAL-URL:https://regionieuwshoogeveen.nl
X-WR-CALDESC:Evenementen voor Regionieuws Hoogeveen
REFRESH-INTERVAL;VALUE=DURATION:PT1H
X-Robots-Tag:noindex
X-PUBLISHED-TTL:PT1H
BEGIN:VTIMEZONE
TZID:Europe/Amsterdam
BEGIN:DAYLIGHT
TZOFFSETFROM:+0100
TZOFFSETTO:+0200
TZNAME:CEST
DTSTART:20240331T010000
END:DAYLIGHT
BEGIN:STANDARD
TZOFFSETFROM:+0200
TZOFFSETTO:+0100
TZNAME:CET
DTSTART:20241027T010000
END:STANDARD
BEGIN:DAYLIGHT
TZOFFSETFROM:+0100
TZOFFSETTO:+0200
TZNAME:CEST
DTSTART:20250330T010000
END:DAYLIGHT
BEGIN:STANDARD
TZOFFSETFROM:+0200
TZOFFSETTO:+0100
TZNAME:CET
DTSTART:20251026T010000
END:STANDARD
BEGIN:DAYLIGHT
TZOFFSETFROM:+0100
TZOFFSETTO:+0200
TZNAME:CEST
DTSTART:20260329T010000
END:DAYLIGHT
BEGIN:STANDARD
TZOFFSETFROM:+0200
TZOFFSETTO:+0100
TZNAME:CET
DTSTART:20261025T010000
END:STANDARD
END:VTIMEZONE
BEGIN:VEVENT
DTSTART;TZID=Europe/Amsterdam:20251226T180000
DTEND;TZID=Europe/Amsterdam:20251228T204000
DTSTAMP:20260423T141334
CREATED:20251214T165042Z
LAST-MODIFIED:20251227T074553Z
UID:115004-1766772000-1766954400@regionieuwshoogeveen.nl
SUMMARY:Een Woldense mythe komt tot leven tijdens de kerstvakantie
DESCRIPTION:In de kerstvakantie 2025 gaat er iets bijzonders gebeuren aan de Oshaarseweg 32 in Echten. (26\, 27 en 28 dec en 2\,3 en 4 januari) Een Woldense mythe komt tot leven tijdens een belevenis wandeling. Licht\, muziek\, zang\, spel en vertelling zijn de ingrediënten voor de beleving van deze mythe. Laat je leiden door de verhalenverteller\, die je meeneemt op je reis door het verhaal van het Spinwiefien. Alleen in de schemering komt zij tevoorschijn. \n“Er is zoveel tussen hemel en aarde waar we niets van begrijpen. Soms\, als je er maar in blijft geloven\, gebeurt er wel eens een wonder”. In het Buiten-licht-spel hoor\, zie en beleef je als bezoeker het verhaal. Dus\, doe je laarzen aan en trek een dikke jas aan want je gaat een wandeling door de tijd maken. Wil jij het spannende verhaal in het donker ook beleven? Dan zijn de dagen na Kerst een mooie gelegenheid om een bezoek te brengen aan het lichtspektakel in Echten! Wil je de beleving in het Drents? Dan kan dat ook. Tickets uitsluitend te verkrijgen via\nwww.mythers.nl. Ben je slecht ter been? Geef dat door aan de organisatie omdat we rolstoelen hebben die over gras en door bosgrond kunnen.
URL:https://regionieuwshoogeveen.nl/evenement/een-woldense-mythe-komt-tot-leven-tijdens-de-kerstvakantie/
ATTACH;FMTTYPE=image/png:https://regionieuwshoogeveen.nl/wp-content/uploads/2025/12/poster_mythers.png
END:VEVENT
END:VCALENDAR