BEGIN:VCALENDAR
VERSION:2.0
PRODID:-//Regionieuws Hoogeveen - ECPv6.15.18//NONSGML v1.0//EN
CALSCALE:GREGORIAN
METHOD:PUBLISH
X-ORIGINAL-URL:https://regionieuwshoogeveen.nl
X-WR-CALDESC:Evenementen voor Regionieuws Hoogeveen
REFRESH-INTERVAL;VALUE=DURATION:PT1H
X-Robots-Tag:noindex
X-PUBLISHED-TTL:PT1H
BEGIN:VTIMEZONE
TZID:Europe/Amsterdam
BEGIN:DAYLIGHT
TZOFFSETFROM:+0100
TZOFFSETTO:+0200
TZNAME:CEST
DTSTART:20240331T010000
END:DAYLIGHT
BEGIN:STANDARD
TZOFFSETFROM:+0200
TZOFFSETTO:+0100
TZNAME:CET
DTSTART:20241027T010000
END:STANDARD
BEGIN:DAYLIGHT
TZOFFSETFROM:+0100
TZOFFSETTO:+0200
TZNAME:CEST
DTSTART:20250330T010000
END:DAYLIGHT
BEGIN:STANDARD
TZOFFSETFROM:+0200
TZOFFSETTO:+0100
TZNAME:CET
DTSTART:20251026T010000
END:STANDARD
BEGIN:DAYLIGHT
TZOFFSETFROM:+0100
TZOFFSETTO:+0200
TZNAME:CEST
DTSTART:20260329T010000
END:DAYLIGHT
BEGIN:STANDARD
TZOFFSETFROM:+0200
TZOFFSETTO:+0100
TZNAME:CET
DTSTART:20261025T010000
END:STANDARD
END:VTIMEZONE
BEGIN:VEVENT
DTSTART;TZID=Europe/Amsterdam:20251216T153000
DTEND;TZID=Europe/Amsterdam:20251216T170000
DTSTAMP:20260423T141335
CREATED:20251208T160535Z
LAST-MODIFIED:20251208T160535Z
UID:114903-1765899000-1765904400@regionieuwshoogeveen.nl
SUMMARY:Familiepubquiz in de Bibliotheek
DESCRIPTION:Zin in een gezellige én spannende middag met je familie? Bibliotheek Hoogeveen organiseert op dinsdag 16 december de Familiepubquiz voor jong en oud! Een leuke activiteit om samen te lachen\, te leren en de strijd aan te gaan om de felbegeerde titel: Beste familie van de gemeente Hoogeveen. \n  \nHoe werkt het? \n\nVorm een team van maximaal 5 personen.\nZorg voor minimaal 20 jaar leeftijdsverschil tussen het jongste en oudste teamlid.\nTest jullie kennis in verschillende rondes en ontdek wie het slimste familieteam is!\n\n  \nWanneer? \nDinsdag 16 december\, 15.30 – 17.00 uur. \n  \nMeedoen? \nInschrijven kan via www.bibliotheekhoogeveen.nl of bel met 0528-268131. Vol is vol!
URL:https://regionieuwshoogeveen.nl/evenement/familiepubquiz-in-de-bibliotheek/
ATTACH;FMTTYPE=image/png:https://regionieuwshoogeveen.nl/wp-content/uploads/2025/12/familiepubquiz-meisje-opa-moeder.png
END:VEVENT
END:VCALENDAR