BEGIN:VCALENDAR
VERSION:2.0
PRODID:-//Regionieuws Hoogeveen - ECPv6.15.18//NONSGML v1.0//EN
CALSCALE:GREGORIAN
METHOD:PUBLISH
X-WR-CALNAME:Regionieuws Hoogeveen
X-ORIGINAL-URL:https://regionieuwshoogeveen.nl
X-WR-CALDESC:Evenementen voor Regionieuws Hoogeveen
REFRESH-INTERVAL;VALUE=DURATION:PT1H
X-Robots-Tag:noindex
X-PUBLISHED-TTL:PT1H
BEGIN:VTIMEZONE
TZID:Europe/Amsterdam
BEGIN:DAYLIGHT
TZOFFSETFROM:+0100
TZOFFSETTO:+0200
TZNAME:CEST
DTSTART:20240331T010000
END:DAYLIGHT
BEGIN:STANDARD
TZOFFSETFROM:+0200
TZOFFSETTO:+0100
TZNAME:CET
DTSTART:20241027T010000
END:STANDARD
BEGIN:DAYLIGHT
TZOFFSETFROM:+0100
TZOFFSETTO:+0200
TZNAME:CEST
DTSTART:20250330T010000
END:DAYLIGHT
BEGIN:STANDARD
TZOFFSETFROM:+0200
TZOFFSETTO:+0100
TZNAME:CET
DTSTART:20251026T010000
END:STANDARD
BEGIN:DAYLIGHT
TZOFFSETFROM:+0100
TZOFFSETTO:+0200
TZNAME:CEST
DTSTART:20260329T010000
END:DAYLIGHT
BEGIN:STANDARD
TZOFFSETFROM:+0200
TZOFFSETTO:+0100
TZNAME:CET
DTSTART:20261025T010000
END:STANDARD
END:VTIMEZONE
BEGIN:VEVENT
DTSTART;TZID=Europe/Amsterdam:20250711T143000
DTEND;TZID=Europe/Amsterdam:20250711T163000
DTSTAMP:20260424T075212
CREATED:20250708T115842Z
LAST-MODIFIED:20250709T172639Z
UID:109989-1752244200-1752251400@regionieuwshoogeveen.nl
SUMMARY:Zomer vol gratis kinderactiviteiten
DESCRIPTION:Deze zomer organiseert de Bibliotheek Hoogeveen een bomvol programma speciaal voor kinderen die de zomervakantie (deels) thuis gaan vieren. Van creatieve workshops tot voorlezen\, van een groene wandeling tot programmeren: er is elke week iets te doen. \n  \nAlle basisschoolkinderen in de regio krijgen binnenkort het Zomerbonnenboekje. Daarmee kunnen ze meedoen aan activiteiten\, stempels verzamelen én sparen voor een verrassing. \n  \n\nAlles is gratis.\nDe activiteiten zijn in de Bibliotheek én op locaties in Hoogeveen.\n\n  \nHet volledige programma staat op: \nwww.bibliotheekhoogeveen.nl/home/zomerprogramma-2025.html \n  \nHet zomerprogramma wordt afgetrapt op vrijdagmiddag 11 juli. Van 14.30 tot 16.30 uur zijn er diverse zomerse activiteiten in de Bibliotheek. De toegang is gratis!
URL:https://regionieuwshoogeveen.nl/evenement/zomer-vol-gratis-kinderactiviteiten/
ATTACH;FMTTYPE=image/png:https://regionieuwshoogeveen.nl/wp-content/uploads/2025/07/zomer.png
END:VEVENT
END:VCALENDAR