BEGIN:VCALENDAR
VERSION:2.0
PRODID:-//Regionieuws Hoogeveen - ECPv6.15.18//NONSGML v1.0//EN
CALSCALE:GREGORIAN
METHOD:PUBLISH
X-WR-CALNAME:Regionieuws Hoogeveen
X-ORIGINAL-URL:https://regionieuwshoogeveen.nl
X-WR-CALDESC:Evenementen voor Regionieuws Hoogeveen
REFRESH-INTERVAL;VALUE=DURATION:PT1H
X-Robots-Tag:noindex
X-PUBLISHED-TTL:PT1H
BEGIN:VTIMEZONE
TZID:Europe/Amsterdam
BEGIN:DAYLIGHT
TZOFFSETFROM:+0100
TZOFFSETTO:+0200
TZNAME:CEST
DTSTART:20240331T010000
END:DAYLIGHT
BEGIN:STANDARD
TZOFFSETFROM:+0200
TZOFFSETTO:+0100
TZNAME:CET
DTSTART:20241027T010000
END:STANDARD
BEGIN:DAYLIGHT
TZOFFSETFROM:+0100
TZOFFSETTO:+0200
TZNAME:CEST
DTSTART:20250330T010000
END:DAYLIGHT
BEGIN:STANDARD
TZOFFSETFROM:+0200
TZOFFSETTO:+0100
TZNAME:CET
DTSTART:20251026T010000
END:STANDARD
BEGIN:DAYLIGHT
TZOFFSETFROM:+0100
TZOFFSETTO:+0200
TZNAME:CEST
DTSTART:20260329T010000
END:DAYLIGHT
BEGIN:STANDARD
TZOFFSETFROM:+0200
TZOFFSETTO:+0100
TZNAME:CET
DTSTART:20261025T010000
END:STANDARD
END:VTIMEZONE
BEGIN:VEVENT
DTSTART;TZID=Europe/Amsterdam:20251027T193000
DTEND;TZID=Europe/Amsterdam:20251027T210000
DTSTAMP:20260422T092748
CREATED:20251016T063146Z
LAST-MODIFIED:20251016T063146Z
UID:113389-1761593400-1761598800@regionieuwshoogeveen.nl
SUMMARY:Workshop Hoe richt je een taaloefenmoment zo praktisch mogelijk in?
DESCRIPTION:Na het succesvolle vrijwilligerscollege ‘Nederlands leren als tweede taal: wat jij als vrijwilliger moet weten’ volgt nu een praktisch vervolg: hoe richt je een taaloefenmoment zo praktisch mogelijk in. Deze workshop op 27 oktober as. is bedoeld voor kletscontacten\, taalmaatjes en vrijwilligers van taalcafés\, praatcafés en taaloefenplekken; kortom voor iedereen die anderstaligen helpt bij het oefenen van de Nederlandse taal. Ook wie de eerste workshop gemist heeft\, het is de moeite waard om mee te doen. \n  \nTijdens de bijeenkomst worden praktische tips\, inspiratie en concrete voorbeelden gedeeld om taalafspraken effectief én leuk te maken. Je leert hoe je structuur aanbrengt in je gesprekken: hoe begin je\, wat doe je en hoe sluit je af? \n  \nDe workshop wordt gegeven door Annet Hofstra van het Taalhuis Hoogeveen op maandag 27 oktober 2025\, van 19.30 tot 21.00 uur in de Bibliotheek Hoogeveen\, Willemskade 27. \nDeelname is gratis. Meld je aan voor 22 oktober via www.vrijwilligershoogeveen.nl/colleges of bel naar 0528 278 855 (receptie SWW).sww
URL:https://regionieuwshoogeveen.nl/evenement/workshop-hoe-richt-je-een-taaloefenmoment-zo-praktisch-mogelijk-in/
ATTACH;FMTTYPE=image/jpeg:https://regionieuwshoogeveen.nl/wp-content/uploads/2024/03/bibliotheek.jpg
END:VEVENT
END:VCALENDAR