BEGIN:VCALENDAR
VERSION:2.0
PRODID:-//Regionieuws Hoogeveen - ECPv6.15.18//NONSGML v1.0//EN
CALSCALE:GREGORIAN
METHOD:PUBLISH
X-WR-CALNAME:Regionieuws Hoogeveen
X-ORIGINAL-URL:https://regionieuwshoogeveen.nl
X-WR-CALDESC:Evenementen voor Regionieuws Hoogeveen
REFRESH-INTERVAL;VALUE=DURATION:PT1H
X-Robots-Tag:noindex
X-PUBLISHED-TTL:PT1H
BEGIN:VTIMEZONE
TZID:Europe/Amsterdam
BEGIN:DAYLIGHT
TZOFFSETFROM:+0100
TZOFFSETTO:+0200
TZNAME:CEST
DTSTART:20240331T010000
END:DAYLIGHT
BEGIN:STANDARD
TZOFFSETFROM:+0200
TZOFFSETTO:+0100
TZNAME:CET
DTSTART:20241027T010000
END:STANDARD
BEGIN:DAYLIGHT
TZOFFSETFROM:+0100
TZOFFSETTO:+0200
TZNAME:CEST
DTSTART:20250330T010000
END:DAYLIGHT
BEGIN:STANDARD
TZOFFSETFROM:+0200
TZOFFSETTO:+0100
TZNAME:CET
DTSTART:20251026T010000
END:STANDARD
BEGIN:DAYLIGHT
TZOFFSETFROM:+0100
TZOFFSETTO:+0200
TZNAME:CEST
DTSTART:20260329T010000
END:DAYLIGHT
BEGIN:STANDARD
TZOFFSETFROM:+0200
TZOFFSETTO:+0100
TZNAME:CET
DTSTART:20261025T010000
END:STANDARD
END:VTIMEZONE
BEGIN:VEVENT
DTSTART;TZID=Europe/Amsterdam:20250617T193000
DTEND;TZID=Europe/Amsterdam:20250617T210000
DTSTAMP:20260424T113747
CREATED:20250605T114405Z
LAST-MODIFIED:20250605T114405Z
UID:108806-1750188600-1750194000@regionieuwshoogeveen.nl
SUMMARY:Vrijwilligerscollege: Wat weet jij van culturen in het Midden-Oosten?
DESCRIPTION:In Hoogeveen wonen steeds meer mensen die afkomstig zijn uit andere landen. Soms zijn ze hier vrijwillig naartoe gekomen\, soms noodgedwongen. Wat we vaak merken\, is dat cultuurverschillen en taal het contact soms lastig maken. Tegelijkertijd hebben we vaak meer met elkaar gemeen dan we denken. \n  \nDaarom organiseren we op dinsdag 17 juni een voorlichting over culturen in het Midden-Oosten. Tijdens deze bijeenkomst stellen enkele sprekers zich voor en vertellen zij over hun land en achtergrond\, de waarden en normen die ze belangrijk vinden\, hoe het dagelijks leven eruitziet en welke gebruiken daarbij horen. Ook gaan ze in op hoe communicatie verloopt\, welke cultuurverschillen en misverstanden er kunnen zijn en delen ze praktische weetjes die helpen om elkaar beter te begrijpen. \n  \nEen mooie kans om meer te leren over elkaars achtergrond en om de verbinding met elkaar te versterken. Interessant voor iedereen die graag meer te weten wil komen over welke cultuurverschillen er zijn. Ook als u niet vrijwillig actief bent\, maar wel belangstelling hebt\, bent u van harte welkom. \n  \nDe bijeenkomst vindt plaats op dinsdag 17 juni van 19.30 tot 21.00 uur in het AZC Hoogeveen\, Kinholtsweg 7. Aanmelden voor deelname graag voor 12 juni\, via mail naar vc@vrijwilligershoogeveen.nl of telefonisch via 0528 278 855 (receptie SWW).
URL:https://regionieuwshoogeveen.nl/evenement/vrijwilligerscollege-wat-weet-jij-van-culturen-in-het-midden-oosten/
ATTACH;FMTTYPE=image/png:https://regionieuwshoogeveen.nl/wp-content/uploads/2024/05/vrijwilligerscollege-1.png
END:VEVENT
END:VCALENDAR