BEGIN:VCALENDAR
VERSION:2.0
PRODID:-//Regionieuws Hoogeveen - ECPv6.15.18//NONSGML v1.0//EN
CALSCALE:GREGORIAN
METHOD:PUBLISH
X-WR-CALNAME:Regionieuws Hoogeveen
X-ORIGINAL-URL:https://regionieuwshoogeveen.nl
X-WR-CALDESC:Evenementen voor Regionieuws Hoogeveen
REFRESH-INTERVAL;VALUE=DURATION:PT1H
X-Robots-Tag:noindex
X-PUBLISHED-TTL:PT1H
BEGIN:VTIMEZONE
TZID:Europe/Amsterdam
BEGIN:DAYLIGHT
TZOFFSETFROM:+0100
TZOFFSETTO:+0200
TZNAME:CEST
DTSTART:20240331T010000
END:DAYLIGHT
BEGIN:STANDARD
TZOFFSETFROM:+0200
TZOFFSETTO:+0100
TZNAME:CET
DTSTART:20241027T010000
END:STANDARD
BEGIN:DAYLIGHT
TZOFFSETFROM:+0100
TZOFFSETTO:+0200
TZNAME:CEST
DTSTART:20250330T010000
END:DAYLIGHT
BEGIN:STANDARD
TZOFFSETFROM:+0200
TZOFFSETTO:+0100
TZNAME:CET
DTSTART:20251026T010000
END:STANDARD
BEGIN:DAYLIGHT
TZOFFSETFROM:+0100
TZOFFSETTO:+0200
TZNAME:CEST
DTSTART:20260329T010000
END:DAYLIGHT
BEGIN:STANDARD
TZOFFSETFROM:+0200
TZOFFSETTO:+0100
TZNAME:CET
DTSTART:20261025T010000
END:STANDARD
END:VTIMEZONE
BEGIN:VEVENT
DTSTART;TZID=Europe/Amsterdam:20251026T020000
DTEND;TZID=Europe/Amsterdam:20251026T030000
DTSTAMP:20260422T093531
CREATED:20251017T174236Z
LAST-MODIFIED:20251017T174236Z
UID:113435-1761444000-1761447600@regionieuwshoogeveen.nl
SUMMARY:Tiedkwietloop: wandelen en hardlopen in de nacht
DESCRIPTION:n de nacht van zaterdag 25 oktober op zondag 26 oktober wordt in Hoogeveen weer de Tiedkwietloop gehouden. De Tiedkwietloop is een Fun Run en wordt georganiseerd door loopgroep Enjoy Running. Coach Jetty van Achteren: “Het bijzondere aan de Tiedkwietloop is dat je een hele snelle tijd kunt neerzetten. Je start om twee uur ‘s nachts. Om drie uur ’s nachts wordt de klok een uur terug gezet. Wanneer je daarna over de finish komt heb je vast een nieuw PR gelopen op jouw afstand.” \nJe kunt kiezen uit een afstand van 6\,1 km wandelen of 11\,1 km of 16\,1 km hardlopen. De Tiedkwietloop vindt plaats in het Zuiderpark van Hoogeveen. De start is ter hoogte van de speeltuin. Hier is ook de finish. \nVerlichting en reflectie is tijdens deze nachtelijke loop verplicht. Coach Dik Zantingh: “Wij hopen dat dit mooie plaatjes zal opleveren in donker Hoogeveen. Voor elke deelnemer is er een unieke herinnering. En voor de mooist verklede / verlichte hardloper en wandelaar is er ook een prijs.” \nJe kunt je tot en met zaterdag 25 oktober 2025 inschrijven voor dit evenement. Inschrijven kan via inschrijven.nl. Een deel van de opbrengst gaat naar KiKa. \nVoor meer informatie over de Tiedkwietloop kan je terecht op de website enjoyrunning.nl.
URL:https://regionieuwshoogeveen.nl/evenement/tiedkwietloop-wandelen-en-hardlopen-in-de-nacht/
ATTACH;FMTTYPE=image/jpeg:https://regionieuwshoogeveen.nl/wp-content/uploads/2025/10/tied-kwiet.jpg
END:VEVENT
END:VCALENDAR