BEGIN:VCALENDAR
VERSION:2.0
PRODID:-//Regionieuws Hoogeveen - ECPv6.15.18//NONSGML v1.0//EN
CALSCALE:GREGORIAN
METHOD:PUBLISH
X-WR-CALNAME:Regionieuws Hoogeveen
X-ORIGINAL-URL:https://regionieuwshoogeveen.nl
X-WR-CALDESC:Evenementen voor Regionieuws Hoogeveen
REFRESH-INTERVAL;VALUE=DURATION:PT1H
X-Robots-Tag:noindex
X-PUBLISHED-TTL:PT1H
BEGIN:VTIMEZONE
TZID:Europe/Amsterdam
BEGIN:DAYLIGHT
TZOFFSETFROM:+0100
TZOFFSETTO:+0200
TZNAME:CEST
DTSTART:20240331T010000
END:DAYLIGHT
BEGIN:STANDARD
TZOFFSETFROM:+0200
TZOFFSETTO:+0100
TZNAME:CET
DTSTART:20241027T010000
END:STANDARD
BEGIN:DAYLIGHT
TZOFFSETFROM:+0100
TZOFFSETTO:+0200
TZNAME:CEST
DTSTART:20250330T010000
END:DAYLIGHT
BEGIN:STANDARD
TZOFFSETFROM:+0200
TZOFFSETTO:+0100
TZNAME:CET
DTSTART:20251026T010000
END:STANDARD
BEGIN:DAYLIGHT
TZOFFSETFROM:+0100
TZOFFSETTO:+0200
TZNAME:CEST
DTSTART:20260329T010000
END:DAYLIGHT
BEGIN:STANDARD
TZOFFSETFROM:+0200
TZOFFSETTO:+0100
TZNAME:CET
DTSTART:20261025T010000
END:STANDARD
END:VTIMEZONE
BEGIN:VEVENT
DTSTART;TZID=Europe/Amsterdam:20250906T140000
DTEND;TZID=Europe/Amsterdam:20250906T160000
DTSTAMP:20260422T155547
CREATED:20250830T162418Z
LAST-MODIFIED:20250830T162418Z
UID:111951-1757167200-1757174400@regionieuwshoogeveen.nl
SUMMARY:Theater in het bos
DESCRIPTION:Theater in het Bos op zaterdagmiddag 6 september.\n\n\nBlok 1 – 14.00 uur – zit voorlopig vol.\n\n\nGaan nu eerst de andere 2 blokken vol maken.\n\n\nGeef je op voor 14.45 of 15.30 uur bij Paula Benjamins-Terpstra\n\n\nGraag doorgeven hoeveel kinderen en begeleiding.\n\n\nHet belooft weer een mooie voorstelling te worden.
URL:https://regionieuwshoogeveen.nl/evenement/theater-in-het-bos/
ATTACH;FMTTYPE=image/jpeg:https://regionieuwshoogeveen.nl/wp-content/uploads/2025/08/mendi-in-bos-65-scaled.jpg
END:VEVENT
END:VCALENDAR