BEGIN:VCALENDAR
VERSION:2.0
PRODID:-//Regionieuws Hoogeveen - ECPv6.15.18//NONSGML v1.0//EN
CALSCALE:GREGORIAN
METHOD:PUBLISH
X-WR-CALNAME:Regionieuws Hoogeveen
X-ORIGINAL-URL:https://regionieuwshoogeveen.nl
X-WR-CALDESC:Evenementen voor Regionieuws Hoogeveen
REFRESH-INTERVAL;VALUE=DURATION:PT1H
X-Robots-Tag:noindex
X-PUBLISHED-TTL:PT1H
BEGIN:VTIMEZONE
TZID:Europe/Amsterdam
BEGIN:DAYLIGHT
TZOFFSETFROM:+0100
TZOFFSETTO:+0200
TZNAME:CEST
DTSTART:20240331T010000
END:DAYLIGHT
BEGIN:STANDARD
TZOFFSETFROM:+0200
TZOFFSETTO:+0100
TZNAME:CET
DTSTART:20241027T010000
END:STANDARD
BEGIN:DAYLIGHT
TZOFFSETFROM:+0100
TZOFFSETTO:+0200
TZNAME:CEST
DTSTART:20250330T010000
END:DAYLIGHT
BEGIN:STANDARD
TZOFFSETFROM:+0200
TZOFFSETTO:+0100
TZNAME:CET
DTSTART:20251026T010000
END:STANDARD
BEGIN:DAYLIGHT
TZOFFSETFROM:+0100
TZOFFSETTO:+0200
TZNAME:CEST
DTSTART:20260329T010000
END:DAYLIGHT
BEGIN:STANDARD
TZOFFSETFROM:+0200
TZOFFSETTO:+0100
TZNAME:CET
DTSTART:20261025T010000
END:STANDARD
END:VTIMEZONE
BEGIN:VEVENT
DTSTART;TZID=Europe/Amsterdam:20251007T190000
DTEND;TZID=Europe/Amsterdam:20251007T203000
DTSTAMP:20260422T112010
CREATED:20251005T163431Z
LAST-MODIFIED:20251005T163431Z
UID:113070-1759863600-1759869000@regionieuwshoogeveen.nl
SUMMARY:PRESENTATIE OVER HET VERZET IN HOOGEVEEN EN OMSTREKEN
DESCRIPTION:We vieren dit jaar 80-jaar bevrijding. Deze bevrijding werd voorafgegaan door jarenlang verzet in het District Hoogeveen van de Landelijke Organisatie voor Hulp aan Onderduikers. Wie waren dat\, de verzetsmensen? En waren er meer organisaties in verzet? Albert Metselaar heeft jarenlang onderzoek gedaan en baseert zijn uitspraken op verklaringen van de verzetsmensen zelf. Interviews die nu\, voor het eerst sinds 80 jaar\, volledig openbaar zijn\, maar weinig zijn gebruikt. Hij zal ons meenemen in een overzicht over het ontstaan en het uitbreiden van het verzet. Hij neemt ons ook mee langs de rij met namen van slachtoffers van het verzet. Op vrijdag 17 oktober worden er stolpersteine voor hen gelegd. Kleine herdenkingsstenen\, bij de laatste vrijwillige woonplek. Die zijn er niet alleen voor Joodse slachtoffers van de nazi’s. Dit keer worden ze gelegd voor niet-Joodse slachtoffers. Daarnaast worden de verzetsmensen meegenomen in een groot overzicht\, een erelijst van oorlog en verzet\, waar al jaren aan gewerkt wordt.  Dit wordt de grondslag voor het project Frontlinie\, waarin de hele oorlog in kaart en in beeld wordt gebracht. De regio Hoogeveen blijkt zo uitgebreid actief te zijn geweest\, en er is zo weinig van bekend gebleven\, dat verbazing nu al gegarandeerd is. Niet die ene verzetsman\, niet dat ene dorp\, niet….. ga maar door. Ere wie ere toekomt. En dan blijken er nu al meer dan 1000 namen van verzetsmensen en oorlogslachtoffers bekend te zijn….. \n7 oktober 19.00 uur bibliotheek Hoogeveen
URL:https://regionieuwshoogeveen.nl/evenement/presentatie-over-het-verzet-in-hoogeveen-en-omstreken/
ATTACH;FMTTYPE=image/jpeg:https://regionieuwshoogeveen.nl/wp-content/uploads/2025/10/boek-voorkant-erelijst-oorlog-en-verzet.jpg
END:VEVENT
END:VCALENDAR