BEGIN:VCALENDAR
VERSION:2.0
PRODID:-//Regionieuws Hoogeveen - ECPv6.15.18//NONSGML v1.0//EN
CALSCALE:GREGORIAN
METHOD:PUBLISH
X-WR-CALNAME:Regionieuws Hoogeveen
X-ORIGINAL-URL:https://regionieuwshoogeveen.nl
X-WR-CALDESC:Evenementen voor Regionieuws Hoogeveen
REFRESH-INTERVAL;VALUE=DURATION:PT1H
X-Robots-Tag:noindex
X-PUBLISHED-TTL:PT1H
BEGIN:VTIMEZONE
TZID:Europe/Amsterdam
BEGIN:DAYLIGHT
TZOFFSETFROM:+0100
TZOFFSETTO:+0200
TZNAME:CEST
DTSTART:20240331T010000
END:DAYLIGHT
BEGIN:STANDARD
TZOFFSETFROM:+0200
TZOFFSETTO:+0100
TZNAME:CET
DTSTART:20241027T010000
END:STANDARD
BEGIN:DAYLIGHT
TZOFFSETFROM:+0100
TZOFFSETTO:+0200
TZNAME:CEST
DTSTART:20250330T010000
END:DAYLIGHT
BEGIN:STANDARD
TZOFFSETFROM:+0200
TZOFFSETTO:+0100
TZNAME:CET
DTSTART:20251026T010000
END:STANDARD
BEGIN:DAYLIGHT
TZOFFSETFROM:+0100
TZOFFSETTO:+0200
TZNAME:CEST
DTSTART:20260329T010000
END:DAYLIGHT
BEGIN:STANDARD
TZOFFSETFROM:+0200
TZOFFSETTO:+0100
TZNAME:CET
DTSTART:20261025T010000
END:STANDARD
END:VTIMEZONE
BEGIN:VEVENT
DTSTART;TZID=Europe/Amsterdam:20250815T213000
DTEND;TZID=Europe/Amsterdam:20250816T013000
DTSTAMP:20260422T192335
CREATED:20250706T171537Z
LAST-MODIFIED:20250720T163943Z
UID:109899-1755293400-1755307800@regionieuwshoogeveen.nl
SUMMARY:Piratenavond met Olympia Radio in Nieuweroord
DESCRIPTION:Hou je vast\, want op *vrijdag 15 augustus* barst het feest weer los in de feesttent van Nieuweroord! In samenwerking met *Olympia Radio – 100% Piratenhits* organiseert *The Bronx* een ouderwets gezellige Piratenavond die je absoluut niet wilt missen!\n\n\nVerwacht een avond vol sfeer\, meezingers en echte piratenklassiekers\, gebracht door *diverse artiesten* die de tent gegarandeerd op z’n kop zetten! De artiesten worden in de komende weken bekend gemaakt\, *hou dus de socials in de gaten!*\n\n\n*Waar:* Evenemententerrein Nieuweroord\n tijd:* 21.30 – 01.30 uur\n*Wanneer:* Vrijdag 15 augustus\n\n\n*Tickets:*\nOnline (via QR-code op de poster): *€12\,50*\nOf via deze link: https://the-bronx-nieuweroord.avayo.nl/…/98114-piraten…\nAan de deur: *€15\,-*\n\n\n Scan de QR-code\, scoor je ticket en zorg dat je erbij bent!\n *Luuster moar mit en kom feesten zoals vroeger!*
URL:https://regionieuwshoogeveen.nl/evenement/piratenavond-met-olympia-radio-in-nieuweroord/
ATTACH;FMTTYPE=image/jpeg:https://regionieuwshoogeveen.nl/wp-content/uploads/2025/07/piratenavond-nieuweroord-1.jpg
END:VEVENT
END:VCALENDAR