BEGIN:VCALENDAR
VERSION:2.0
PRODID:-//Regionieuws Hoogeveen - ECPv6.15.18//NONSGML v1.0//EN
CALSCALE:GREGORIAN
METHOD:PUBLISH
X-WR-CALNAME:Regionieuws Hoogeveen
X-ORIGINAL-URL:https://regionieuwshoogeveen.nl
X-WR-CALDESC:Evenementen voor Regionieuws Hoogeveen
REFRESH-INTERVAL;VALUE=DURATION:PT1H
X-Robots-Tag:noindex
X-PUBLISHED-TTL:PT1H
BEGIN:VTIMEZONE
TZID:Europe/Amsterdam
BEGIN:DAYLIGHT
TZOFFSETFROM:+0100
TZOFFSETTO:+0200
TZNAME:CEST
DTSTART:20240331T010000
END:DAYLIGHT
BEGIN:STANDARD
TZOFFSETFROM:+0200
TZOFFSETTO:+0100
TZNAME:CET
DTSTART:20241027T010000
END:STANDARD
BEGIN:DAYLIGHT
TZOFFSETFROM:+0100
TZOFFSETTO:+0200
TZNAME:CEST
DTSTART:20250330T010000
END:DAYLIGHT
BEGIN:STANDARD
TZOFFSETFROM:+0200
TZOFFSETTO:+0100
TZNAME:CET
DTSTART:20251026T010000
END:STANDARD
BEGIN:DAYLIGHT
TZOFFSETFROM:+0100
TZOFFSETTO:+0200
TZNAME:CEST
DTSTART:20260329T010000
END:DAYLIGHT
BEGIN:STANDARD
TZOFFSETFROM:+0200
TZOFFSETTO:+0100
TZNAME:CET
DTSTART:20261025T010000
END:STANDARD
END:VTIMEZONE
BEGIN:VEVENT
DTSTART;TZID=Europe/Amsterdam:20250621T130000
DTEND;TZID=Europe/Amsterdam:20250621T160000
DTSTAMP:20260424T094115
CREATED:20250616T084624Z
LAST-MODIFIED:20250616T084624Z
UID:109139-1750510800-1750521600@regionieuwshoogeveen.nl
SUMMARY:Open Dag Kunstenkorf
DESCRIPTION:Kom kennismaken met muziek\, dans en theater bij Kunstenkorf\, Markt 5 Hoogeveen.\nOp zaterdag 21 juni 2025 opent Kunstenkorf haar deuren voor een open dag vol creatieve mogelijkheden. Tussen 13.00 en 16.00 uur ben je van harte welkom aan Markt 5 in Hoogeveen om kennis te maken met het lesaanbod in muziek\, dans en improvisatietheater. \nJe kunt instrumenten uitproberen\, vragen stellen aan docenten en ontdekken welke lessen bij je passen. Speciaal voor kinderen is er een leuke muzikale speurtocht. \nDe open dag is onderdeel van de Maand van de Amateurkunst en is gratis toegankelijk voor alle leeftijden. \nMeer informatie: www.kunstenkorf.nl \n 
URL:https://regionieuwshoogeveen.nl/evenement/open-dag-kunstenkorf/
LOCATION:Kunstenkorf\, Markt 5\, Hoogeveen\, Drenthe\, 7902BK\, Netherlands
ATTACH;FMTTYPE=image/png:https://regionieuwshoogeveen.nl/wp-content/uploads/2025/06/Kunstenkorf-logo-wit-klein2.png
END:VEVENT
END:VCALENDAR