BEGIN:VCALENDAR
VERSION:2.0
PRODID:-//Regionieuws Hoogeveen - ECPv6.15.18//NONSGML v1.0//EN
CALSCALE:GREGORIAN
METHOD:PUBLISH
X-WR-CALNAME:Regionieuws Hoogeveen
X-ORIGINAL-URL:https://regionieuwshoogeveen.nl
X-WR-CALDESC:Evenementen voor Regionieuws Hoogeveen
REFRESH-INTERVAL;VALUE=DURATION:PT1H
X-Robots-Tag:noindex
X-PUBLISHED-TTL:PT1H
BEGIN:VTIMEZONE
TZID:Europe/Amsterdam
BEGIN:DAYLIGHT
TZOFFSETFROM:+0100
TZOFFSETTO:+0200
TZNAME:CEST
DTSTART:20250330T010000
END:DAYLIGHT
BEGIN:STANDARD
TZOFFSETFROM:+0200
TZOFFSETTO:+0100
TZNAME:CET
DTSTART:20251026T010000
END:STANDARD
BEGIN:DAYLIGHT
TZOFFSETFROM:+0100
TZOFFSETTO:+0200
TZNAME:CEST
DTSTART:20260329T010000
END:DAYLIGHT
BEGIN:STANDARD
TZOFFSETFROM:+0200
TZOFFSETTO:+0100
TZNAME:CET
DTSTART:20261025T010000
END:STANDARD
BEGIN:DAYLIGHT
TZOFFSETFROM:+0100
TZOFFSETTO:+0200
TZNAME:CEST
DTSTART:20270328T010000
END:DAYLIGHT
BEGIN:STANDARD
TZOFFSETFROM:+0200
TZOFFSETTO:+0100
TZNAME:CET
DTSTART:20271031T010000
END:STANDARD
END:VTIMEZONE
BEGIN:VEVENT
DTSTART;TZID=Europe/Amsterdam:20260117T200000
DTEND;TZID=Europe/Amsterdam:20260117T233000
DTSTAMP:20260423T123846
CREATED:20260102T173636Z
LAST-MODIFIED:20260113T175101Z
UID:114520-1768680000-1768692600@regionieuwshoogeveen.nl
SUMMARY:Op zaterdag 17 januari komen de Gearboxes weer naar ’t Anker
DESCRIPTION:Op zaterdag 17 januari komen de Gearboxes weer naar ’t Anker. De viermansformatie komt uit Noordscheschut en omstreken. De inspiratie van deze band komt voornamelijk van muziek uit de jaren 60 en 70. The Beatles\, The Rolling Stones\, The Eagles \, maar ook Crowded House en de Staycats. Naar aanleiding van het optreden van vorig jaar was er vraag naar meer bekende en vlotte nummers. De mannen van de Gearboxes hebben beloofd deze vraag te zullen honoreren. De zaal zal worden ingericht in café-opstelling en er zal een ruimte worden vrijgehouden voor dansliefhebbers. The Gearboxes hebben er heel veel zin in! Kaartjes à 10 euro verkrijgbaar bij ’t Anker. \nFoto: Eigen foto
URL:https://regionieuwshoogeveen.nl/evenement/op-zaterdag-17-januari-komen-de-gearboxes-weer-naar-t-anker/
ATTACH;FMTTYPE=image/jpeg:https://regionieuwshoogeveen.nl/wp-content/uploads/2025/11/23.-ANKER-Gearboxes-2.jpg
END:VEVENT
END:VCALENDAR