BEGIN:VCALENDAR
VERSION:2.0
PRODID:-//Regionieuws Hoogeveen - ECPv6.15.18//NONSGML v1.0//EN
CALSCALE:GREGORIAN
METHOD:PUBLISH
X-WR-CALNAME:Regionieuws Hoogeveen
X-ORIGINAL-URL:https://regionieuwshoogeveen.nl
X-WR-CALDESC:Evenementen voor Regionieuws Hoogeveen
REFRESH-INTERVAL;VALUE=DURATION:PT1H
X-Robots-Tag:noindex
X-PUBLISHED-TTL:PT1H
BEGIN:VTIMEZONE
TZID:Europe/Amsterdam
BEGIN:DAYLIGHT
TZOFFSETFROM:+0100
TZOFFSETTO:+0200
TZNAME:CEST
DTSTART:20250330T010000
END:DAYLIGHT
BEGIN:STANDARD
TZOFFSETFROM:+0200
TZOFFSETTO:+0100
TZNAME:CET
DTSTART:20251026T010000
END:STANDARD
BEGIN:DAYLIGHT
TZOFFSETFROM:+0100
TZOFFSETTO:+0200
TZNAME:CEST
DTSTART:20260329T010000
END:DAYLIGHT
BEGIN:STANDARD
TZOFFSETFROM:+0200
TZOFFSETTO:+0100
TZNAME:CET
DTSTART:20261025T010000
END:STANDARD
BEGIN:DAYLIGHT
TZOFFSETFROM:+0100
TZOFFSETTO:+0200
TZNAME:CEST
DTSTART:20270328T010000
END:DAYLIGHT
BEGIN:STANDARD
TZOFFSETFROM:+0200
TZOFFSETTO:+0100
TZNAME:CET
DTSTART:20271031T010000
END:STANDARD
END:VTIMEZONE
BEGIN:VEVENT
DTSTART;TZID=Europe/Amsterdam:20260109T080000
DTEND;TZID=Europe/Amsterdam:20260109T170000
DTSTAMP:20260421T142739
CREATED:20260109T173111Z
LAST-MODIFIED:20260109T173111Z
UID:115873-1767945600-1767978000@regionieuwshoogeveen.nl
SUMMARY:Nieuwe uitnodiging nieuwjaarsbijeenkomst: 'meet&greet'26'
DESCRIPTION:Nieuwe uitnodiging nieuwjaarsbijeenkomst: ‘meet&greet’26’. \n\n\n\n\n\n\n\n\n\n\n\n\nIedereen van harte welkom.\nWel even aanmelden via deze link: https://detamboer.nl/programma/nieuwjaarsbijeenkomst-2026\nof scan de QR-code. Graag tot ziens!
URL:https://regionieuwshoogeveen.nl/evenement/nieuwe-uitnodiging-nieuwjaarsbijeenkomst-meetgreet26/
ATTACH;FMTTYPE=image/jpeg:https://regionieuwshoogeveen.nl/wp-content/uploads/2026/01/eeee.jpg
END:VEVENT
END:VCALENDAR