BEGIN:VCALENDAR
VERSION:2.0
PRODID:-//Regionieuws Hoogeveen - ECPv6.15.18//NONSGML v1.0//EN
CALSCALE:GREGORIAN
METHOD:PUBLISH
X-WR-CALNAME:Regionieuws Hoogeveen
X-ORIGINAL-URL:https://regionieuwshoogeveen.nl
X-WR-CALDESC:Evenementen voor Regionieuws Hoogeveen
REFRESH-INTERVAL;VALUE=DURATION:PT1H
X-Robots-Tag:noindex
X-PUBLISHED-TTL:PT1H
BEGIN:VTIMEZONE
TZID:Europe/Amsterdam
BEGIN:DAYLIGHT
TZOFFSETFROM:+0100
TZOFFSETTO:+0200
TZNAME:CEST
DTSTART:20250330T010000
END:DAYLIGHT
BEGIN:STANDARD
TZOFFSETFROM:+0200
TZOFFSETTO:+0100
TZNAME:CET
DTSTART:20251026T010000
END:STANDARD
BEGIN:DAYLIGHT
TZOFFSETFROM:+0100
TZOFFSETTO:+0200
TZNAME:CEST
DTSTART:20260329T010000
END:DAYLIGHT
BEGIN:STANDARD
TZOFFSETFROM:+0200
TZOFFSETTO:+0100
TZNAME:CET
DTSTART:20261025T010000
END:STANDARD
BEGIN:DAYLIGHT
TZOFFSETFROM:+0100
TZOFFSETTO:+0200
TZNAME:CEST
DTSTART:20270328T010000
END:DAYLIGHT
BEGIN:STANDARD
TZOFFSETFROM:+0200
TZOFFSETTO:+0100
TZNAME:CET
DTSTART:20271031T010000
END:STANDARD
END:VTIMEZONE
BEGIN:VEVENT
DTSTART;TZID=Europe/Amsterdam:20260427T150000
DTEND;TZID=Europe/Amsterdam:20260427T230000
DTSTAMP:20260423T111527
CREATED:20260410T135102Z
LAST-MODIFIED:20260412T083209Z
UID:118358-1777302000-1777330800@regionieuwshoogeveen.nl
SUMMARY:MC Motorhead Hoogeveen presenteert de band Bad Standing op Koningsdag
DESCRIPTION:Mc Motorhead kent een lange\, gezellige traditie van muziekbands op Koningsdag. \nDit jaar treedt vanaf 15.00 de band Bad Standing op. Een Nederlandse hardrockband die een mooi\, stevig stuk muziek verzorgen. \nDe toegang is geheel gratis. Er is voldoende  parkeerruimte. Voor de kleintjes is er een springkussen. \nVoor vragen neem contact op met : evenementen@mcmotorhead.nl \nZie ook dit filmpje op youtube om alvast een voorproefje te krijgen van Bad Standing \n  \nGraag  tot Koningsdag! \n  \nMC Motorhead \nAchteromsedijk 8e \n  \n 
URL:https://regionieuwshoogeveen.nl/evenement/mc-motorhead-hoogeveen-presenteert-de-band-bad-standing-op-koningsdag/
LOCATION:Achteromsedijk 8e\, Achteromsedijk 8e\, Hoogeveen\, Netherlands
ATTACH;FMTTYPE=image/jpeg:https://regionieuwshoogeveen.nl/wp-content/uploads/2026/04/koningsdagposter.jpg
END:VEVENT
END:VCALENDAR