BEGIN:VCALENDAR
VERSION:2.0
PRODID:-//Regionieuws Hoogeveen - ECPv6.15.18//NONSGML v1.0//EN
CALSCALE:GREGORIAN
METHOD:PUBLISH
X-WR-CALNAME:Regionieuws Hoogeveen
X-ORIGINAL-URL:https://regionieuwshoogeveen.nl
X-WR-CALDESC:Evenementen voor Regionieuws Hoogeveen
REFRESH-INTERVAL;VALUE=DURATION:PT1H
X-Robots-Tag:noindex
X-PUBLISHED-TTL:PT1H
BEGIN:VTIMEZONE
TZID:Europe/Amsterdam
BEGIN:DAYLIGHT
TZOFFSETFROM:+0100
TZOFFSETTO:+0200
TZNAME:CEST
DTSTART:20250330T010000
END:DAYLIGHT
BEGIN:STANDARD
TZOFFSETFROM:+0200
TZOFFSETTO:+0100
TZNAME:CET
DTSTART:20251026T010000
END:STANDARD
BEGIN:DAYLIGHT
TZOFFSETFROM:+0100
TZOFFSETTO:+0200
TZNAME:CEST
DTSTART:20260329T010000
END:DAYLIGHT
BEGIN:STANDARD
TZOFFSETFROM:+0200
TZOFFSETTO:+0100
TZNAME:CET
DTSTART:20261025T010000
END:STANDARD
BEGIN:DAYLIGHT
TZOFFSETFROM:+0100
TZOFFSETTO:+0200
TZNAME:CEST
DTSTART:20270328T010000
END:DAYLIGHT
BEGIN:STANDARD
TZOFFSETFROM:+0200
TZOFFSETTO:+0100
TZNAME:CET
DTSTART:20271031T010000
END:STANDARD
END:VTIMEZONE
BEGIN:VEVENT
DTSTART;TZID=Europe/Amsterdam:20260509T093000
DTEND;TZID=Europe/Amsterdam:20260509T140000
DTSTAMP:20260421T102500
CREATED:20260312T182153Z
LAST-MODIFIED:20260311T182430Z
UID:117520-1778319000-1778335200@regionieuwshoogeveen.nl
SUMMARY:Marktdag Ontmoetingskerk Pesse
DESCRIPTION:Jaarlijkse marktdag rondom de Ontmoetingskerk in Pesse met kraamverkoop\, verloting\, catering\, kinderhoek.\nVoor elk wat wils.
URL:https://regionieuwshoogeveen.nl/evenement/marktdag-ontmoetingskerk-pesse/
ATTACH;FMTTYPE=image/jpeg:https://regionieuwshoogeveen.nl/wp-content/uploads/2026/03/1Poster-markt-2026-8c42fe0793a3721c1c21414ea8ce3c56.jpg
END:VEVENT
END:VCALENDAR