BEGIN:VCALENDAR
VERSION:2.0
PRODID:-//Regionieuws Hoogeveen - ECPv6.15.18//NONSGML v1.0//EN
CALSCALE:GREGORIAN
METHOD:PUBLISH
X-WR-CALNAME:Regionieuws Hoogeveen
X-ORIGINAL-URL:https://regionieuwshoogeveen.nl
X-WR-CALDESC:Evenementen voor Regionieuws Hoogeveen
REFRESH-INTERVAL;VALUE=DURATION:PT1H
X-Robots-Tag:noindex
X-PUBLISHED-TTL:PT1H
BEGIN:VTIMEZONE
TZID:Europe/Amsterdam
BEGIN:DAYLIGHT
TZOFFSETFROM:+0100
TZOFFSETTO:+0200
TZNAME:CEST
DTSTART:20240331T010000
END:DAYLIGHT
BEGIN:STANDARD
TZOFFSETFROM:+0200
TZOFFSETTO:+0100
TZNAME:CET
DTSTART:20241027T010000
END:STANDARD
BEGIN:DAYLIGHT
TZOFFSETFROM:+0100
TZOFFSETTO:+0200
TZNAME:CEST
DTSTART:20250330T010000
END:DAYLIGHT
BEGIN:STANDARD
TZOFFSETFROM:+0200
TZOFFSETTO:+0100
TZNAME:CET
DTSTART:20251026T010000
END:STANDARD
BEGIN:DAYLIGHT
TZOFFSETFROM:+0100
TZOFFSETTO:+0200
TZNAME:CEST
DTSTART:20260329T010000
END:DAYLIGHT
BEGIN:STANDARD
TZOFFSETFROM:+0200
TZOFFSETTO:+0100
TZNAME:CET
DTSTART:20261025T010000
END:STANDARD
END:VTIMEZONE
BEGIN:VEVENT
DTSTART;TZID=Europe/Amsterdam:20250614T100000
DTEND;TZID=Europe/Amsterdam:20250614T170000
DTSTAMP:20260424T113432
CREATED:20250609T164553Z
LAST-MODIFIED:20250609T164553Z
UID:108937-1749895200-1749920400@regionieuwshoogeveen.nl
SUMMARY:Magische Beurs Hoogeveen – Ontdek\, Beleef en Voel het Zelf op 14 juni 2025
DESCRIPTION:Magische Beurs Hoogeveen – Ontdek\, Beleef en Voel het Zelf op 14 juni 2025\nOp zaterdag 14 juni 2025 vindt in Hoogeveen een bijzondere editie plaats van de Magische Beurs – een inspirerende spirituele en paranormale beurs voor jong en oud. Van 10:00 tot 17:00 uur opent het DES gebouw aan de Albert Steenbergenstraat 44 haar deuren voor bezoekers die op zoek zijn naar verdieping\, verbinding\, inzichten en bijzondere ervaringen. \nWat kun je verwachten?\nTijdens deze sfeervolle dag kun je rekenen op een gevarieerd en verrassend programma. Laat je verrassen\, verwonderen en vooral: voel en beleef het zelf! \nPersoonlijke consulten & spirituele inzichten\nOntmoet ervaren professionals zoals mediums\, astrologen\, kaartleggers\, numerologen\, paragnosten\, lifecoaches en personal coaches. Zij staan klaar voor een persoonlijk consult op maat – al vanaf €15\,- tot maximaal €25\,-. \nShop & snuffel\nOp zoek naar een bijzonder cadeau of spirituele schatten? De beurs biedt een uitgebreide markt met spirituele artikelen\, sieraden\, edelstenen\, boeken\, oosterse producten en veel meer. \nBuitenbeurs vol creativiteit\nNaast de binnenbeurs is er ook een gezellige buitenmarkt met ambachtelijke producten\, creatieve hobbyisten markt. \nProef de sfeer\nLaat je zintuigen prikkelen met heerlijke oosterse hapjes\, kruiden en smaken uit verre windstreken. (Let op: aanbod afhankelijk van beschikbare ruimte en standhouders.) \nGratis lezingen & demonstraties\nDe hele dag door zijn er inspirerende\, gratis bij te wonen lezingen en demonstraties. Denk aan fotoreading\, mediumschap\, de helende kracht van water en het contact met overleden dierbaren. \nPraktische informatie:\nMagische Beurs Hoogeveen\nDatum: Zaterdag 14 juni 2025\nTijd: 10:00 – 17:00 uur\nLocatie: In en om het DES gebouw\, Albert Steenbergenstraat 44\, 7906 BG Hoogeveen\nToegangsprijs: €5\,00 aan de kassa | Kinderen t/m 12 jaar: gratis\nMeer dan 30 standhouders! \nKom langs en laat je verrassen door de magie van deze unieke beurs in Hoogeveen. Voel je welkom voor een dag vol inspiratie\, verbinding en beleving!
URL:https://regionieuwshoogeveen.nl/evenement/magische-beurs-hoogeveen-ontdek-beleef-en-voel-het-zelf-op-14-juni-2025/
ATTACH;FMTTYPE=image/png:https://regionieuwshoogeveen.nl/wp-content/uploads/2024/09/cropped-magische-beurs-klein-logo.png
END:VEVENT
END:VCALENDAR