BEGIN:VCALENDAR
VERSION:2.0
PRODID:-//Regionieuws Hoogeveen - ECPv6.15.18//NONSGML v1.0//EN
CALSCALE:GREGORIAN
METHOD:PUBLISH
X-WR-CALNAME:Regionieuws Hoogeveen
X-ORIGINAL-URL:https://regionieuwshoogeveen.nl
X-WR-CALDESC:Evenementen voor Regionieuws Hoogeveen
REFRESH-INTERVAL;VALUE=DURATION:PT1H
X-Robots-Tag:noindex
X-PUBLISHED-TTL:PT1H
BEGIN:VTIMEZONE
TZID:Europe/Amsterdam
BEGIN:DAYLIGHT
TZOFFSETFROM:+0100
TZOFFSETTO:+0200
TZNAME:CEST
DTSTART:20250330T010000
END:DAYLIGHT
BEGIN:STANDARD
TZOFFSETFROM:+0200
TZOFFSETTO:+0100
TZNAME:CET
DTSTART:20251026T010000
END:STANDARD
BEGIN:DAYLIGHT
TZOFFSETFROM:+0100
TZOFFSETTO:+0200
TZNAME:CEST
DTSTART:20260329T010000
END:DAYLIGHT
BEGIN:STANDARD
TZOFFSETFROM:+0200
TZOFFSETTO:+0100
TZNAME:CET
DTSTART:20261025T010000
END:STANDARD
BEGIN:DAYLIGHT
TZOFFSETFROM:+0100
TZOFFSETTO:+0200
TZNAME:CEST
DTSTART:20270328T010000
END:DAYLIGHT
BEGIN:STANDARD
TZOFFSETFROM:+0200
TZOFFSETTO:+0100
TZNAME:CET
DTSTART:20271031T010000
END:STANDARD
END:VTIMEZONE
BEGIN:VEVENT
DTSTART;TZID=Europe/Amsterdam:20260105T080000
DTEND;TZID=Europe/Amsterdam:20260105T170000
DTSTAMP:20260421T140927
CREATED:20260105T132243Z
LAST-MODIFIED:20260105T132243Z
UID:115743-1767600000-1767632400@regionieuwshoogeveen.nl
SUMMARY:Line-up muziek achter de voordeur compleet!
DESCRIPTION:Muziek Achter de Voordeur\, een benefietfestival ten bate van het Toon Hermans Huis Drenthe brengt op 1 februari 2026 livemuziek naar huiskamers in Hoogeveen \nOp zondag 1 februari 2026 verandert het centrum van Hoogeveen opnieuw in een bruisend muzikaal decor tijdens de zesde editie van Muziek Achter de Voordeur. Tussen 14.00 en 17.00 uur kunnen bezoekers genieten van livemuziek op meer dan vijftien bijzondere locaties\, variërend van knusse huiskamers tot karakteristieke winkels. \nTijdens het festival spelen twintig acts in een intieme setting hun repertoire\, dat varieert van jazz en blues tot rock en pop en nog veel meer. Het publiek zit letterlijk dicht op de muziek – soms zelfs tussen de muzikanten – waardoor een unieke\, persoonlijke concertervaring ontstaat. De definitieve line-up ziet er als volgt uit: 4-en\, Bloom\, Carte Blanche\, Circum\, Duosonic\, The GearBoxes\, karakteR\, Klets\, Marius Klein\, Maud Schoonheim\, MT Sessions\, Nastasia\, Oak Hill\, de Schorre Morries\, Special Guests en Still Diggin’. \nSpeciale projecten\nNaast deze zestien acts zijn er twee nieuwe samenwerkingen. Samen met AZC Hoogeveen vinden er optredens plaats van vluchtelingen met muzikaal talent en in samenwerking met spoken word-organisatie Het Hooge Woord treden De Woordensmid en Dauwdrift op met poëtische teksten. \nToegang & tickets \n\nVoorverkoop: € 12\,00 + € 1\,60 bespreekkosten per bestelling via https://events.flextickets.nl/event/muziek-achter-de-voordeur\nDeurprijs: € 15\,00\nBezoekers wordt aangeraden tijdig kaarten te reserveren; eerdere edities waren snel uitverkocht.\n\nOrganisatie\nMuziek Achter de Voordeur is een initiatief van Rotary Hoogeveen-De Wolden\, die zich met dit festival inzet voor een muzikaal én maatschappelijk waardevol evenement voor de regio.
URL:https://regionieuwshoogeveen.nl/evenement/line-up-muziek-achter-de-voordeur-compleet/
ATTACH;FMTTYPE=image/jpeg:https://regionieuwshoogeveen.nl/wp-content/uploads/2025/12/muziek-achter-de-voordeur.jpeg
END:VEVENT
END:VCALENDAR