BEGIN:VCALENDAR
VERSION:2.0
PRODID:-//Regionieuws Hoogeveen - ECPv6.15.18//NONSGML v1.0//EN
CALSCALE:GREGORIAN
METHOD:PUBLISH
X-WR-CALNAME:Regionieuws Hoogeveen
X-ORIGINAL-URL:https://regionieuwshoogeveen.nl
X-WR-CALDESC:Evenementen voor Regionieuws Hoogeveen
REFRESH-INTERVAL;VALUE=DURATION:PT1H
X-Robots-Tag:noindex
X-PUBLISHED-TTL:PT1H
BEGIN:VTIMEZONE
TZID:Europe/Amsterdam
BEGIN:DAYLIGHT
TZOFFSETFROM:+0100
TZOFFSETTO:+0200
TZNAME:CEST
DTSTART:20250330T010000
END:DAYLIGHT
BEGIN:STANDARD
TZOFFSETFROM:+0200
TZOFFSETTO:+0100
TZNAME:CET
DTSTART:20251026T010000
END:STANDARD
BEGIN:DAYLIGHT
TZOFFSETFROM:+0100
TZOFFSETTO:+0200
TZNAME:CEST
DTSTART:20260329T010000
END:DAYLIGHT
BEGIN:STANDARD
TZOFFSETFROM:+0200
TZOFFSETTO:+0100
TZNAME:CET
DTSTART:20261025T010000
END:STANDARD
BEGIN:DAYLIGHT
TZOFFSETFROM:+0100
TZOFFSETTO:+0200
TZNAME:CEST
DTSTART:20270328T010000
END:DAYLIGHT
BEGIN:STANDARD
TZOFFSETFROM:+0200
TZOFFSETTO:+0100
TZNAME:CET
DTSTART:20271031T010000
END:STANDARD
END:VTIMEZONE
BEGIN:VEVENT
DTSTART;TZID=Europe/Amsterdam:20260427T090000
DTEND;TZID=Europe/Amsterdam:20260427T160000
DTSTAMP:20260426T002925
CREATED:20260425T161319Z
LAST-MODIFIED:20260425T172800Z
UID:118786-1777280400-1777305600@regionieuwshoogeveen.nl
SUMMARY:Koningsdagviering in de wijk Wolfsbos in Hoogeveen in en rondom winkelcentrum De Wielewaal
DESCRIPTION:Voor de Koningsdagviering zijn ze in de wijk Wolfsbos al helemaal klaar. Ook deze Koningsdag is er een rommelmarkt in en rondom winkelcentrum De Wielewaal De meesten hebben daarvoor alweer een plekje in gedachten. \nVan 09.00 tot 16.00 uur kan er weer een kleedje gelegd in en rondom winkelcentrum De Wielewaal in de wijk Wolfsbos.\nMet een jarenlange traditie kunnen ook dit jaar weer kinderen tot 13 jaar hier gratis hun koopwaar uitstallen. Platen\, boeken\, decoratie-artikelen\, veel snuffelwaar en natuurlijk speelgoed het wordt veelal verkocht vanaf de grond. Maar op de bekende rommelmarkt kun je natuurlijk ook met een kraam terecht.\nDat de eerste kinderen zich met hun ouders al vroeg laten zien\, moge duidelijk zijn. Goed voorbereid is het weer de vraag wat hun opbrengst dit jaar zal zijn.\nEn heb je genoeg verkocht of rondgekeken dan kun je d’ Olde bieb in het winkelcentrum eens van binnen bekijken. Er is een expositie\, je kunt er naar de wc\, koffie of thee drinken en voor d’ Olde bieb staan vrijwilligers achter kramen met rommelmarktenspullen waarvan de opbrengst gaat naar allerlei leuke activiteiten voor mensen uit de wijk Wolfsbos en voor Oekraïense mensen uit Hoogeveen.\nOp het grasveld ernaast laten de car-racers van het GearRC Racing Team weer zien waarvoor zij hebben geoefend. Over het gehele veld is een groot racecircuit uitgezet waar zij hun modelauto’s tegen elkaar laten strijden.\nVoor de jonge kinderen staat er in de buurt van de cafetaria een springkussen klaar om naar hartenlust te springen.\nEn aan de andere kant van d’ Olde bieb is dansschool Top Fit aanwezig. Daar waar zij groepslessen voor zowel volwassenen en kinderen aanbieden\, laten vandaag diverse streetdance-groepen hun kunnen zien. Zij hebben hiervoor veel geoefend en geven dan ook een energieke show weg.\nZoals gezegd\, ben je jonger dan 13 jaar\, dan kun je gewoon gratis op de kinderrommelmarkt gaan staan. Wil je een kraam reserveren? Bel dan met Pedro Kleine. Zijn telefoonnummer is 06-55783513. De organisatie wenst iedereen een fijne\, geslaagde Koningsdag.
URL:https://regionieuwshoogeveen.nl/evenement/koningsdagviering-in-de-wijk-wolfsbos-in-hoogeveen-in-en-rondom-winkelcentrum-de-wielewaal/
ATTACH;FMTTYPE=image/jpeg:https://regionieuwshoogeveen.nl/wp-content/uploads/2024/04/konings-dag-oranje-kopieren.jpg
END:VEVENT
END:VCALENDAR