BEGIN:VCALENDAR
VERSION:2.0
PRODID:-//Regionieuws Hoogeveen - ECPv6.15.18//NONSGML v1.0//EN
CALSCALE:GREGORIAN
METHOD:PUBLISH
X-WR-CALNAME:Regionieuws Hoogeveen
X-ORIGINAL-URL:https://regionieuwshoogeveen.nl
X-WR-CALDESC:Evenementen voor Regionieuws Hoogeveen
REFRESH-INTERVAL;VALUE=DURATION:PT1H
X-Robots-Tag:noindex
X-PUBLISHED-TTL:PT1H
BEGIN:VTIMEZONE
TZID:Europe/Amsterdam
BEGIN:DAYLIGHT
TZOFFSETFROM:+0100
TZOFFSETTO:+0200
TZNAME:CEST
DTSTART:20240331T010000
END:DAYLIGHT
BEGIN:STANDARD
TZOFFSETFROM:+0200
TZOFFSETTO:+0100
TZNAME:CET
DTSTART:20241027T010000
END:STANDARD
BEGIN:DAYLIGHT
TZOFFSETFROM:+0100
TZOFFSETTO:+0200
TZNAME:CEST
DTSTART:20250330T010000
END:DAYLIGHT
BEGIN:STANDARD
TZOFFSETFROM:+0200
TZOFFSETTO:+0100
TZNAME:CET
DTSTART:20251026T010000
END:STANDARD
BEGIN:DAYLIGHT
TZOFFSETFROM:+0100
TZOFFSETTO:+0200
TZNAME:CEST
DTSTART:20260329T010000
END:DAYLIGHT
BEGIN:STANDARD
TZOFFSETFROM:+0200
TZOFFSETTO:+0100
TZNAME:CET
DTSTART:20261025T010000
END:STANDARD
END:VTIMEZONE
BEGIN:VEVENT
DTSTART;TZID=Europe/Amsterdam:20251217T200000
DTEND;TZID=Europe/Amsterdam:20251217T230000
DTSTAMP:20260422T041736
CREATED:20251216T115036Z
LAST-MODIFIED:20251216T115036Z
UID:115192-1766001600-1766012400@regionieuwshoogeveen.nl
SUMMARY:Kerstconcert Christelijke Mannenkoor Hollandscheveld
DESCRIPTION:Woensdagavond 17 december a.s. geeft het Christelijk Mannenkoor Hollandscheveld haar jaarlijkse Kerstconcert. U kunt daar genieten van de prachtige Kerstliederen als Stille Nacht\, Ere zij God en Eeuwen geleden. Daarnaast zal een Kerstmedley en het verhalende lied Whisper\, waarin zingend verteld wordt van de geboorte van Gods Zoon\, Jezus Christus\, onze Redder. Naast het koor dat onder de enthousiaste leiding staat van dirigent Frank Kaman\, wordt er muzikale ondersteuning geboden door Henry Huisjes op piano en Herman Boerman op het orgel. Wij bieden u nóg meer: sopraan Judith Godeke\, trompettisten Arjan en Edith Post en percussie speler Lennart Jonkman zullen dit concert met hun prachtige stem en muzikale inbreng nog mooier maken. Komen dus.\nDit concert vindt plaats in de Ned. Herv. Kerk te Hollandscheveld en begint om 20.00 uur. De kerk is vanaf 19.30 uur open. De kosten zijn 10 euro per persoon. Kinderen tot en met 12 jaar gratis toegang.\nKaarten zijn verkrijgbaar op de volgende adressen: Ellerie TTT\, Carstensdijk 144\, Elim; Ineke Vos Mode\, Het Hoekje 5\, Hollandscheveld; De Fakkel\, Hoofdstraat 63\, Hoogeveen. \n\n\n\nAdres van evenement\n\n\nNed.Herv. Kerk Hendrik Raakweg 19 Hollandscheveld\nHollandscheveld\, Drenthe\n7913 AM\n\n\nEvenement begint op\n\n\n17/12/2025 20:00\n\n\nEntree evenement\n\n\n10 euro kinderen t/m 12 jaar gratis
URL:https://regionieuwshoogeveen.nl/evenement/kerstconcert-christelijke-mannenkoor-hollandscheveld/
ATTACH;FMTTYPE=image/jpeg:https://regionieuwshoogeveen.nl/wp-content/uploads/2024/11/Mannenkoor-hollandscheveld-scaled.jpg
END:VEVENT
END:VCALENDAR