BEGIN:VCALENDAR
VERSION:2.0
PRODID:-//Regionieuws Hoogeveen - ECPv6.15.18//NONSGML v1.0//EN
CALSCALE:GREGORIAN
METHOD:PUBLISH
X-WR-CALNAME:Regionieuws Hoogeveen
X-ORIGINAL-URL:https://regionieuwshoogeveen.nl
X-WR-CALDESC:Evenementen voor Regionieuws Hoogeveen
REFRESH-INTERVAL;VALUE=DURATION:PT1H
X-Robots-Tag:noindex
X-PUBLISHED-TTL:PT1H
BEGIN:VTIMEZONE
TZID:Europe/Amsterdam
BEGIN:DAYLIGHT
TZOFFSETFROM:+0100
TZOFFSETTO:+0200
TZNAME:CEST
DTSTART:20240331T010000
END:DAYLIGHT
BEGIN:STANDARD
TZOFFSETFROM:+0200
TZOFFSETTO:+0100
TZNAME:CET
DTSTART:20241027T010000
END:STANDARD
BEGIN:DAYLIGHT
TZOFFSETFROM:+0100
TZOFFSETTO:+0200
TZNAME:CEST
DTSTART:20250330T010000
END:DAYLIGHT
BEGIN:STANDARD
TZOFFSETFROM:+0200
TZOFFSETTO:+0100
TZNAME:CET
DTSTART:20251026T010000
END:STANDARD
BEGIN:DAYLIGHT
TZOFFSETFROM:+0100
TZOFFSETTO:+0200
TZNAME:CEST
DTSTART:20260329T010000
END:DAYLIGHT
BEGIN:STANDARD
TZOFFSETFROM:+0200
TZOFFSETTO:+0100
TZNAME:CET
DTSTART:20261025T010000
END:STANDARD
END:VTIMEZONE
BEGIN:VEVENT
DTSTART;TZID=Europe/Amsterdam:20250802T140000
DTEND;TZID=Europe/Amsterdam:20250802T170000
DTSTAMP:20260422T211826
CREATED:20250717T110443Z
LAST-MODIFIED:20250717T110443Z
UID:110267-1754143200-1754154000@regionieuwshoogeveen.nl
SUMMARY:Jubileum Open Brouwerij Dag Jonge Beer Brouwerij
DESCRIPTION:Bierbrouwerij Jonge Beer aan de Fabrieksweg 14 in Hoogeveen houdt nog een keer een open dag voor belangstellenden. De Hoogeveense ondernemers brouwen al 10 jaar op professionele wijze op deze locatie\, maar hebben al veel langer ervaring met het maken van bier. \n\nBelangstellenden kunnen vrijblijvend een kijkje komen nemen in de ambachtelijke speciaalbier brouwerij op de zaterdagmiddag 2 augustus tussen 14.00 en 17.00 uur van Alie en Jan de Vries. \nTijdens de open middag van 14.00 – 17.00 uur zullen de brouwers Alie en Jan de Vries de gasten\nverwelkomen in hun brouwerij aan de Fabrieksweg 14 in Hoogeveen\, waar Jan enkele keren uitleg zal\ngeven over het werk in de brouwerij. \n\nNieuwe brouwinstallatie\nDit jaar wordt er gebrouwen in ‘nieuwe’ ketels. De brouwers kochten een jong-gebruikte installatie\nover van een brouwer uit Zwitserland en lieten die overkomen naar Hoogeveen. Inmiddels is de\ninstallatie ingewijd en een aanwinst voor de brouwerij. \nJubileum bier\nTijdens de Open dag kunt u genieten van Hoogeveens eigen ambachtelijk gebrouwen speciaalbier van\nde tap of uit de fles. Er is “HobBlont 10 jaar!” van de tap verkrijgbaar\, een speciale versie van de\nbekende HobBlonder\, die even teruggrijpt op HobBlont waar de brouwers 10 jaar geleden mee\nbegonnen. Verder is Jubelgoud speciaal gebrouwen als een blond feestelijk bier. Ook is Eridaan weer\nvan de tap verkrijgbaar. En er is nog zoveel meer\, laat u verrassen in bijvoorbeeld een mini-proeverij!
URL:https://regionieuwshoogeveen.nl/evenement/jubileum-open-brouwerij-dag-jonge-beer-brouwerij/
ATTACH;FMTTYPE=image/jpeg:https://regionieuwshoogeveen.nl/wp-content/uploads/2025/05/Jonge-Beer-Brouwerij-Persbericht-Open-Dag-2025.jpeg
END:VEVENT
END:VCALENDAR