BEGIN:VCALENDAR
VERSION:2.0
PRODID:-//Regionieuws Hoogeveen - ECPv6.15.18//NONSGML v1.0//EN
CALSCALE:GREGORIAN
METHOD:PUBLISH
X-WR-CALNAME:Regionieuws Hoogeveen
X-ORIGINAL-URL:https://regionieuwshoogeveen.nl
X-WR-CALDESC:Evenementen voor Regionieuws Hoogeveen
REFRESH-INTERVAL;VALUE=DURATION:PT1H
X-Robots-Tag:noindex
X-PUBLISHED-TTL:PT1H
BEGIN:VTIMEZONE
TZID:Europe/Amsterdam
BEGIN:DAYLIGHT
TZOFFSETFROM:+0100
TZOFFSETTO:+0200
TZNAME:CEST
DTSTART:20240331T010000
END:DAYLIGHT
BEGIN:STANDARD
TZOFFSETFROM:+0200
TZOFFSETTO:+0100
TZNAME:CET
DTSTART:20241027T010000
END:STANDARD
BEGIN:DAYLIGHT
TZOFFSETFROM:+0100
TZOFFSETTO:+0200
TZNAME:CEST
DTSTART:20250330T010000
END:DAYLIGHT
BEGIN:STANDARD
TZOFFSETFROM:+0200
TZOFFSETTO:+0100
TZNAME:CET
DTSTART:20251026T010000
END:STANDARD
BEGIN:DAYLIGHT
TZOFFSETFROM:+0100
TZOFFSETTO:+0200
TZNAME:CEST
DTSTART:20260329T010000
END:DAYLIGHT
BEGIN:STANDARD
TZOFFSETFROM:+0200
TZOFFSETTO:+0100
TZNAME:CET
DTSTART:20261025T010000
END:STANDARD
END:VTIMEZONE
BEGIN:VEVENT
DTSTART;TZID=Europe/Amsterdam:20250930T160000
DTEND;TZID=Europe/Amsterdam:20250930T190000
DTSTAMP:20260422T124618
CREATED:20250905T091552Z
LAST-MODIFIED:20250905T062845Z
UID:112089-1759248000-1759258800@regionieuwshoogeveen.nl
SUMMARY:Informatiemarkt bij woonzorgcentrum Tonckenshuys in Zuidwolde
DESCRIPTION:Tonckenshuys in Zuidwolde houdt op dinsdag 30 september een informatiemarkt. Omwonenden\, dorpsgenoten\, mantelzorgers\, familieleden\, vrijwilligers en andere geïnteresseerden zijn van harte welkom om een kijkje te komen nemen in het woonzorgcentrum van Treant. \n  \nEr zijn meer dan vijftien kraampjes waar verschillende medewerkers informatie delen over het reilen en zeilen binnen Tonckenshuys. Zo wordt onder meer verteld over de mogelijkheden van zorg\, fysiotherapie\, infectiepreventie\, dagbesteding\, zorgbemiddeling\, bewegingsagogie\, geestelijke verzorging en innovatie. Daarnaast is er ook aandacht voor onderwerpen als brandveiligheid\, de linnenkamer\, het open deuren beleid\, de cliëntenraad en stichting De Vrienden van het Tonckenshuys. \n\nDe informatiemarkt op dinsdag 30 september wordt van 16:00 tot 19:00 uur gehouden en is gratis te bezoeken. Voor een hapje en een drankje wordt gezorgd. Vooraf aanmelden is niet nodig. \n\n[Foto: Treant / Woonzorgcentrum Tonckenshuys in Zuidwolde]
URL:https://regionieuwshoogeveen.nl/evenement/informatiemarkt-bij-woonzorgcentrum-tonckenshuys-in-zuidwolde/
ATTACH;FMTTYPE=image/jpeg:https://regionieuwshoogeveen.nl/wp-content/uploads/2025/09/Woonzorgcentrum-Tonckenshuys-in-Zuidwolde.jpg
END:VEVENT
END:VCALENDAR