BEGIN:VCALENDAR
VERSION:2.0
PRODID:-//Regionieuws Hoogeveen - ECPv6.15.18//NONSGML v1.0//EN
CALSCALE:GREGORIAN
METHOD:PUBLISH
X-WR-CALNAME:Regionieuws Hoogeveen
X-ORIGINAL-URL:https://regionieuwshoogeveen.nl
X-WR-CALDESC:Evenementen voor Regionieuws Hoogeveen
REFRESH-INTERVAL;VALUE=DURATION:PT1H
X-Robots-Tag:noindex
X-PUBLISHED-TTL:PT1H
BEGIN:VTIMEZONE
TZID:Europe/Amsterdam
BEGIN:DAYLIGHT
TZOFFSETFROM:+0100
TZOFFSETTO:+0200
TZNAME:CEST
DTSTART:20240331T010000
END:DAYLIGHT
BEGIN:STANDARD
TZOFFSETFROM:+0200
TZOFFSETTO:+0100
TZNAME:CET
DTSTART:20241027T010000
END:STANDARD
BEGIN:DAYLIGHT
TZOFFSETFROM:+0100
TZOFFSETTO:+0200
TZNAME:CEST
DTSTART:20250330T010000
END:DAYLIGHT
BEGIN:STANDARD
TZOFFSETFROM:+0200
TZOFFSETTO:+0100
TZNAME:CET
DTSTART:20251026T010000
END:STANDARD
BEGIN:DAYLIGHT
TZOFFSETFROM:+0100
TZOFFSETTO:+0200
TZNAME:CEST
DTSTART:20260329T010000
END:DAYLIGHT
BEGIN:STANDARD
TZOFFSETFROM:+0200
TZOFFSETTO:+0100
TZNAME:CET
DTSTART:20261025T010000
END:STANDARD
END:VTIMEZONE
BEGIN:VEVENT
DTSTART;TZID=Europe/Amsterdam:20250909T080000
DTEND;TZID=Europe/Amsterdam:20250909T170000
DTSTAMP:20260422T160656
CREATED:20250910T072113Z
LAST-MODIFIED:20250909T172259Z
UID:112243-1757404800-1757437200@regionieuwshoogeveen.nl
SUMMARY:Importeren van foto's van smartphone\, USB-stick of SD-kaart
DESCRIPTION:Je kunt via de computer en op internet steeds meer regelen. Dat is handig. Maar ook lastig als je hier geen of weinig ervaring mee hebt. De Bibliotheek helpt je verder. \n  \nOp maandag 15 september organiseert de Bibliotheek de gratis workshop ‘Importeren van foto’s van smartphone\, USB-stick of SD-kaart’. De workshop wordt in samenwerking met SeniorWeb georganiseerd. \n  \nBijna iedereen heeft foto’s op de mobiele telefoon of op een USB-stick staan. Soms is het handiger om deze op een laptop of pc te bewaren. \n  \nDe deelnemers leren tijdens de workshop welke stappen je moet zetten als je de foto’s wil opslaan en hoe je dit veilig kunt doen. \n  \nMeedoen is gratis\, vooraf aanmelden is verplicht. Aanmelden kan via telefoonnummer 0528-268131\, aan de balie bij de Bibliotheek of stuur een mail naar l.ton@bibliotheekhoogeveen.nl \n  \nWanneer? \n15 september\, 10.15 – 12.15 uur \n  \nWaar? \nBibliotheek Hoogeveen\, Willemskade 27 \n  \nKijk voor meer informatie op www.bibliotheekhoogeveen.nl \n 
URL:https://regionieuwshoogeveen.nl/evenement/importeren-van-fotos-van-smartphone-usb-stick-of-sd-kaart/
ATTACH;FMTTYPE=image/jpeg:https://regionieuwshoogeveen.nl/wp-content/uploads/2025/09/Oudere-vrouw-laptop.jpg
END:VEVENT
END:VCALENDAR