BEGIN:VCALENDAR
VERSION:2.0
PRODID:-//Regionieuws Hoogeveen - ECPv6.15.18//NONSGML v1.0//EN
CALSCALE:GREGORIAN
METHOD:PUBLISH
X-WR-CALNAME:Regionieuws Hoogeveen
X-ORIGINAL-URL:https://regionieuwshoogeveen.nl
X-WR-CALDESC:Evenementen voor Regionieuws Hoogeveen
REFRESH-INTERVAL;VALUE=DURATION:PT1H
X-Robots-Tag:noindex
X-PUBLISHED-TTL:PT1H
BEGIN:VTIMEZONE
TZID:Europe/Amsterdam
BEGIN:DAYLIGHT
TZOFFSETFROM:+0100
TZOFFSETTO:+0200
TZNAME:CEST
DTSTART:20250330T010000
END:DAYLIGHT
BEGIN:STANDARD
TZOFFSETFROM:+0200
TZOFFSETTO:+0100
TZNAME:CET
DTSTART:20251026T010000
END:STANDARD
BEGIN:DAYLIGHT
TZOFFSETFROM:+0100
TZOFFSETTO:+0200
TZNAME:CEST
DTSTART:20260329T010000
END:DAYLIGHT
BEGIN:STANDARD
TZOFFSETFROM:+0200
TZOFFSETTO:+0100
TZNAME:CET
DTSTART:20261025T010000
END:STANDARD
BEGIN:DAYLIGHT
TZOFFSETFROM:+0100
TZOFFSETTO:+0200
TZNAME:CEST
DTSTART:20270328T010000
END:DAYLIGHT
BEGIN:STANDARD
TZOFFSETFROM:+0200
TZOFFSETTO:+0100
TZNAME:CET
DTSTART:20271031T010000
END:STANDARD
END:VTIMEZONE
BEGIN:VEVENT
DTSTART;TZID=Europe/Amsterdam:20261003T090000
DTEND;TZID=Europe/Amsterdam:20261003T120000
DTSTAMP:20260421T213915
CREATED:20260421T161809Z
LAST-MODIFIED:20260420T162019Z
UID:118788-1791018000-1791028800@regionieuwshoogeveen.nl
SUMMARY:Hoogeveense Fitness Race\, zaterdag 3 oktober
DESCRIPTION:Een fitnessrace die bestaat uit een combinatie van hardlopen en functionele fitness stations. De populariteit van deze races is enorm en daarom besloten wij het om hier in Hoogeveen ook te gaan doen en zo toegankelijk mogelijk te maken. Dit door de prijs nog niet de helft van wat de populaire races kosten en het hier lokaal te doen bij HAC’63 op de atletiekbaan.\n\nNa een succesvolle eerste editie vorig jaar gaan we dit jaar groter met meer startplekken. Elke kwartier zal er een groep van 5(chiptimers) starten\, waar we vorig jaar nog met 4 starten. Wanneer de ticketverkoop start\, kan je van 9:00 t/m 12:00 aanmelden. Je selecteert zelf je divisie en starttijd.\nJe kunt individueel meedoen of met een buddy\, op verschillende niveaus!\n\nDe race bestaat uit 6 keer 1000m hardlopen waar tussen fitness onderdelen worden gedaan waaronder roeien\, sjouwen en burpees. Genoeg uitdaging voor jou alleen maar ook ontzettend leuk om samen te doen!\nAls je buddies doet loop je altijd samen en mag je de stations verdelen zoals je wilt.\n\nVoor de jeugd hebben wij ook een race! De “Youngsters” versie. Zij lopen 3x 600m met tussendoor 2 fitness onderdelen achterelkaar.\nVorig jaar getest door onze Lynn en die staat te popelen om weer mee te doen!\n\nOm op de hoogte te blijven van wanneer de ticketverkoop live gaat en de meest recente updates. Volg ons via Instagram www.instagram.com/hgvfitnessrace\nOf Facebook\nhttps://www.facebook.com/share/1An4PvSQYw/
URL:https://regionieuwshoogeveen.nl/evenement/hoogeveense-fitness-race-zaterdag-3-oktober/
END:VEVENT
END:VCALENDAR