BEGIN:VCALENDAR
VERSION:2.0
PRODID:-//Regionieuws Hoogeveen - ECPv6.15.18//NONSGML v1.0//EN
CALSCALE:GREGORIAN
METHOD:PUBLISH
X-WR-CALNAME:Regionieuws Hoogeveen
X-ORIGINAL-URL:https://regionieuwshoogeveen.nl
X-WR-CALDESC:Evenementen voor Regionieuws Hoogeveen
REFRESH-INTERVAL;VALUE=DURATION:PT1H
X-Robots-Tag:noindex
X-PUBLISHED-TTL:PT1H
BEGIN:VTIMEZONE
TZID:Europe/Amsterdam
BEGIN:DAYLIGHT
TZOFFSETFROM:+0100
TZOFFSETTO:+0200
TZNAME:CEST
DTSTART:20240331T010000
END:DAYLIGHT
BEGIN:STANDARD
TZOFFSETFROM:+0200
TZOFFSETTO:+0100
TZNAME:CET
DTSTART:20241027T010000
END:STANDARD
BEGIN:DAYLIGHT
TZOFFSETFROM:+0100
TZOFFSETTO:+0200
TZNAME:CEST
DTSTART:20250330T010000
END:DAYLIGHT
BEGIN:STANDARD
TZOFFSETFROM:+0200
TZOFFSETTO:+0100
TZNAME:CET
DTSTART:20251026T010000
END:STANDARD
BEGIN:DAYLIGHT
TZOFFSETFROM:+0100
TZOFFSETTO:+0200
TZNAME:CEST
DTSTART:20260329T010000
END:DAYLIGHT
BEGIN:STANDARD
TZOFFSETFROM:+0200
TZOFFSETTO:+0100
TZNAME:CET
DTSTART:20261025T010000
END:STANDARD
END:VTIMEZONE
BEGIN:VEVENT
DTSTART;TZID=Europe/Amsterdam:20251229T100000
DTEND;TZID=Europe/Amsterdam:20251229T170000
DTSTAMP:20260423T123846
CREATED:20251225T115851Z
LAST-MODIFIED:20251224T115958Z
UID:115427-1767002400-1767027600@regionieuwshoogeveen.nl
SUMMARY:Hoogeveense Cup Junior geeft jong voetbaltalent een podium
DESCRIPTION:Hoogeveen – Terwijl het seniorenvoetbal tijdens het populaire Protos Weering Zaaltoernooi volop in de schijnwerpers staat\, is het komende maandag 29 december de beurt aan de talenten van de toekomst. In topsporthal Het Activum wordt dan de Hoogeveense Cup Junior gespeeld\, een zaalvoetbaltoernooi voor U17 en U19 teams uit Hoogeveen en de regio. \n  \nJeugdteams van onder meer HZVV\, Hoogeveen\, De Weide\, SV Pesse\, Noordscheschut\, FC Ommen\, DVC Dedemsvaart\, HH’97 en FC Zuidwolde komen in actie. Verdeeld over twee zalen\, De Ring en Het Stadion\, staat het publiek een dag lang non-stop zaalvoetbal te wachten. \n  \nHet toernooi begint om 10.00 uur met de wedstrijden van de U17 teams. Vanaf 13.30 uur nemen de U19 teams het stokje over. Eerdere edities lieten zien dat de juniorvariant van de Hoogeveense Cup kan rekenen op veel belangstelling. Volle tribunes met ouders\, jeugdspelers en voetballiefhebbers zorgen steevast voor een levendige sfeer. \n  \nMet de Hoogeveense Cup Junior bevestigt Hoogeveen opnieuw haar reputatie als sportstad\, waar ruimte is voor talentontwikkeling. Voor veel jonge spelers is het toernooi een kans om zich te laten zien en misschien een stap te zetten richting grotere zaalvoetbalpodia\, zoals het Protos Weering Zaaltoernooi. \n  \nMet de succesvolle senioreneditie nog vers in het geheugen\, maakt Hoogeveen zich nu op voor een nieuwe lichting voetballers die staat te popelen om zich te laten gelden.
URL:https://regionieuwshoogeveen.nl/evenement/hoogeveense-cup-junior-geeft-jong-voetbaltalent-een-podium/
ATTACH;FMTTYPE=image/jpeg:https://regionieuwshoogeveen.nl/wp-content/uploads/2025/12/cup.jpeg
END:VEVENT
END:VCALENDAR