BEGIN:VCALENDAR
VERSION:2.0
PRODID:-//Regionieuws Hoogeveen - ECPv6.15.18//NONSGML v1.0//EN
CALSCALE:GREGORIAN
METHOD:PUBLISH
X-WR-CALNAME:Regionieuws Hoogeveen
X-ORIGINAL-URL:https://regionieuwshoogeveen.nl
X-WR-CALDESC:Evenementen voor Regionieuws Hoogeveen
REFRESH-INTERVAL;VALUE=DURATION:PT1H
X-Robots-Tag:noindex
X-PUBLISHED-TTL:PT1H
BEGIN:VTIMEZONE
TZID:Europe/Amsterdam
BEGIN:DAYLIGHT
TZOFFSETFROM:+0100
TZOFFSETTO:+0200
TZNAME:CEST
DTSTART:20240331T010000
END:DAYLIGHT
BEGIN:STANDARD
TZOFFSETFROM:+0200
TZOFFSETTO:+0100
TZNAME:CET
DTSTART:20241027T010000
END:STANDARD
BEGIN:DAYLIGHT
TZOFFSETFROM:+0100
TZOFFSETTO:+0200
TZNAME:CEST
DTSTART:20250330T010000
END:DAYLIGHT
BEGIN:STANDARD
TZOFFSETFROM:+0200
TZOFFSETTO:+0100
TZNAME:CET
DTSTART:20251026T010000
END:STANDARD
BEGIN:DAYLIGHT
TZOFFSETFROM:+0100
TZOFFSETTO:+0200
TZNAME:CEST
DTSTART:20260329T010000
END:DAYLIGHT
BEGIN:STANDARD
TZOFFSETFROM:+0200
TZOFFSETTO:+0100
TZNAME:CET
DTSTART:20261025T010000
END:STANDARD
END:VTIMEZONE
BEGIN:VEVENT
DTSTART;TZID=Europe/Amsterdam:20250906T090000
DTEND;TZID=Europe/Amsterdam:20250906T170000
DTSTAMP:20260422T160614
CREATED:20250730T072616Z
LAST-MODIFIED:20250902T071822Z
UID:110652-1757149200-1757178000@regionieuwshoogeveen.nl
SUMMARY:Hoogeveen Sport! Open Sportclub Dag 2025
DESCRIPTION:zaterdag 6 september 2025 staat Hoogeveen in het teken van sport\, plezier en beweging! Tijdens de Open Sportclub Dag openen sportverenigingen\, clubs en andere sportaanbieders in Hoogeveen hun deuren voor iedereen: jong én oud. Overal zijn GRATIS sportieve activiteiten te beleven. \nKom langs\, kijk rond\, proef de sfeer\, doe mee en ontdek jouw sport! \n \nBekijk hieronder de lijst met locaties van de sportverenigingen en tijden waarop u welkom bent. Als u op de locatie klikt\, ziet u het adres in Google Maps. \n1. HRV de Compagnie\, Echtenseweg 1a (roeien\, 10.00 – 15.00 uur)\n2. Stoer Nijstad\, Koedijk 8b (outdoor training\, 09.00 – 12.00 uur)\n3. Olhaco\, Sporthal Trasselt\, Tilber 5 (volleybal\, 13.00 – 16.00 uur)\n4. Hoogeveense Bridge Club Alert\, De Vredehorst\, Zuidwoldigerweg 32 (bridge voor volwassenen\, 10.00 – 12.00 uur)\n5. V.V. de Weide\, Elbe 1 (voetbal\, 09.30 – 12.00 uur)\n6. Elbe Sport\, Elbe 3 (sportschool\, 08.30 – 12.30 uur)\n7. Jeu de Boules De Schakel\, Elbe 5 (jeu de boules voor volwassenen\, 13.00 – 15.00 uur)\n8. R.C. De Weide\, Zuidwoldigerweg 17 (tennis en padel\, 110.00 – 13.00 uur)\n9. Christelijke Gym- en dansvereniging Olympia\, Turnhal\, Vermeerstraat 21 (10.00 – 13.00 uur)\n9. Gymnastiekvereniging Kwiek Hoogeveen\, Turnhal\, Vermeerstraat 21 (gymnastiek\, 13.00 – 16.00 uur)\n9. Stichting Sport en Beweeg\, Turnhal\, Vermeerstraat 21 (bewegen voor ouderen\, 10.00 – 12.00 uur)\n10. Move2be\, Van Limburg Stirumstraat 132 (volwassenen\, 08.00 – 12.00 uur)\n11. Sidokwan\, Dojang\, Trompstraat 1A (taekwondo\, 10.00 – 15.00 uur)\n12. Taekwondo vereniging KWON\, Zuiderbreedte\, Boekenberghstraat 12 (taekwondo\, 10.00 – 12.00 uur)\n13. Biodanza Hoogeveen\, Albert Steenbergenstraat 44 (18+\, 10.30 – 11.30 uur)\n14. The Basement\, Voltastraat 2C (10.00 – 16.00 uur)\n15. Scouting Hoogeveen\, Voltastraat 35 (13.00 – 16.00 uur)\n16. Sportpaleis Hoogeveen\, Sportpaleis\, Kanaalweg 38B (sportschool\, 10.00 – 12.00 uur)\n16. Dance Center Hoogeveen\, Sportpaleis\, Kanaalweg 38B (dansen\, 10.00 – 12.00 uur)\n16. Cross Gym Hoogeveen\, Sportpaleis\, Kanaalweg 38B (10.00 – 12.00 uur)\n16. Hyrox by Sportpaleis\, Sportpaleis\, Kanaalweg 38B (10.00 – 12.00 uur)\n16. Fightteam Muay Thai Hoogeveen\, Sportpaleis\, Kanaalweg 38B (kickboksen\, 10.00 – 12.00 uur)\n16. Womens Defense\, Sportpaleis\, Kanaalweg 38B (zelfverdediging dames\, 10.00 – 12.00 uur)\n17. Hoogeveense Hockey Club\, Sportlaan 5 (hockey\, 10.00 – 15.00 uur)\n17. Hoogeveense Hockey Club\, Sportlaan 5 (G-hockey\, 10.00 – 13.00 uur)\n18. Club Repeat\, Het Activum\, Sportveldenweg 2 (groepslessen jongeren en volwassenen\, 10.00 – 14.00 uur)\n18. Budovereniging\, Het Activum\, Sportveldenweg 2 (judo\, 10.00 – 14.00 uur)\n18. Hartsportclub Hoogeveen\, Het Activum\, Sportveldenweg 2 (10.00 – 16.00 uur)\n18. Smash Hoogeveen\, Sporthal Valkenlaan\, Valkenlaan 1A (badminton\, 10.00 – 14.00 uur)\n19. HAC’63\, Atletiekbaan\, Sportveldenweg 3 (atletiek\, 10.00 – 14.00 uur)\n20. Schaatsvereniging De IJshazen\, Wielerbaan\, Bentincksdijk 17 (schaatsen\, 10.30 – 12.00 uur)\n21. WSV De Peddelaars\, Wielerbaan\, Bentincksdijk 17 (wielrennen\, 13.00 – 15.00 uur)\n22. Biljartvereniging H.B.C.\, Terpweg 2 (biljart voor volwassenen\, 12.00 – 17.00 uur)\n23. Korfbalvereniging Thrianta\, Terpweg 3 (korfbal\, 10.00 – 12.00 uur)\n24. Hoogeveense Lawn Tennis Club\, Hoogeveense weg 5a (10.00 – 15.00 uur)\n25. Relfex’65 Tafeltennisvereniging\, MFC de Magneet\, Grote Beer 20 (12.00 – 16.00 uur)\n26. Top Fit Hoogeveen\, Nobelstraat 10A (groepslessen kinderen en volwassenen\, 12.30 – 15.00 uur)\n27. Vliegclub Hoogeveen\, Plesmanstraat 1 (11.00 – 15.00 uur)\n28. Schietsportvereniging De Vrijheid (ID meebrengen)\, Achteromsedijk 8C (schieten\, 13.00 – 16.30 uur)\n29. Handboogschietvereniging Agilaz\, MFC Tiendeveen\, Molenweg 4A (handboogschieten\, 11.00 – 15.00 uur)\n30. Crossfit Bananas\, Molenweg 10b (09.00 – 12.00 uur)\n31. Golfclub Martensplek\, Haarweg 25 (golf\, 11.00 – 16.00 uur)\n32. Hollandscheveldse Tennisclub\, Otto Zomerweg 71\, Hollandscheveld (tennis en pickleball\, 10.00 – 14.00 uur)
URL:https://regionieuwshoogeveen.nl/evenement/hoogeveen-sport-open-sportclub-dag-2025/
ATTACH;FMTTYPE=image/jpeg:https://regionieuwshoogeveen.nl/wp-content/uploads/2025/07/Poster-Hoogeveen-Sport-2025.jpg
END:VEVENT
END:VCALENDAR