BEGIN:VCALENDAR
VERSION:2.0
PRODID:-//Regionieuws Hoogeveen - ECPv6.15.18//NONSGML v1.0//EN
CALSCALE:GREGORIAN
METHOD:PUBLISH
X-WR-CALNAME:Regionieuws Hoogeveen
X-ORIGINAL-URL:https://regionieuwshoogeveen.nl
X-WR-CALDESC:Evenementen voor Regionieuws Hoogeveen
REFRESH-INTERVAL;VALUE=DURATION:PT1H
X-Robots-Tag:noindex
X-PUBLISHED-TTL:PT1H
BEGIN:VTIMEZONE
TZID:Europe/Amsterdam
BEGIN:DAYLIGHT
TZOFFSETFROM:+0100
TZOFFSETTO:+0200
TZNAME:CEST
DTSTART:20250330T010000
END:DAYLIGHT
BEGIN:STANDARD
TZOFFSETFROM:+0200
TZOFFSETTO:+0100
TZNAME:CET
DTSTART:20251026T010000
END:STANDARD
BEGIN:DAYLIGHT
TZOFFSETFROM:+0100
TZOFFSETTO:+0200
TZNAME:CEST
DTSTART:20260329T010000
END:DAYLIGHT
BEGIN:STANDARD
TZOFFSETFROM:+0200
TZOFFSETTO:+0100
TZNAME:CET
DTSTART:20261025T010000
END:STANDARD
BEGIN:DAYLIGHT
TZOFFSETFROM:+0100
TZOFFSETTO:+0200
TZNAME:CEST
DTSTART:20270328T010000
END:DAYLIGHT
BEGIN:STANDARD
TZOFFSETFROM:+0200
TZOFFSETTO:+0100
TZNAME:CET
DTSTART:20271031T010000
END:STANDARD
END:VTIMEZONE
BEGIN:VEVENT
DTSTART;TZID=Europe/Amsterdam:20260201T140000
DTEND;TZID=Europe/Amsterdam:20260201T170000
DTSTAMP:20260421T120808
CREATED:20251208T161306Z
LAST-MODIFIED:20251208T161306Z
UID:114906-1769954400-1769965200@regionieuwshoogeveen.nl
SUMMARY:Hoogeveen Benefiet festival ten bate van het Toon Hermans Huis Drenthe
DESCRIPTION:Muziek Achter de Voordeur brengt op 1 februari 2026 livemuziek tot in de huiskamers van HoogeveenBenefietfestival ten bate van het Toon Hermans Huis Drenthe\n\n \n\nOp zondag 1 februari 2026 verandert het centrum van Hoogeveen opnieuw in een bruisend muzikaal decor tijdens de zesde editie van Muziek Achter de Voordeur. Tussen 14.00 en 17.00 uur kunnen bezoekers genieten van livemuziek op vijftien bijzondere locaties\, variërend van knusse huiskamers tot karakteristieke winkels.\n\n \n\nTijdens het festival spelen vijftien acts in een intieme setting hun repertoire\, dat varieert van jazz en blues tot rock en pop en nog veel meer. Het publiek zit letterlijk dicht op de muziek – soms zelfs tussen de muzikanten – waardoor een unieke\, persoonlijke concertervaring ontstaat. De definitieve line-up en de locaties worden in de eerste week van januari bekend gemaakt.\n\n \n\nGoede doel\nDe volledige opbrengst van het festival komt ten goede aan het Toon Hermans Huis Drenthe: een warm centrum voor mensen die leven met en na kanker. Het huis biedt psychosociale ondersteuning en een vertrouwde ontmoetingsplek voor iedereen die geraakt wordt door kanker.\n\n \n\nToegang & tickets\n\n \n\n 	Voorverkoop: € 12\,00 + € 1\,60 bespreekkosten per bestelling via https://events.flextickets.nl/event/muziek-achter-de-voordeur\n \n 	Deurprijs: € 15\,00\nBezoekers wordt aangeraden tijdig kaarten te reserveren; eerdere edities waren snel uitverkocht.\n\n \n\nOrganisatie\nMuziek Achter de Voordeur is een initiatief van Rotary Hoogeveen-De Wolden\, die zich met dit festival inzet voor een muzikaal én maatschappelijk waardevol evenement voor de regio.
URL:https://regionieuwshoogeveen.nl/evenement/hoogeveen-benefiet-festival-ten-bate-van-het-toon-hermans-huis-drenthe/
ATTACH;FMTTYPE=image/jpeg:https://regionieuwshoogeveen.nl/wp-content/uploads/2025/12/muziek-achter-de-voordeur.jpeg
END:VEVENT
END:VCALENDAR