BEGIN:VCALENDAR
VERSION:2.0
PRODID:-//Regionieuws Hoogeveen - ECPv6.15.18//NONSGML v1.0//EN
CALSCALE:GREGORIAN
METHOD:PUBLISH
X-WR-CALNAME:Regionieuws Hoogeveen
X-ORIGINAL-URL:https://regionieuwshoogeveen.nl
X-WR-CALDESC:Evenementen voor Regionieuws Hoogeveen
REFRESH-INTERVAL;VALUE=DURATION:PT1H
X-Robots-Tag:noindex
X-PUBLISHED-TTL:PT1H
BEGIN:VTIMEZONE
TZID:Europe/Amsterdam
BEGIN:DAYLIGHT
TZOFFSETFROM:+0100
TZOFFSETTO:+0200
TZNAME:CEST
DTSTART:20240331T010000
END:DAYLIGHT
BEGIN:STANDARD
TZOFFSETFROM:+0200
TZOFFSETTO:+0100
TZNAME:CET
DTSTART:20241027T010000
END:STANDARD
BEGIN:DAYLIGHT
TZOFFSETFROM:+0100
TZOFFSETTO:+0200
TZNAME:CEST
DTSTART:20250330T010000
END:DAYLIGHT
BEGIN:STANDARD
TZOFFSETFROM:+0200
TZOFFSETTO:+0100
TZNAME:CET
DTSTART:20251026T010000
END:STANDARD
BEGIN:DAYLIGHT
TZOFFSETFROM:+0100
TZOFFSETTO:+0200
TZNAME:CEST
DTSTART:20260329T010000
END:DAYLIGHT
BEGIN:STANDARD
TZOFFSETFROM:+0200
TZOFFSETTO:+0100
TZNAME:CET
DTSTART:20261025T010000
END:STANDARD
END:VTIMEZONE
BEGIN:VEVENT
DTSTART;TZID=Europe/Amsterdam:20250619T143000
DTEND;TZID=Europe/Amsterdam:20250619T170000
DTSTAMP:20260424T112739
CREATED:20250611T144114Z
LAST-MODIFIED:20250611T144114Z
UID:109014-1750343400-1750352400@regionieuwshoogeveen.nl
SUMMARY:Hollandscheveld gaat weer te gaan zingen in de zomer.
DESCRIPTION:Evenals afgelopen jaar hoopt Hollandscheveld weer te gaan zingen in de zomer.\nEr hopen weer een drietal middagen te organiseren \, en de eerste zang middag staat inmiddels klaar voor donderdagmiddag 19 juni in de Hervormde Kerk aan de Hendrik Raakweg.\nWe beginnen dan om 14.30 uur en na afloop is er koffie/thee en ruimte voor ontmoeting.\nDe toegang is gratis wel zal er een collecte worden gehouden voor de onkosten.\nDeze middag zal Gert v.d. Vinne achter het orgel plaatsnemen.
URL:https://regionieuwshoogeveen.nl/evenement/hollandscheveld-gaat-weer-te-gaan-zingen-in-de-zomer-3/
ATTACH;FMTTYPE=image/jpeg:https://regionieuwshoogeveen.nl/wp-content/uploads/2025/06/25-mei-Mededelingen-1.jpg
END:VEVENT
END:VCALENDAR