BEGIN:VCALENDAR
VERSION:2.0
PRODID:-//Regionieuws Hoogeveen - ECPv6.15.18//NONSGML v1.0//EN
CALSCALE:GREGORIAN
METHOD:PUBLISH
X-WR-CALNAME:Regionieuws Hoogeveen
X-ORIGINAL-URL:https://regionieuwshoogeveen.nl
X-WR-CALDESC:Evenementen voor Regionieuws Hoogeveen
REFRESH-INTERVAL;VALUE=DURATION:PT1H
X-Robots-Tag:noindex
X-PUBLISHED-TTL:PT1H
BEGIN:VTIMEZONE
TZID:Europe/Amsterdam
BEGIN:DAYLIGHT
TZOFFSETFROM:+0100
TZOFFSETTO:+0200
TZNAME:CEST
DTSTART:20250330T010000
END:DAYLIGHT
BEGIN:STANDARD
TZOFFSETFROM:+0200
TZOFFSETTO:+0100
TZNAME:CET
DTSTART:20251026T010000
END:STANDARD
BEGIN:DAYLIGHT
TZOFFSETFROM:+0100
TZOFFSETTO:+0200
TZNAME:CEST
DTSTART:20260329T010000
END:DAYLIGHT
BEGIN:STANDARD
TZOFFSETFROM:+0200
TZOFFSETTO:+0100
TZNAME:CET
DTSTART:20261025T010000
END:STANDARD
BEGIN:DAYLIGHT
TZOFFSETFROM:+0100
TZOFFSETTO:+0200
TZNAME:CEST
DTSTART:20270328T010000
END:DAYLIGHT
BEGIN:STANDARD
TZOFFSETFROM:+0200
TZOFFSETTO:+0100
TZNAME:CET
DTSTART:20271031T010000
END:STANDARD
END:VTIMEZONE
BEGIN:VEVENT
DTSTART;TZID=Europe/Amsterdam:20260427T200000
DTEND;TZID=Europe/Amsterdam:20260427T230000
DTSTAMP:20260421T101331
CREATED:20260418T164506Z
LAST-MODIFIED:20260412T164651Z
UID:118423-1777320000-1777330800@regionieuwshoogeveen.nl
SUMMARY:HCM geeft ORANJECONCERT op 27 april in de Grote Kerk Hoogeveen.
DESCRIPTION:Al vele jaren verzorgt het Hoogeveens Christelijk Mannenkoor HCM jaarlijks het Oranjeconcert in de Grote kerk in Hoogeveen. Het is altijd een bijzonder concert waarbij ook\, op uitnodiging van de gemeente Hoogeveen\, steeds weer veel gedecoreerden aanwezig zijn om te genieten van die spraakmakende muzikale avond waarop steevast ook muziek klinkt die speciaal geschreven is voor deze bijzondere dag van verbinding die Koningsdag is. Tijdens het Oranjeconcert wordt ook nadrukkelijk aandacht gegeven aan de herdenking van de slachtoffers van de oorlogen en de viering van onze bevrijding inmiddels meer dan 80 jaar geleden. Zeker in deze tijd waarin de wereldwijde spanningen omtrent oorlog en vrede ook bij ons zo voelbaar zijn vindt HCM het belangrijk om samen te herdenken en om samen onze vrijheid te vieren. \nIeder Oranjeconcert opnieuw zorgt HCM voor een aansprekend en verrassend concert dat ook een van de hoogtepunten van de Koningsdag in Hoogeveen wordt genoemd. \nHet Oranjeconcert op 27 april dat start om 20:00 uur in de Grote Kerk wordt zeker zeer bijzonder door de medewerking van de bekende alt-saxofonist Klaasjan Pullen en slagwerker Tim Nijhuis. Ook koorsolist Ronny Koekoek helpt om er een mooie muzikale avond van te maken. \nDe algehele muzikale en artistieke leiding is in zeer vertrouwde handen bij componist\,arrangeur\, pianist en dirigent van HCM Gezinus M. Veldman. \nDe entreeprijs voor dit concert is € 15\,- \nKaarten voor het Oranjeconcert zijn in Hoogeveen te koop bij: \nKapsalon Zwart aan de Schutstraat 62; \nDe Fakkel\, \, Hoofdstraat 63; \nReadshop Offerein\, De Nije Nering 52; \nBloemenshop Erwin\, De Weide 6; \nPrimera De Haan\, Grote Beer 33; \nIn Hollandscheveld: \nIneke Vos Mode\, Het Hoekje 5. \nIn Zuidwolde: \nPrimera\, Hoofdstraat 70a. \nOok online zijn kaarten te koop via: www.mannenkoorhoogeveen.nl \nOok zijn er misschien\, zolang er nog plaats is\, voor aanvang van het concert nog kaarten te koop aan de Grote Kerk die open is vanaf 19:00 uur.
URL:https://regionieuwshoogeveen.nl/evenement/hcm-geeft-oranjeconcert-op-27-april-in-de-grote-kerk-hoogeveen/
ATTACH;FMTTYPE=image/jpeg:https://regionieuwshoogeveen.nl/wp-content/uploads/2026/04/Foto-HCM--scaled.jpg
END:VEVENT
END:VCALENDAR