BEGIN:VCALENDAR
VERSION:2.0
PRODID:-//Regionieuws Hoogeveen - ECPv6.15.18//NONSGML v1.0//EN
CALSCALE:GREGORIAN
METHOD:PUBLISH
X-WR-CALNAME:Regionieuws Hoogeveen
X-ORIGINAL-URL:https://regionieuwshoogeveen.nl
X-WR-CALDESC:Evenementen voor Regionieuws Hoogeveen
REFRESH-INTERVAL;VALUE=DURATION:PT1H
X-Robots-Tag:noindex
X-PUBLISHED-TTL:PT1H
BEGIN:VTIMEZONE
TZID:Europe/Amsterdam
BEGIN:DAYLIGHT
TZOFFSETFROM:+0100
TZOFFSETTO:+0200
TZNAME:CEST
DTSTART:20240331T010000
END:DAYLIGHT
BEGIN:STANDARD
TZOFFSETFROM:+0200
TZOFFSETTO:+0100
TZNAME:CET
DTSTART:20241027T010000
END:STANDARD
BEGIN:DAYLIGHT
TZOFFSETFROM:+0100
TZOFFSETTO:+0200
TZNAME:CEST
DTSTART:20250330T010000
END:DAYLIGHT
BEGIN:STANDARD
TZOFFSETFROM:+0200
TZOFFSETTO:+0100
TZNAME:CET
DTSTART:20251026T010000
END:STANDARD
BEGIN:DAYLIGHT
TZOFFSETFROM:+0100
TZOFFSETTO:+0200
TZNAME:CEST
DTSTART:20260329T010000
END:DAYLIGHT
BEGIN:STANDARD
TZOFFSETFROM:+0200
TZOFFSETTO:+0100
TZNAME:CET
DTSTART:20261025T010000
END:STANDARD
END:VTIMEZONE
BEGIN:VEVENT
DTSTART;TZID=Europe/Amsterdam:20251018T180000
DTEND;TZID=Europe/Amsterdam:20251018T233000
DTSTAMP:20260422T093715
CREATED:20251005T163950Z
LAST-MODIFIED:20251005T163950Z
UID:113073-1760810400-1760830200@regionieuwshoogeveen.nl
SUMMARY:Halloween Spooktocht Hoogeveen klaar voor nieuwe editie
DESCRIPTION:Hoogeveen – Het is weer bijna zover: op zaterdag 18 oktober verandert Hoogeveen in een griezelige nachtmerrie tijdens de jaarlijkse Halloween Spooktocht\, georganiseerd door buurtvereniging Westersluis. Na het grote succes van vorige jaren (met ruim 440 dappere deelnemers en meer dan 100 vrijwilligers) belooft ook de editie van 2025 weer huiveringwekkend spectaculair te worden. \n  \nDe tocht start dit jaar op de inmiddels beruchte locatie aan de van Goghlaan 7\, waar bezoekers hun nachtmerrie beginnen in :”Psych Ward”\, een spookachtig decor dat de toon zet voor de rest van de avond. Vervolgens worden deelnemers per bus naar een donker bos vervoerd\, waar een reeks gruwelijke verrassingen hen opwacht. \n  \nWe tillen het dit jaar naar een nog hoger niveau\, aldus een van de organisatoren. Met nieuwe scénes\, professionele scare-actors en een bloedstollende bosroute belooft het een avond te worden die je niet snel vergeet. \n  \nDeelnemers kunnen na afloop bibberend bijkomen in het buurthuis\, waar een consumptie inbegrepen is in het toegangsticket van €7\,= per persoon. \n  \nWie wil meedoen\, moet er snel bij zijn: aanmelden kan via telefoonnummer: 06-26104885 \nDe organisatie waarschuwt: vol=vol! \nOf je nu komt om te griezelen of om je angst te overwinnen: \nHoogeveen is op 18 oktober THE PLACE TO SCREAM. \nInformatie: via Facebook of Instagram HALLOWEEN SPOOKTOCHT HOOGEVEEN \n  \n 
URL:https://regionieuwshoogeveen.nl/evenement/halloween-spooktocht-hoogeveen-klaar-voor-nieuwe-editie/
ATTACH;FMTTYPE=image/jpeg:https://regionieuwshoogeveen.nl/wp-content/uploads/2025/10/spook.jpg
END:VEVENT
END:VCALENDAR