BEGIN:VCALENDAR
VERSION:2.0
PRODID:-//Regionieuws Hoogeveen - ECPv6.15.18//NONSGML v1.0//EN
CALSCALE:GREGORIAN
METHOD:PUBLISH
X-WR-CALNAME:Regionieuws Hoogeveen
X-ORIGINAL-URL:https://regionieuwshoogeveen.nl
X-WR-CALDESC:Evenementen voor Regionieuws Hoogeveen
REFRESH-INTERVAL;VALUE=DURATION:PT1H
X-Robots-Tag:noindex
X-PUBLISHED-TTL:PT1H
BEGIN:VTIMEZONE
TZID:Europe/Amsterdam
BEGIN:DAYLIGHT
TZOFFSETFROM:+0100
TZOFFSETTO:+0200
TZNAME:CEST
DTSTART:20250330T010000
END:DAYLIGHT
BEGIN:STANDARD
TZOFFSETFROM:+0200
TZOFFSETTO:+0100
TZNAME:CET
DTSTART:20251026T010000
END:STANDARD
BEGIN:DAYLIGHT
TZOFFSETFROM:+0100
TZOFFSETTO:+0200
TZNAME:CEST
DTSTART:20260329T010000
END:DAYLIGHT
BEGIN:STANDARD
TZOFFSETFROM:+0200
TZOFFSETTO:+0100
TZNAME:CET
DTSTART:20261025T010000
END:STANDARD
BEGIN:DAYLIGHT
TZOFFSETFROM:+0100
TZOFFSETTO:+0200
TZNAME:CEST
DTSTART:20270328T010000
END:DAYLIGHT
BEGIN:STANDARD
TZOFFSETFROM:+0200
TZOFFSETTO:+0100
TZNAME:CET
DTSTART:20271031T010000
END:STANDARD
END:VTIMEZONE
BEGIN:VEVENT
DTSTART;TZID=Europe/Amsterdam:20260128T133000
DTEND;TZID=Europe/Amsterdam:20260128T143000
DTSTAMP:20260421T114523
CREATED:20260106T085433Z
LAST-MODIFIED:20260123T083443Z
UID:115754-1769607000-1769610600@regionieuwshoogeveen.nl
SUMMARY:Gratis workshops digitale vaardigheden van Nationaal Ouderenfonds en Bibliotheek Hoogeveen
DESCRIPTION:Bibliotheek Hoogeveen en het Nationaal Ouderenfonds bieden vanaf 11 februari 2026 samen Welkom Online workshops in Hoogeveen aan. Welkom Online is een gratis lesprogramma voor 65+’ers die digitaal vaardiger willen worden. Alle workshops worden begeleid door getrainde vrijwilligers van het Ouderenfonds. Op 28 januari is er een informatiebijeenkomst waar iedereen kan ontdekken wat Welkom Online is\, wat er in zo’n workshop gebeurt én welk digitaal aanbod er nog meer bij Bibliotheek Hoogeveen te vinden is. \n  \nMeer online durf \nSteeds meer doen we online. Bijvoorbeeld een route opzoeken\, boodschappen doen of elkaar op de hoogte houden via WhatsApp. Maar wie legt er eens rustig uit hoe het allemaal werkt? Met de gratis Welkom Online workshops zetten 65+’ers samen met een getrainde vrijwilliger de eerste stappen online. Na de lessen voelen zij zich meer zelfverzekerd online én hebben zij ervaren hoe leuk de digitale wereld kan zijn. \n  \nPraktische workshops \nDe Welkom Online workshops zijn informatief en praktisch. Per workshop staat één thema centraal. De vrijwilliger geeft uitleg met concrete voorbeelden en er wordt samen geoefend op de eigen laptop\, tablet of mobiele telefoon. Er is alle ruimte voor vragen en om gezellig door te praten met de andere deelnemers. \n  \nGratis informatiebijeenkomst \nBenieuwd of dit wat voor u is? Geïnteresseerden zijn welkom bij de gratis informatiebijeenkomst op 28 januari om 13:30 in Bibliotheek Hoogeveen (Willemskade 27). Aanmelden wordt op prijs gesteld. Naast dat er wordt uitgelegd wat deelnemers van de Welkom Online workshops kunnen verwachten\, welke thema’s aan bod komen en hoe de vrijwilligers in de lessen begeleiden\, staan we ook met elkaar stil bij andere partijen die u kunnen helpen met digitale vragen. \nData\, tijden en locatie workshops \nElke workshop duurt 1\,5 uur – van 13:30 – 15:00 uur en vindt plaats bij Bibliotheek Hoogeveen aan de Willemskade 27. Vergeet niet een eigen laptop\, tablet of mobiele telefoon mee te nemen. \n  \nDe thema’s zijn: \n\n11 feb – Gezondheid (digitaal contact huisarts en handige sites & apps)\n25 feb – Digitale veiligheid (veilig internetten\, spam en delen persoonsgegevens)\n11 mrt – Online winkelen (account maken\, winkelmandje\, online afrekenen)\n25 mrt – AI (uitleg over kunstmatige intelligentie en zelf oefenen met chat GPT)\n\n  \n  \n  \nAanmelden workshops \nWilt u deelnemen aan een workshop? Dan schrijft u zich vooraf in. Dit regelt u eenvoudig bij de informatiebijeenkomst op 28 januari of bij Laura Ton van Bibliotheek Hoogeveen (0528268131\, l.ton@bibliotheekhoogeveen.nl). Uiteraard kunt u voor hulp hierbij ook even binnenlopen bij de bibliotheek. Per workshop is plaats voor maximaal 12 deelnemers\, dus schrijf u snel in. \n  \nOver het Nationaal Ouderenfonds \nHet Nationaal Ouderenfonds verbindt ouderen met elkaar én de maatschappij. We wachten niet en gaan voorop in de strijd tegen eenzaamheid. Met als doel: Geen een oudere hoeft zich meer eenzaam te voelen. We zorgen voor betekenisvolle ontmoetingen\, voor sociaal contact vandaag en een sterk netwerk voor morgen. Zo blijven meer ouderen sociaal\, vitaal én meetellen en meedoen.
URL:https://regionieuwshoogeveen.nl/evenement/gratis-workshops-digitale-vaardigheden-van-nationaal-ouderenfonds-en-bibliotheek-hoogeveen/
ATTACH;FMTTYPE=image/jpeg:https://regionieuwshoogeveen.nl/wp-content/uploads/2026/01/welkom-online-002.jpg
END:VEVENT
END:VCALENDAR