BEGIN:VCALENDAR
VERSION:2.0
PRODID:-//Regionieuws Hoogeveen - ECPv6.15.18//NONSGML v1.0//EN
CALSCALE:GREGORIAN
METHOD:PUBLISH
X-WR-CALNAME:Regionieuws Hoogeveen
X-ORIGINAL-URL:https://regionieuwshoogeveen.nl
X-WR-CALDESC:Evenementen voor Regionieuws Hoogeveen
REFRESH-INTERVAL;VALUE=DURATION:PT1H
X-Robots-Tag:noindex
X-PUBLISHED-TTL:PT1H
BEGIN:VTIMEZONE
TZID:Europe/Amsterdam
BEGIN:DAYLIGHT
TZOFFSETFROM:+0100
TZOFFSETTO:+0200
TZNAME:CEST
DTSTART:20240331T010000
END:DAYLIGHT
BEGIN:STANDARD
TZOFFSETFROM:+0200
TZOFFSETTO:+0100
TZNAME:CET
DTSTART:20241027T010000
END:STANDARD
BEGIN:DAYLIGHT
TZOFFSETFROM:+0100
TZOFFSETTO:+0200
TZNAME:CEST
DTSTART:20250330T010000
END:DAYLIGHT
BEGIN:STANDARD
TZOFFSETFROM:+0200
TZOFFSETTO:+0100
TZNAME:CET
DTSTART:20251026T010000
END:STANDARD
BEGIN:DAYLIGHT
TZOFFSETFROM:+0100
TZOFFSETTO:+0200
TZNAME:CEST
DTSTART:20260329T010000
END:DAYLIGHT
BEGIN:STANDARD
TZOFFSETFROM:+0200
TZOFFSETTO:+0100
TZNAME:CET
DTSTART:20261025T010000
END:STANDARD
END:VTIMEZONE
BEGIN:VEVENT
DTSTART;TZID=Europe/Amsterdam:20250908T200000
DTEND;TZID=Europe/Amsterdam:20250913T235900
DTSTAMP:20260422T160528
CREATED:20250723T135454Z
LAST-MODIFIED:20250723T135454Z
UID:110483-1757361600-1757807940@regionieuwshoogeveen.nl
SUMMARY:Feestweek Elim de laatste uit de regio\, maar ook meest gezellige
DESCRIPTION:Maandag 8 september\n20:00 Lampion Optocht met muzikale begeleiding\nPlaats: Gosem Engelsstraat\nVertrek: 20:15 uur\n21:30 Spectaculaire vuurwerkshow\nVerzorgd door Metselaar Fireworks\nPlaats: IJsbaan (Perebomenweg)\nEntree: Gratis \nDinsdag 9 september\n15:00 Kermis open\n16:00 Zeskamp voor 9 t/m15 jaar\nTeams dienen 15:45 uur aanwezig te zijn\nPlaats: Sportpark Elim\nDeelname: Gratis\n19:00 Zeskamp voor volwassenen (vanaf 12 jaar)\nTeams dienen 18:45 uur aanwezig te zijn\nPlaats: Sportpark Elim\nDeelname: Gratis\n20:00 Toneelavond TOG\nTreedt op met het stuk: “Beestenbende op de keizerhoeve”\nPlaats: Dorpshuis De Open Deur\nEntree: Gratis \nWoensdag 10 september\n14:30 Kindershow Anders met Sander “Lachen geblazen”\nPlaats: Dorpshuis De Open Deur\nZaal open: 14:00 uur\nEntree: Gratis\n15:00 Kermis Open\n20:00 Super-Bingo met gratis superronde ter waarde van €250\,-\nPlaats: Feesttent aan de Carstenswijk\nTent open: 19:00 uur\nDeelname: 1 Boekje € 10\,- 2 Boekjes € 13\,- 3 Boekjes € 15\,-\nDeelname Donateurs 1 Boekje € 5\,- 2 Boekjes € 8\,- 3 Boekjes € 10\,-\nDonderdag 11 september\n14:00 Borrelmiddag veur Elimieten\nGezellige middag met hapje en een drankje voor alle inwoners van Elim\nOpgave mogelijk t/m 6 september\nPlaats:\nZaal Open:\nDorpshuis De Open Deur\n13:30 uur\nEntree: Gratis \nDonderdag 11 september\n15:00 Kermis open\n16:00 Kinderbingo\nPlaats: Feesttent aan de Carstenswijk\nDeelname: Gratis\n19:00-\n20:30\nKinderdisco\nPlaats: Feesttent aan de Carstenswijk\nDeelname: Gratis\n21:00-\n00:00\nRaldeoos\nPlaats: Feesttent aan de Carstenswijk\nEntree: Gratis \nVrijdag 12 september\n15:00 Kermis open\n19:30 Klaverjassen en Jokeren\nPlaats: Dorpscentrum ‘t Vonder\nDeelname: € 3\,50 Donateurs: Gratis\n21:00 Trekking gratis verloting van de Kermis\n21:00-01:00 Buurman & Buurman Show\nPlaats: Feesttent aan de Carstenswijk\nTent open: 20:30 uur\nEntree: € 17\,50\nDonateur: Gratis op vertoon van geldige ticket \nZaterdag 13 september\n9:00-17:00 Jaarmarkt met meer dan 90 kramen\nPlaats: Centrum Elim\nEntree en parkeren is gratis\n14:00 Bloemencorso\nPlaats: Bezichtiging vanaf 13:00 uur aan de Gosem Engelsstraat\nRoute: Vanaf 14.00 uur door het dorp\nEntree: Gratis\n21:00-01:00 The Eveningstars\nJannes (koning der piraten)\nRene Karst\nPlaats: Feesttent aan de Carstenswijk\nTent open: 20:30 uur\nEntree: € 17\,50\nDonateur: Gratis op vertoon van geldige ticket \nProgrammaboekje-Feestweek-Elim-2025
URL:https://regionieuwshoogeveen.nl/evenement/feestweek-elim-de-laatste-uit-de-regio-maar-ook-meest-gezellige/
ATTACH;FMTTYPE=image/png:https://regionieuwshoogeveen.nl/wp-content/uploads/2025/07/elim.png
END:VEVENT
END:VCALENDAR