BEGIN:VCALENDAR
VERSION:2.0
PRODID:-//Regionieuws Hoogeveen - ECPv6.15.18//NONSGML v1.0//EN
CALSCALE:GREGORIAN
METHOD:PUBLISH
X-WR-CALNAME:Regionieuws Hoogeveen
X-ORIGINAL-URL:https://regionieuwshoogeveen.nl
X-WR-CALDESC:Evenementen voor Regionieuws Hoogeveen
REFRESH-INTERVAL;VALUE=DURATION:PT1H
X-Robots-Tag:noindex
X-PUBLISHED-TTL:PT1H
BEGIN:VTIMEZONE
TZID:Europe/Amsterdam
BEGIN:DAYLIGHT
TZOFFSETFROM:+0100
TZOFFSETTO:+0200
TZNAME:CEST
DTSTART:20250330T010000
END:DAYLIGHT
BEGIN:STANDARD
TZOFFSETFROM:+0200
TZOFFSETTO:+0100
TZNAME:CET
DTSTART:20251026T010000
END:STANDARD
BEGIN:DAYLIGHT
TZOFFSETFROM:+0100
TZOFFSETTO:+0200
TZNAME:CEST
DTSTART:20260329T010000
END:DAYLIGHT
BEGIN:STANDARD
TZOFFSETFROM:+0200
TZOFFSETTO:+0100
TZNAME:CET
DTSTART:20261025T010000
END:STANDARD
BEGIN:DAYLIGHT
TZOFFSETFROM:+0100
TZOFFSETTO:+0200
TZNAME:CEST
DTSTART:20270328T010000
END:DAYLIGHT
BEGIN:STANDARD
TZOFFSETFROM:+0200
TZOFFSETTO:+0100
TZNAME:CET
DTSTART:20271031T010000
END:STANDARD
END:VTIMEZONE
BEGIN:VEVENT
DTSTART;TZID=Europe/Amsterdam:20260418T090000
DTEND;TZID=Europe/Amsterdam:20260418T160000
DTSTAMP:20260422T112019
CREATED:20260414T095604Z
LAST-MODIFIED:20260418T064016Z
UID:118505-1776502800-1776528000@regionieuwshoogeveen.nl
SUMMARY:vandaag Fancy Fair en rommelmarkt in De Magneet voor Jeugd voor Gambia
DESCRIPTION:HOOGEVEEN – Op zaterdag 18 april 2025 wordt in multifunctioneel centrum De Magneet aan de Grote Beer 20 in Hoogeveen een Fancy Fair en rommelmarkt gehouden. Bezoekers zijn welkom van 9.00 tot 16.00 uur. \nDe jaarlijkse Fancy Fair van Jeugd voor Gambia is voor veel mensen inmiddels een bekend begrip. Ook dit jaar staat de dag weer in het teken van gezelligheid\, ontmoeten en het steunen van een goed doel. \nTijdens de fancy fair en rommelmarkt is er van alles te vinden. Bezoekers kunnen op zoek naar leuke en bijzondere spullen\, waaronder boeken\, cd’s\, dvd’s en glaswerk. Ook zijn er versgebakken taarten en andere lekkernijen verkrijgbaar. \nDaarnaast is fotoclub Highlight aanwezig. Bezoekers kunnen daar een fotoshoot laten maken\, met of zonder leuke accessoires zoals grappige hoedjes en brillen. \nDe opbrengst van de dag is bestemd voor het werk van Jeugd voor Gambia. In mei 2024 is een groep volwassenen van de organisatie in Gambia geweest om te helpen bij de renovatie van de kliniek in Jambanjelly. Volgens de organisatie is daar al veel verbeterd\, maar blijft verdere steun hard nodig. \nDoor de inzet van de vrijwilligers zijn niet alleen werkzaamheden uitgevoerd\, maar is er ook extra betrokkenheid ontstaan. Zo investeert ook de overheid van Gambia in de kliniek en werken inwoners van het dorp verder aan de opbouw. Daarmee wordt volgens de organisatie gewerkt aan een duurzame verbetering van de gezondheidszorg in de regio. \nVolgend jaar zullen ongeveer tien jongeren uit Hoogeveen tijdens de meivakantie afreizen naar Gambia\, waar zij gedurende twee weken ondersteuning bieden bij de bouw van een kliniek. \nMet de Fancy Fair en rommelmarkt hoopt Jeugd voor Gambia op een mooie opkomst en een geslaagde dag\, waarmee opnieuw een verschil kan worden gemaakt voor de bewoners van Jambanjelly en omgeving.De foto’s zijn gemaakt door Bert Lammers.
URL:https://regionieuwshoogeveen.nl/evenement/fancy-fair-en-rommelmarkt-in-de-magneet-voor-jeugd-voor-gambia/
ATTACH;FMTTYPE=image/jpeg:https://regionieuwshoogeveen.nl/wp-content/uploads/2026/04/magne.jpg
END:VEVENT
END:VCALENDAR