BEGIN:VCALENDAR
VERSION:2.0
PRODID:-//Regionieuws Hoogeveen - ECPv6.15.18//NONSGML v1.0//EN
CALSCALE:GREGORIAN
METHOD:PUBLISH
X-WR-CALNAME:Regionieuws Hoogeveen
X-ORIGINAL-URL:https://regionieuwshoogeveen.nl
X-WR-CALDESC:Evenementen voor Regionieuws Hoogeveen
REFRESH-INTERVAL;VALUE=DURATION:PT1H
X-Robots-Tag:noindex
X-PUBLISHED-TTL:PT1H
BEGIN:VTIMEZONE
TZID:Europe/Amsterdam
BEGIN:DAYLIGHT
TZOFFSETFROM:+0100
TZOFFSETTO:+0200
TZNAME:CEST
DTSTART:20250330T010000
END:DAYLIGHT
BEGIN:STANDARD
TZOFFSETFROM:+0200
TZOFFSETTO:+0100
TZNAME:CET
DTSTART:20251026T010000
END:STANDARD
BEGIN:DAYLIGHT
TZOFFSETFROM:+0100
TZOFFSETTO:+0200
TZNAME:CEST
DTSTART:20260329T010000
END:DAYLIGHT
BEGIN:STANDARD
TZOFFSETFROM:+0200
TZOFFSETTO:+0100
TZNAME:CET
DTSTART:20261025T010000
END:STANDARD
BEGIN:DAYLIGHT
TZOFFSETFROM:+0100
TZOFFSETTO:+0200
TZNAME:CEST
DTSTART:20270328T010000
END:DAYLIGHT
BEGIN:STANDARD
TZOFFSETFROM:+0200
TZOFFSETTO:+0100
TZNAME:CET
DTSTART:20271031T010000
END:STANDARD
END:VTIMEZONE
BEGIN:VEVENT
DTSTART;TZID=Europe/Amsterdam:20260514T060000
DTEND;TZID=Europe/Amsterdam:20260514T090000
DTSTAMP:20260421T102433
CREATED:20260418T063416Z
LAST-MODIFIED:20260418T063416Z
UID:118622-1778738400-1778749200@regionieuwshoogeveen.nl
SUMMARY:Dauwtrappen in Echten
DESCRIPTION:Vroeg uit de veren op Hemelvaartsdag?\nDauwtrappen is een traditie om heel vroeg in de ochtend een wandeling te maken. Dat kan dit jaar op donderdag 14 mei in Echten\, de start is om 6.00 uur bij ’t Huus met de Belle. \nOnder leiding van een gids hoor je onderweg leuke verhalen en is er een interessante pauze bij een lokale agrarische ondernemer. \nNa de wandeling van ongeveer 10 km staat er in d’ Olde Karke een heerlijk luxe ontbijtbuffet klaar. Samen genieten van een frisse wandeling door de natuur én gezelligheid. \nKosten inclusief ontbijt € 15\,00. \nMaak het mee en meld je snel aan\, want vol=vol! \nOpgave per mail voor maandag 11 mei naar huusmetdebelle@gmail.com \n  \nMeer info op www.huusmetdebelle.eu en www.facebook.com/events/1237060511474723/
URL:https://regionieuwshoogeveen.nl/evenement/dauwtrappen-in-echten-2/
ATTACH;FMTTYPE=image/jpeg:https://regionieuwshoogeveen.nl/wp-content/uploads/2026/04/douwtrap.jpg
END:VEVENT
END:VCALENDAR