BEGIN:VCALENDAR
VERSION:2.0
PRODID:-//Regionieuws Hoogeveen - ECPv6.15.18//NONSGML v1.0//EN
CALSCALE:GREGORIAN
METHOD:PUBLISH
X-WR-CALNAME:Regionieuws Hoogeveen
X-ORIGINAL-URL:https://regionieuwshoogeveen.nl
X-WR-CALDESC:Evenementen voor Regionieuws Hoogeveen
REFRESH-INTERVAL;VALUE=DURATION:PT1H
X-Robots-Tag:noindex
X-PUBLISHED-TTL:PT1H
BEGIN:VTIMEZONE
TZID:Europe/Amsterdam
BEGIN:DAYLIGHT
TZOFFSETFROM:+0100
TZOFFSETTO:+0200
TZNAME:CEST
DTSTART:20240331T010000
END:DAYLIGHT
BEGIN:STANDARD
TZOFFSETFROM:+0200
TZOFFSETTO:+0100
TZNAME:CET
DTSTART:20241027T010000
END:STANDARD
BEGIN:DAYLIGHT
TZOFFSETFROM:+0100
TZOFFSETTO:+0200
TZNAME:CEST
DTSTART:20250330T010000
END:DAYLIGHT
BEGIN:STANDARD
TZOFFSETFROM:+0200
TZOFFSETTO:+0100
TZNAME:CET
DTSTART:20251026T010000
END:STANDARD
BEGIN:DAYLIGHT
TZOFFSETFROM:+0100
TZOFFSETTO:+0200
TZNAME:CEST
DTSTART:20260329T010000
END:DAYLIGHT
BEGIN:STANDARD
TZOFFSETFROM:+0200
TZOFFSETTO:+0100
TZNAME:CET
DTSTART:20261025T010000
END:STANDARD
END:VTIMEZONE
BEGIN:VEVENT
DTSTART;TZID=Europe/Amsterdam:20251031T140000
DTEND;TZID=Europe/Amsterdam:20251031T163000
DTSTAMP:20260422T093619
CREATED:20251016T163945Z
LAST-MODIFIED:20251016T163945Z
UID:113403-1761919200-1761928200@regionieuwshoogeveen.nl
SUMMARY:Boekpresentatie “Waterovergangen in Hoogeveen”
DESCRIPTION:Op vrijdag 31 oktober 2025 wordt in Bibliotheek Hoogeveen het boek Waterovergangen in Hoogeveen gepresenteerd. Het boek\, samengesteld door Hoogevener Jan Pol\, brengt een uniek stuk lokale geschiedenis tot leven: de bruggen en vonders die ooit het straatbeeld van Hoogeveen bepaalden. \nIn de afgelopen honderd jaar heeft Hoogeveen een enorme transformatie doorgemaakt. Waar vroeger talloze bruggen en houten loopbruggen de kanalen overspanden\, verdwenen deze na het dempen van de waterwegen in 1948 en 1972. Wegen en auto’s namen hun plaats in – en daarmee ging een stukje van de identiteit van de stad verloren. \n  \nJan Pol\, inwoner van Hoogeveen sinds 1953\, verdiepte zich jarenlang in archieven en fotocollecties van het Hoogeveens en Drents Archief. Het resultaat is een rijk geïllustreerd boek van 240 pagina’s\, vol historische foto’s\, persoonlijke verhalen en lokale herinneringen. \n  \nProgramma \n  \nTijdens de boekpresentatie wordt het eerste exemplaar officieel overhandigd aan de wethouder. Daarnaast zijn er verschillende onderdelen: \n  \n\nLezing door een expert op het gebied van militaire bruggen;\nVerhalentafel met oud-brugwachters en een oud-officier van de genie\, die herinneringen en anekdotes delen onder leiding van een presentator;\nBoekbestelling aan het einde van de middag.\n\n  \nHet boek Waterovergangen in Hoogeveen is een hardcover-uitgave en kost € 24\,50. \n  \nAanmelden of bestellen \n  \nBelangstellenden kunnen zich aanmelden of het boek bestellen via janpol48@kpnmail.nl. \nLet op: het aantal plaatsen voor de presentatie is beperkt. \n  \nWanneer? Vrijdag 31 oktober\, 14:00 – 16:30 uur. (Inloop vanaf 13.30 uur). \nWaar? Bibliotheek Hoogeveen\, Willemskade 27. \n  \nKijk voor meer informatie op www.bibliotheekhoogeveen.nl
URL:https://regionieuwshoogeveen.nl/evenement/boekpresentatie-waterovergangen-in-hoogeveen/
ATTACH;FMTTYPE=image/jpeg:https://regionieuwshoogeveen.nl/wp-content/uploads/2025/10/waterovergangen-boek-jan-pol.jpg
END:VEVENT
END:VCALENDAR